From mboxrd@z Thu Jan 1 00:00:00 1970 Return-Path: Received: from mails.dpdk.org (mails.dpdk.org [217.70.189.124]) by inbox.dpdk.org (Postfix) with ESMTP id 49F26489D6 for ; Sat, 25 Oct 2025 21:51:34 +0200 (CEST) Received: from mails.dpdk.org (localhost [127.0.0.1]) by mails.dpdk.org (Postfix) with ESMTP id 2DB944003C; Sat, 25 Oct 2025 21:51:34 +0200 (CEST) Received: from mail-pl1-f227.google.com (mail-pl1-f227.google.com [209.85.214.227]) by mails.dpdk.org (Postfix) with ESMTP id 2F9694003C for ; Sat, 25 Oct 2025 21:51:33 +0200 (CEST) Received: by mail-pl1-f227.google.com with SMTP id d9443c01a7336-290deb0e643so32449905ad.2 for ; Sat, 25 Oct 2025 12:51:33 -0700 (PDT) DKIM-Signature: v=1; a=rsa-sha256; c=relaxed/relaxed; d=iol.unh.edu; s=unh-iol; t=1761421892; x=1762026692; darn=dpdk.org; h=references:in-reply-to:cc:to:from:subject:message-id:date:from:to :cc:subject:date:message-id:reply-to; bh=kXWn8Mml9bUwUGfRWCKmFeMe3+Ee0YrPK01zIfZLFPI=; b=XxFtGbt6QlyUtesSLdW77QGSrU2eIyHjUSUsKmwRfk9da/kvrPgM24kl2dsBz6hqUi 4tK2FmlZkWg1y6Gw3Ntv/+gppq7GUi8ly8aExjnwQeczurnUeNhj99SXG14oqxHmhrxC TpytrA7dKHusSimG8LsIGzZ8UElWK3vibHE/E= X-Google-DKIM-Signature: v=1; a=rsa-sha256; c=relaxed/relaxed; d=1e100.net; s=20230601; t=1761421892; x=1762026692; h=references:in-reply-to:cc:to:from:subject:message-id:date :x-gm-message-state:from:to:cc:subject:date:message-id:reply-to; bh=kXWn8Mml9bUwUGfRWCKmFeMe3+Ee0YrPK01zIfZLFPI=; b=DqfvA9df0j/J3ixd46XpAIyzOt7QSJmFKaJxQZDSdcx0KY/EqAXoaGr/JLyxsptGGy FwVUqyBe9pDXzbj/SvGj6GxaEtrfzDeqoGBybRNlEhYXuo+Nj0h0P06j4LCHRFiCrYJG 7BzqcK4uS3rQNgJziSmtmOwDu34MEQJ+kBeJhQxFeweLM/+i8YuEMXm5aduXPp0aJdeI lEazQfrtyABSpRkA0Mh5NvlHmGq0x+vCJqvZY7MkygqqkuyzgPwTmNk+iIBa/0WAh1IA HiNNTyEf7ULupn3b2Win1lsGEYw/P8yZgbhvfcTxgAqwuZk0mJKNOPZv/MQ5Xg0lTX6G zi3w== X-Gm-Message-State: AOJu0YzN9lP+LcSD4oNgD9hyGVea5k6kfw6MBXI3rgaNMqc9pkfrn5vx /0QzxmVifW7LNRhhmU+ZA6A6bdt6OrAbRXIT/00IFVVIfKom3bwrIuTJhk+kgt2Tzlj+vbxO74f L9BS4OROgc8ELgRvWdI//Jl1VbKf+rXU4v+7emedQkU5x X-Gm-Gg: ASbGnctbBVr+FnFh+r42iGz8nMg01/bEZIFu2MjvKAWF2RGKplxBkRyL0Epd2vmtuEV TlHb8M3P2sIwy5yHcQeAC6PkBXPz+R/TnerwURUaFd0sF18d5OXGlBxetMjePN+DwSVrf1Zry6U tiuITHRlxWmSEKLKP2sdUa+IYIFRY6rMloqtrWacDZ7XgyqoNCEYjAtSjdb8cAP1sE+Bu7GzIql 122LdwE/2kYsGHiALwe5olJTm26I0XKSPGBxsdsGN7vNiGad3MdP2Vlb0ltZyTmsGIPr9zxda4K ZpMi1kPc6zCr/7rTs34rFm7QsQmKqnTf0Rij1JmpNLgVTx34wMO517jq9Ccq8wF4JFq2xFbTiVY /W24uh40gy6in7bFWeMldeQ+lk5SO7mo= X-Google-Smtp-Source: AGHT+IHlLbF86DFCCZzdX73T6cM4c4Jw9N4lZ5A2vgqt/HatWv7soJ+Kujj+HH4ytWpUtw913xc/XNPfcH4f X-Received: by 2002:a17:902:dac2:b0:27e:ef27:1e47 with SMTP id d9443c01a7336-2946e0ec36bmr150296795ad.31.1761421892185; Sat, 25 Oct 2025 12:51:32 -0700 (PDT) Received: from postal.iol.unh.edu (postal.iol.unh.edu. [132.177.123.84]) by smtp-relay.gmail.com with ESMTPS id d9443c01a7336-29498cf4b9fsm2593015ad.1.2025.10.25.12.51.32 (version=TLS1_2 cipher=ECDHE-ECDSA-AES128-GCM-SHA256 bits=128/128); Sat, 25 Oct 2025 12:51:32 -0700 (PDT) X-Relaying-Domain: iol.unh.edu Date: Sat, 25 Oct 2025 12:51:32 -0700 (PDT) Message-ID: <68fd2a44.170a0220.18e345.c417SMTPIN_ADDED_MISSING@mx.google.com> Received: from [172.21.0.2] (unknown [172.18.0.240]) by postal.iol.unh.edu (Postfix) with ESMTP id 732F26051830; Sat, 25 Oct 2025 15:51:31 -0400 (EDT) Subject: |WARNING| pw158099 [PATCH] app/compress-perf: fix coverity issue From: dpdklab@iol.unh.edu To: Test Report Cc: dpdk-test-reports@iol.unh.edu, Akhil Goyal In-Reply-To: <20251024191125.1728953-1-svaze@qti.qualcomm.com> References: <20251024191125.1728953-1-svaze@qti.qualcomm.com> Content-Type: text/plain X-BeenThere: test-report@dpdk.org X-Mailman-Version: 2.1.29 Precedence: list List-Id: automatic DPDK test reports List-Unsubscribe: , List-Archive: List-Post: List-Help: List-Subscribe: , Errors-To: test-report-bounces@dpdk.org Test-Label: iol-compile-amd64-testing Test-Status: WARNING http://dpdk.org/patch/158099 _Testing issues_ Submitter: Sameer Vaze Date: Friday, October 24 2025 19:11:25 DPDK git baseline: Repo:dpdk-next-crypto Branch: master CommitID:6edcec237e31fcdb848cca6c151ee7a5bf057c28 158099 --> testing issues Upstream job id: Generic-DPDK-Compile-Meson#437696 Test environment and result as below: +-------------------------------+--------------------+-------------------+-------------------------+----------------------+-------------------+------------------+ | Environment | dpdk_meson_compile | dpdk_msvc_compile | dpdk_llvm_clang_compile | dpdk_mingw64_compile | dpdk_compile_spdk | dpdk_compile_ovs | +===============================+====================+===================+=========================+======================+===================+==================+ | Ubuntu 20.04 | PASS | SKIPPED | SKIPPED | SKIPPED | SKIPPED | SKIPPED | +-------------------------------+--------------------+-------------------+-------------------------+----------------------+-------------------+------------------+ | FreeBSD 14.2 | PASS | SKIPPED | SKIPPED | SKIPPED | SKIPPED | SKIPPED | +-------------------------------+--------------------+-------------------+-------------------------+----------------------+-------------------+------------------+ | CentOS Stream 9 | PASS | SKIPPED | SKIPPED | SKIPPED | WARN | SKIPPED | +-------------------------------+--------------------+-------------------+-------------------------+----------------------+-------------------+------------------+ | CentOS Stream 10 | PASS | SKIPPED | SKIPPED | SKIPPED | SKIPPED | SKIPPED | +-------------------------------+--------------------+-------------------+-------------------------+----------------------+-------------------+------------------+ | Debian GNU/Linux 12 | PASS | SKIPPED | SKIPPED | SKIPPED | WARN | SKIPPED | +-------------------------------+--------------------+-------------------+-------------------------+----------------------+-------------------+------------------+ | Fedora Linux 42 | PASS | SKIPPED | SKIPPED | SKIPPED | WARN | PASS | +-------------------------------+--------------------+-------------------+-------------------------+----------------------+-------------------+------------------+ | openSUSE Leap 15.6 | PASS | SKIPPED | SKIPPED | SKIPPED | SKIPPED | SKIPPED | +-------------------------------+--------------------+-------------------+-------------------------+----------------------+-------------------+------------------+ | Red Hat Enterprise Linux 8.10 | PASS | SKIPPED | SKIPPED | SKIPPED | SKIPPED | SKIPPED | +-------------------------------+--------------------+-------------------+-------------------------+----------------------+-------------------+------------------+ | Red Hat Enterprise Linux 9.5 | PASS | SKIPPED | SKIPPED | SKIPPED | SKIPPED | SKIPPED | +-------------------------------+--------------------+-------------------+-------------------------+----------------------+-------------------+------------------+ | Windows Server 2022 | SKIPPED | PASS | PASS | PASS | SKIPPED | SKIPPED | +-------------------------------+--------------------+-------------------+-------------------------+----------------------+-------------------+------------------+ ==== 20 line log output for Fedora Linux 42 (dpdk_compile_spdk): ==== --- Failed to get log output --- ==== End log output ==== Ubuntu 20.04 Kernel: 4.19 Compiler: gcc gcc (Ubuntu 9.4.0-1ubuntu1~20.04.2) 9.4.0 FreeBSD 14.2 Kernel: 14.2-RELEASE Compiler: clang 18.1.6 CentOS Stream 9 Kernel: 5.15 Compiler: gcc gcc (GCC) 11.5.0 20240719 (Red Hat 11.5.0-11) CentOS Stream 10 Kernel: 5.15 Compiler: gcc gcc (GCC) 14.2.1 20250110 (Red Hat 14.2.1-8) Debian GNU/Linux 12 Kernel: 5.15 Compiler: gcc gcc (Debian 12.2.0-14+deb12u1) 12.2.0 Fedora Linux 42 Kernel: 5.15 Compiler: clang gcc (GCC) 15.2.1 20250808 (Red Hat 15.2.1-1) openSUSE Leap 15.6 Kernel: 5.15 Compiler: gcc gcc (SUSE Linux) 7.5.0 Red Hat Enterprise Linux 8.10 Kernel: 5.15 Compiler: gcc gcc (GCC) 8.5.0 20210514 (Red Hat 8.5.0-22) Red Hat Enterprise Linux 9.5 Kernel: 5.15 Compiler: gcc gcc (GCC) 11.5.0 20240719 (Red Hat 11.5.0-2) Windows Server 2022 Kernel: 10.0.20348.2031 Compiler: clang 15.0.7, gcc 14.1.0 (MinGW), and MSVC VS 19.39.33521 To view detailed results, visit: https://lab.dpdk.org/results/dashboard/patchsets/34380/ UNH-IOL DPDK Community Lab To manage your email subscriptions, visit: https://lab.dpdk.org/results/dashboard/preferences/subscriptions/