From mboxrd@z Thu Jan 1 00:00:00 1970 Return-Path: Received: from mails.dpdk.org (mails.dpdk.org [217.70.189.124]) by inbox.dpdk.org (Postfix) with ESMTP id 44E73489D7 for ; Sat, 25 Oct 2025 22:25:57 +0200 (CEST) Received: from mails.dpdk.org (localhost [127.0.0.1]) by mails.dpdk.org (Postfix) with ESMTP id 223394003C; Sat, 25 Oct 2025 22:25:57 +0200 (CEST) Received: from mail-io1-f100.google.com (mail-io1-f100.google.com [209.85.166.100]) by mails.dpdk.org (Postfix) with ESMTP id 1DD1E4003C for ; Sat, 25 Oct 2025 22:25:56 +0200 (CEST) Received: by mail-io1-f100.google.com with SMTP id ca18e2360f4ac-92b92e4b078so143225039f.0 for ; Sat, 25 Oct 2025 13:25:56 -0700 (PDT) DKIM-Signature: v=1; a=rsa-sha256; c=relaxed/relaxed; d=iol.unh.edu; s=unh-iol; t=1761423955; x=1762028755; darn=dpdk.org; h=references:in-reply-to:cc:to:from:subject:message-id:date:from:to :cc:subject:date:message-id:reply-to; bh=MoLiBMpv30V7yAWVXz6XrGjPxLTkIGTHgSVPvJQqVSI=; b=f8rY5iJGqieCYXj+cnmaWdnbh1hP9XcqYwj8/QOJNyS+0/kzXUTu50FRJ/AFt0b6Fm goGgDHgFGQFVJo3WKIab7JFSMSZWd3UNEPTh72lhSBBSW8kN1p3F7rS0qqUB6Y6cdApA +2XTtVe3+aHLI5B1z0ZX1TnBV8oFJ4oJYuuhs= X-Google-DKIM-Signature: v=1; a=rsa-sha256; c=relaxed/relaxed; d=1e100.net; s=20230601; t=1761423955; x=1762028755; h=references:in-reply-to:cc:to:from:subject:message-id:date :x-gm-message-state:from:to:cc:subject:date:message-id:reply-to; bh=MoLiBMpv30V7yAWVXz6XrGjPxLTkIGTHgSVPvJQqVSI=; b=vJZYReysxaXJMTN4e1j4wIj2BCJIWGGdb0vEOCY6ZRsaU65wfGr447JMIeMNSwT8U5 U4Fds5m0xFD+Pjr2jsB1iPzadcPjy3vtlN2SH68AjhVY6GOVWyYV+1DOpU8qFJNOd8kC X9HTbHLXw0/FK5zk3rn+kXMXlL3u2GmYkBM/Iq8eKRJSULMtTV0S3ZRC7ZsqYzBH9X6U /8k51kUjlvhdl8l56CMH7JBMGRbgah0I0vSaHGTt1Hfg9MkZuycqJgGpMPhPrJNY3Yw6 u1vxpDFUA8ijG9HzcPzWGAtuGuRUMT5vg5slytNomv8qV+FGToEpKRRl3LZbKxu6KwNM ulXQ== X-Gm-Message-State: AOJu0Yz+sGZatzx2AcHuS/8KkEd9irdU4CWr2EmjjSbeXtdp457KKO8l t62dCqkJkf770/dY2A2LWILvVfmBMdk1xggxm88pqT122rxJzPG2gyusSEdD07zmia2DkqT1ej4 CI0pNs0F0eFh6vDSyiqdGKEwD1uAVT8tBHSPKNt1Kp2Q6JkFfeViRygak2FeJ X-Gm-Gg: ASbGncu2NkqZUoPEAHAIgl1vbY/4ra+3PAuV6zl/ZSu9HOLPrxJP5JF4lBQx+m+N+0k JH5F8VRx1g+j4O4SEh5pbDE2+Z1lbTrqfls/m1jvE644vvWh11CfqFk++JE4buBXa8zM7utRfWB SgVyqWSo8B4+mC+1ADhNpCSKmXSWh80RtQcoFe+LsXo5mYvX9IPwZPVb0yuKG/Q6xRicHrUO6Te m5K9/DSpaRBk0mVmqYA/1FIiVq6YVvNsg9RmT6YxTxd28fM7/4kuARqGQfGCxJJF2lyxsYkA0UV dpYC/RK5CgOyXY9bgM4dw+B24wysSE1k11b/WyYVxdFDy1iuq6g0CmxJyBrjKIX1swBW8YWINRJ q3R4rNRCw X-Google-Smtp-Source: AGHT+IE/K3Wfn4GMP6nfA8hUMZpYYZyUW+GM9GGx8vtWDthUZH0bbiLacAfvJDIcSFIqJmUW+qN3M4i162mb X-Received: by 2002:a05:6e02:156c:b0:430:b994:3bd1 with SMTP id e9e14a558f8ab-430c52460ecmr477285425ab.1.1761423955406; Sat, 25 Oct 2025 13:25:55 -0700 (PDT) Received: from postal.iol.unh.edu (postal.iol.unh.edu. [2606:4100:3880:1234::84]) by smtp-relay.gmail.com with ESMTPS id e9e14a558f8ab-431f689a695sm2596085ab.29.2025.10.25.13.25.55 (version=TLS1_2 cipher=ECDHE-ECDSA-AES128-GCM-SHA256 bits=128/128); Sat, 25 Oct 2025 13:25:55 -0700 (PDT) X-Relaying-Domain: iol.unh.edu Date: Sat, 25 Oct 2025 13:25:55 -0700 (PDT) Message-ID: <68fd3253.920a0220.39c7be.c4edSMTPIN_ADDED_MISSING@mx.google.com> Received: from [172.21.0.2] (unknown [172.18.0.240]) by postal.iol.unh.edu (Postfix) with ESMTP id 0A7C06051830; Sat, 25 Oct 2025 16:25:55 -0400 (EDT) Subject: |WARNING| pw158099 [PATCH] app/compress-perf: fix coverity issue From: dpdklab@iol.unh.edu To: Test Report Cc: dpdk-test-reports@iol.unh.edu, Akhil Goyal In-Reply-To: <20251024191125.1728953-1-svaze@qti.qualcomm.com> References: <20251024191125.1728953-1-svaze@qti.qualcomm.com> Content-Type: text/plain X-BeenThere: test-report@dpdk.org X-Mailman-Version: 2.1.29 Precedence: list List-Id: automatic DPDK test reports List-Unsubscribe: , List-Archive: List-Post: List-Help: List-Subscribe: , Errors-To: test-report-bounces@dpdk.org Test-Label: iol-compile-amd64-testing Test-Status: WARNING http://dpdk.org/patch/158099 _Testing issues_ Submitter: Sameer Vaze Date: Friday, October 24 2025 19:11:25 DPDK git baseline: Repo:dpdk-next-crypto Branch: master CommitID:6edcec237e31fcdb848cca6c151ee7a5bf057c28 158099 --> testing issues Upstream job id: Generic-DPDK-Compile-Meson#437706 Test environment and result as below: +-------------------------------+--------------------+-------------------+-------------------------+----------------------+-------------------+------------------+ | Environment | dpdk_meson_compile | dpdk_msvc_compile | dpdk_llvm_clang_compile | dpdk_mingw64_compile | dpdk_compile_spdk | dpdk_compile_ovs | +===============================+====================+===================+=========================+======================+===================+==================+ | Ubuntu 20.04 | PASS | SKIPPED | SKIPPED | SKIPPED | SKIPPED | SKIPPED | +-------------------------------+--------------------+-------------------+-------------------------+----------------------+-------------------+------------------+ | FreeBSD 14.2 | PASS | SKIPPED | SKIPPED | SKIPPED | SKIPPED | SKIPPED | +-------------------------------+--------------------+-------------------+-------------------------+----------------------+-------------------+------------------+ | CentOS Stream 9 | PASS | SKIPPED | SKIPPED | SKIPPED | WARN | SKIPPED | +-------------------------------+--------------------+-------------------+-------------------------+----------------------+-------------------+------------------+ | CentOS Stream 10 | PASS | SKIPPED | SKIPPED | SKIPPED | SKIPPED | SKIPPED | +-------------------------------+--------------------+-------------------+-------------------------+----------------------+-------------------+------------------+ | Debian GNU/Linux 12 | PASS | SKIPPED | SKIPPED | SKIPPED | WARN | SKIPPED | +-------------------------------+--------------------+-------------------+-------------------------+----------------------+-------------------+------------------+ | Fedora Linux 42 | PASS | SKIPPED | SKIPPED | SKIPPED | WARN | PASS | +-------------------------------+--------------------+-------------------+-------------------------+----------------------+-------------------+------------------+ | openSUSE Leap 15.6 | PASS | SKIPPED | SKIPPED | SKIPPED | SKIPPED | SKIPPED | +-------------------------------+--------------------+-------------------+-------------------------+----------------------+-------------------+------------------+ | Red Hat Enterprise Linux 8.10 | PASS | SKIPPED | SKIPPED | SKIPPED | SKIPPED | SKIPPED | +-------------------------------+--------------------+-------------------+-------------------------+----------------------+-------------------+------------------+ | Red Hat Enterprise Linux 9.5 | PASS | SKIPPED | SKIPPED | SKIPPED | SKIPPED | SKIPPED | +-------------------------------+--------------------+-------------------+-------------------------+----------------------+-------------------+------------------+ | Windows Server 2022 | SKIPPED | PASS | PASS | PASS | SKIPPED | SKIPPED | +-------------------------------+--------------------+-------------------+-------------------------+----------------------+-------------------+------------------+ ==== 20 line log output for Fedora Linux 42 (dpdk_compile_spdk): ==== --- Failed to get log output --- ==== End log output ==== Ubuntu 20.04 Kernel: 4.19 Compiler: gcc gcc (Ubuntu 9.4.0-1ubuntu1~20.04.2) 9.4.0 FreeBSD 14.2 Kernel: 14.2-RELEASE Compiler: clang 18.1.6 CentOS Stream 9 Kernel: 5.15 Compiler: gcc gcc (GCC) 11.5.0 20240719 (Red Hat 11.5.0-11) CentOS Stream 10 Kernel: 5.15 Compiler: gcc gcc (GCC) 14.2.1 20250110 (Red Hat 14.2.1-8) Debian GNU/Linux 12 Kernel: 5.15 Compiler: gcc gcc (Debian 12.2.0-14+deb12u1) 12.2.0 Fedora Linux 42 Kernel: 5.15 Compiler: clang gcc (GCC) 15.2.1 20250808 (Red Hat 15.2.1-1) openSUSE Leap 15.6 Kernel: 5.15 Compiler: gcc gcc (SUSE Linux) 7.5.0 Red Hat Enterprise Linux 8.10 Kernel: 5.15 Compiler: gcc gcc (GCC) 8.5.0 20210514 (Red Hat 8.5.0-22) Red Hat Enterprise Linux 9.5 Kernel: 5.15 Compiler: gcc gcc (GCC) 11.5.0 20240719 (Red Hat 11.5.0-2) Windows Server 2022 Kernel: 10.0.20348.2031 Compiler: clang 15.0.7, gcc 14.1.0 (MinGW), and MSVC VS 19.39.33521 To view detailed results, visit: https://lab.dpdk.org/results/dashboard/patchsets/34380/ UNH-IOL DPDK Community Lab To manage your email subscriptions, visit: https://lab.dpdk.org/results/dashboard/preferences/subscriptions/