From mboxrd@z Thu Jan 1 00:00:00 1970 Return-Path: Received: from mails.dpdk.org (mails.dpdk.org [217.70.189.124]) by inbox.dpdk.org (Postfix) with ESMTP id 4EE89489D7 for ; Sat, 25 Oct 2025 22:49:38 +0200 (CEST) Received: from mails.dpdk.org (localhost [127.0.0.1]) by mails.dpdk.org (Postfix) with ESMTP id 2E6FD4003C; Sat, 25 Oct 2025 22:49:38 +0200 (CEST) Received: from mail-qk1-f225.google.com (mail-qk1-f225.google.com [209.85.222.225]) by mails.dpdk.org (Postfix) with ESMTP id 1EB864003C for ; Sat, 25 Oct 2025 22:49:37 +0200 (CEST) Received: by mail-qk1-f225.google.com with SMTP id af79cd13be357-89c81839de7so172018785a.1 for ; Sat, 25 Oct 2025 13:49:37 -0700 (PDT) DKIM-Signature: v=1; a=rsa-sha256; c=relaxed/relaxed; d=iol.unh.edu; s=unh-iol; t=1761425376; x=1762030176; darn=dpdk.org; h=references:in-reply-to:cc:to:from:subject:message-id:date:from:to :cc:subject:date:message-id:reply-to; bh=ZGysKCzzxyQGZrgPKiretkMRLTrVxKrrFqScQCo+nmc=; b=KUGF4QNWIln+WNA73m686wphZSk2Ul0d07n4w+/Q2+bx+fcMHd8kwMO7ShpvASWdjd qGsmsD3lkKavI6uG8RYyQEHROAlV3Bv6RFR9E8nNeg/g6Vdkr3BpaLay6pE9/j28aHkM ex8fsMeJvnCQK5UwuVcq4iCprbtUbqFm4SPx8= X-Google-DKIM-Signature: v=1; a=rsa-sha256; c=relaxed/relaxed; d=1e100.net; s=20230601; t=1761425376; x=1762030176; h=references:in-reply-to:cc:to:from:subject:message-id:date :x-gm-message-state:from:to:cc:subject:date:message-id:reply-to; bh=ZGysKCzzxyQGZrgPKiretkMRLTrVxKrrFqScQCo+nmc=; b=FOj/P9NTCDfbmyoeAu1YdMaWwJ72tzs9JyXLeada+uZsE0tpub/8HIxLQgBrV281go Oub/PCevoXdz8cvc6QQrDQ7DewbNr01ir87PwUTi8Q0Y9VTZBS06YpwSC0g7f67txfDi g1Y6IOIQqXoA6J5T8b6spOInxVRzkTqAc0Qziq3nWCG3bjYvXLh9pa4wVS0RnLq+Aot7 K8H1O9jnUmZxBUfCIGDHSCTolHrxYpfU98V4KGEMY9QvlmG5TR0rJ0nx0UopZzJsSzjI hM8/eB59AJR4iwWGPsxv8M5KNwolM/+4MjtEmFOnI8lRZ5ZR1HL20sMN3zsc6LessTap /KfQ== X-Gm-Message-State: AOJu0YxmgkH3vNMDEjulfraTf79it3YQ/c9r6kCpz53XyhAoiQ3yYXrh 8o2U8I5FWZg2s4/f/AmtbzEl8ICJOwu1MVarbKCkezpZF5vLfHyvCGpQoEvx7EVPtyQUEbwiFFC 4f6Rbi9RWjfids/RGvWNzoaugnj2di1RvRlTK2P3Azb8M+r0lEaR25DatSsc0 X-Gm-Gg: ASbGncvpN5jqa7ggABhs4zPs9FUcM1ZVc1wdcCssJj9xwLWQtRdgUfKIOewHLqN+/Yj AyuSutuboXtiXRTI1ngI3kaKvcnVjFpL33wDJy7LRF0B0SF843qOmMYehCO8jy8UslzLVc6M4/w Tq9Jp9Z633zRaaY6I7DRPkXGqnVY+YPSk4b7+F14sw2kViz0kx7Kx76Rofc4hJHDDh2fkJflOmm wucv29FbI34uA8o3Wt61OBcAiHxANRTYrOY8SPsuw2kQPg3QP2sMDDGyDxih8F/YxLItAuN/fAm RVEmMmM53f8iJAIqoiZmSDFGIKrHOgAA0uWiMpJgAyeaa8plOzbR29iC2ru9GAHT3b/SvYRTNyn pyTYU3Qsw X-Google-Smtp-Source: AGHT+IG1QXHGcfEBQ4evX8S7TISGvjJNsgKP7gawUryHof692tYUuM/zx2NH5yU3UalFu9wPNuWJ27WDi4E1 X-Received: by 2002:a05:6214:2485:b0:87b:b679:b574 with SMTP id 6a1803df08f44-87c2054b9a0mr449566206d6.12.1761425376457; Sat, 25 Oct 2025 13:49:36 -0700 (PDT) Received: from postal.iol.unh.edu (postal.iol.unh.edu. [2606:4100:3880:1234::84]) by smtp-relay.gmail.com with ESMTPS id 6a1803df08f44-87fc49c390fsm2842356d6.33.2025.10.25.13.49.36 (version=TLS1_2 cipher=ECDHE-ECDSA-AES128-GCM-SHA256 bits=128/128); Sat, 25 Oct 2025 13:49:36 -0700 (PDT) X-Relaying-Domain: iol.unh.edu Date: Sat, 25 Oct 2025 13:49:36 -0700 (PDT) Message-ID: <68fd37e0.050a0220.300a38.d9c8SMTPIN_ADDED_MISSING@mx.google.com> Received: from [172.21.0.2] (unknown [172.18.0.240]) by postal.iol.unh.edu (Postfix) with ESMTP id 3C0656051830; Sat, 25 Oct 2025 16:49:36 -0400 (EDT) Subject: |WARNING| pw158099 [PATCH] app/compress-perf: fix coverity issue From: dpdklab@iol.unh.edu To: Test Report Cc: dpdk-test-reports@iol.unh.edu, Akhil Goyal In-Reply-To: <20251024191125.1728953-1-svaze@qti.qualcomm.com> References: <20251024191125.1728953-1-svaze@qti.qualcomm.com> Content-Type: text/plain X-BeenThere: test-report@dpdk.org X-Mailman-Version: 2.1.29 Precedence: list List-Id: automatic DPDK test reports List-Unsubscribe: , List-Archive: List-Post: List-Help: List-Subscribe: , Errors-To: test-report-bounces@dpdk.org Test-Label: iol-compile-amd64-testing Test-Status: WARNING http://dpdk.org/patch/158099 _Testing issues_ Submitter: Sameer Vaze Date: Friday, October 24 2025 19:11:25 DPDK git baseline: Repo:dpdk-next-crypto Branch: master CommitID:6edcec237e31fcdb848cca6c151ee7a5bf057c28 158099 --> testing issues Upstream job id: Generic-DPDK-Compile-Meson#437710 Test environment and result as below: +-------------------------------+--------------------+-------------------+-------------------------+----------------------+-------------------+------------------+ | Environment | dpdk_meson_compile | dpdk_msvc_compile | dpdk_llvm_clang_compile | dpdk_mingw64_compile | dpdk_compile_spdk | dpdk_compile_ovs | +===============================+====================+===================+=========================+======================+===================+==================+ | Ubuntu 20.04 | PASS | SKIPPED | SKIPPED | SKIPPED | SKIPPED | SKIPPED | +-------------------------------+--------------------+-------------------+-------------------------+----------------------+-------------------+------------------+ | FreeBSD 14.2 | PASS | SKIPPED | SKIPPED | SKIPPED | SKIPPED | SKIPPED | +-------------------------------+--------------------+-------------------+-------------------------+----------------------+-------------------+------------------+ | CentOS Stream 9 | PASS | SKIPPED | SKIPPED | SKIPPED | WARN | SKIPPED | +-------------------------------+--------------------+-------------------+-------------------------+----------------------+-------------------+------------------+ | CentOS Stream 10 | PASS | SKIPPED | SKIPPED | SKIPPED | SKIPPED | SKIPPED | +-------------------------------+--------------------+-------------------+-------------------------+----------------------+-------------------+------------------+ | Debian GNU/Linux 12 | PASS | SKIPPED | SKIPPED | SKIPPED | WARN | SKIPPED | +-------------------------------+--------------------+-------------------+-------------------------+----------------------+-------------------+------------------+ | Fedora Linux 42 | PASS | SKIPPED | SKIPPED | SKIPPED | WARN | PASS | +-------------------------------+--------------------+-------------------+-------------------------+----------------------+-------------------+------------------+ | openSUSE Leap 15.6 | PASS | SKIPPED | SKIPPED | SKIPPED | SKIPPED | SKIPPED | +-------------------------------+--------------------+-------------------+-------------------------+----------------------+-------------------+------------------+ | Red Hat Enterprise Linux 8.10 | PASS | SKIPPED | SKIPPED | SKIPPED | SKIPPED | SKIPPED | +-------------------------------+--------------------+-------------------+-------------------------+----------------------+-------------------+------------------+ | Red Hat Enterprise Linux 9.5 | PASS | SKIPPED | SKIPPED | SKIPPED | SKIPPED | SKIPPED | +-------------------------------+--------------------+-------------------+-------------------------+----------------------+-------------------+------------------+ | Ubuntu 22.04 | PASS | SKIPPED | SKIPPED | SKIPPED | WARN | SKIPPED | +-------------------------------+--------------------+-------------------+-------------------------+----------------------+-------------------+------------------+ | Ubuntu 24.04 | PASS | SKIPPED | SKIPPED | SKIPPED | WARN | PASS | +-------------------------------+--------------------+-------------------+-------------------------+----------------------+-------------------+------------------+ | Windows Server 2022 | SKIPPED | PASS | PASS | PASS | SKIPPED | SKIPPED | +-------------------------------+--------------------+-------------------+-------------------------+----------------------+-------------------+------------------+ ==== 20 line log output for Ubuntu 24.04 (dpdk_compile_spdk): ==== --- Failed to get log output --- ==== End log output ==== Ubuntu 20.04 Kernel: 4.19 Compiler: gcc gcc (Ubuntu 9.4.0-1ubuntu1~20.04.2) 9.4.0 FreeBSD 14.2 Kernel: 14.2-RELEASE Compiler: clang 18.1.6 CentOS Stream 9 Kernel: 5.15 Compiler: gcc gcc (GCC) 11.5.0 20240719 (Red Hat 11.5.0-11) CentOS Stream 10 Kernel: 5.15 Compiler: gcc gcc (GCC) 14.2.1 20250110 (Red Hat 14.2.1-8) Debian GNU/Linux 12 Kernel: 5.15 Compiler: gcc gcc (Debian 12.2.0-14+deb12u1) 12.2.0 Fedora Linux 42 Kernel: 5.15 Compiler: clang gcc (GCC) 15.2.1 20250808 (Red Hat 15.2.1-1) openSUSE Leap 15.6 Kernel: 5.15 Compiler: gcc gcc (SUSE Linux) 7.5.0 Red Hat Enterprise Linux 8.10 Kernel: 5.15 Compiler: gcc gcc (GCC) 8.5.0 20210514 (Red Hat 8.5.0-22) Red Hat Enterprise Linux 9.5 Kernel: 5.15 Compiler: gcc gcc (GCC) 11.5.0 20240719 (Red Hat 11.5.0-2) Ubuntu 22.04 Kernel: 5.15 Compiler: gcc gcc (Ubuntu 11.4.0-1ubuntu1~22.04) 11.4.0 Ubuntu 24.04 Kernel: 5.15 Compiler: gcc gcc (Ubuntu 13.3.0-6ubuntu2~24.04) 13.3.0 Windows Server 2022 Kernel: 10.0.20348.2031 Compiler: clang 15.0.7, gcc 14.1.0 (MinGW), and MSVC VS 19.39.33521 To view detailed results, visit: https://lab.dpdk.org/results/dashboard/patchsets/34380/ UNH-IOL DPDK Community Lab To manage your email subscriptions, visit: https://lab.dpdk.org/results/dashboard/preferences/subscriptions/