From mboxrd@z Thu Jan 1 00:00:00 1970 Return-Path: Received: from mails.dpdk.org (mails.dpdk.org [217.70.189.124]) by inbox.dpdk.org (Postfix) with ESMTP id 6C31C489D7 for ; Sat, 25 Oct 2025 23:02:50 +0200 (CEST) Received: from mails.dpdk.org (localhost [127.0.0.1]) by mails.dpdk.org (Postfix) with ESMTP id 67AFF4003C; Sat, 25 Oct 2025 23:02:50 +0200 (CEST) Received: from mail-io1-f100.google.com (mail-io1-f100.google.com [209.85.166.100]) by mails.dpdk.org (Postfix) with ESMTP id CE0F64003C for ; Sat, 25 Oct 2025 23:02:48 +0200 (CEST) Received: by mail-io1-f100.google.com with SMTP id ca18e2360f4ac-92c781fd73aso331718539f.1 for ; Sat, 25 Oct 2025 14:02:48 -0700 (PDT) DKIM-Signature: v=1; a=rsa-sha256; c=relaxed/relaxed; d=iol.unh.edu; s=unh-iol; t=1761426168; x=1762030968; darn=dpdk.org; h=references:in-reply-to:cc:to:from:subject:message-id:date:from:to :cc:subject:date:message-id:reply-to; bh=5HsDU32i2LoRTz2N+jsDfs/83XjDJ1hwAjG28NejFMk=; b=OgPYMpSOwJBHelVZ/RuqjSStX0V9ya00eJ9G9Q02fHkYRXkjoJu9LDjh2tHiZomUZg 8I6QfbmnkgBYJ8vNEBSW1+2gQQa7Lehw3Owa8uR/VNvZrWPv5XHa1ijkS/3lthjfPiWx BGoPWCIxzOxRIUuzbaV3i8aSQYbYYygUbmt+c= X-Google-DKIM-Signature: v=1; a=rsa-sha256; c=relaxed/relaxed; d=1e100.net; s=20230601; t=1761426168; x=1762030968; h=references:in-reply-to:cc:to:from:subject:message-id:date :x-gm-message-state:from:to:cc:subject:date:message-id:reply-to; bh=5HsDU32i2LoRTz2N+jsDfs/83XjDJ1hwAjG28NejFMk=; b=aEmkDkqEnDJmGIPKG5Z3YKNSEntZ4jLfVCcij3EOBOWBO8FYGsU8BZwDj4uRj0F5Je sctSjWwZfiUsDg21n3P01AigfPLs8YmmATguLYJWoi1V2kMjdH4oK6yqaxEPYZUoLXqg LCmcIJS1datdQW7X9ceaj1+HDqWMY/BZ3QN+Q93rcFKDZfW+CUmly1680Mt6gOtcBcAG vgIr1Abz3QmSwrw1Qz2HipiNPawaFa2asHh3+O2o7INO3NqkE4TXJpUMoL1+RY1DVkKX dvzN2qEgZ2AaLry8/cFJr+wjBr3c5r5OWYJDOzd2kG/u0dwKx1SXHeM47T+wK+Xrs2tx aO+A== X-Gm-Message-State: AOJu0Yy+oKQoVMhshmyuWUUKGn2w/UmVhRw2GRUqtmCusQH4WKu4QYe2 dr4v//1wCahosEj8Ihrv6KWyjLcI1hdGFQUUXt1wKuLSP7tVjy10shuEihbaNaXdJchYAmHP1l9 Nnk7kqurzwYkxrF+8Lhndu0Sp5lu9o4Bx5qtk8FIF8BdLwuE5d7a/Xs3iGek0 X-Gm-Gg: ASbGncsN+rPPD5Y7Nc9a5V4rRoLQVsNgHB4aXmPGlkCHaa3d4PSdc9Hju+A4OYS9cZH eu3sQGqELkFHZ5QvYjb6ZXTLMqYtHVGYAtY2fivrNP17Gct7Prr/ufyT5A66iAbKifK5Bn4YS3A a8ixRqHNPWpY/o0cwxMoA/zmKWyV3nemL1BLudEITR8ZuolORla6pGD4q76MrbkesyM0m27RpcN EkNxzYpGE0CXMt9G/cgnZv52z+mx1bo5RekV71VHyYUbAjkFHZgQuZ4k0/V+4//ZME6EM8tvKua ZSrXeYpJqtGqhiKuovJjqhJZO3RJ9ztX0l6TDDSDIlwW0hGDKf5xaiDuHqffvOIw4EwTO7T8EuQ nBFjHolty X-Google-Smtp-Source: AGHT+IFq5uVjanRMMclqfe0VlrFJyhYJxXq5flLG64F8ohFr6CEnMUX43KU1Dos0csXnujB3Vlc3vixk5Lx6 X-Received: by 2002:a05:6602:2c8a:b0:940:dddb:701c with SMTP id ca18e2360f4ac-940dddb84e9mr3139825239f.10.1761426168110; Sat, 25 Oct 2025 14:02:48 -0700 (PDT) Received: from postal.iol.unh.edu (postal.iol.unh.edu. [2606:4100:3880:1234::84]) by smtp-relay.gmail.com with ESMTPS id 8926c6da1cb9f-5aea9e35bcfsm232910173.34.2025.10.25.14.02.48 (version=TLS1_2 cipher=ECDHE-ECDSA-AES128-GCM-SHA256 bits=128/128); Sat, 25 Oct 2025 14:02:48 -0700 (PDT) X-Relaying-Domain: iol.unh.edu Date: Sat, 25 Oct 2025 14:02:48 -0700 (PDT) Message-ID: <68fd3af8.050a0220.183575.b0d3SMTPIN_ADDED_MISSING@mx.google.com> Received: from [172.21.0.2] (unknown [172.18.0.240]) by postal.iol.unh.edu (Postfix) with ESMTP id AC94B6051830; Sat, 25 Oct 2025 17:02:47 -0400 (EDT) Subject: |WARNING| pw158098 [PATCH] compressdev: fix coverity issue From: dpdklab@iol.unh.edu To: Test Report Cc: dpdk-test-reports@iol.unh.edu, Akhil Goyal In-Reply-To: <20251024191108.1728811-1-svaze@qti.qualcomm.com> References: <20251024191108.1728811-1-svaze@qti.qualcomm.com> Content-Type: text/plain X-BeenThere: test-report@dpdk.org X-Mailman-Version: 2.1.29 Precedence: list List-Id: automatic DPDK test reports List-Unsubscribe: , List-Archive: List-Post: List-Help: List-Subscribe: , Errors-To: test-report-bounces@dpdk.org Test-Label: iol-compile-amd64-testing Test-Status: WARNING http://dpdk.org/patch/158098 _Testing issues_ Submitter: Sameer Vaze Date: Friday, October 24 2025 19:11:08 DPDK git baseline: Repo:dpdk-next-crypto Branch: master CommitID:6edcec237e31fcdb848cca6c151ee7a5bf057c28 158098 --> testing issues Upstream job id: Generic-DPDK-Compile-Meson#437720 Test environment and result as below: +---------------------+--------------------+-------------------+-------------------------+----------------------+-------------------+------------------+ | Environment | dpdk_meson_compile | dpdk_msvc_compile | dpdk_llvm_clang_compile | dpdk_mingw64_compile | dpdk_compile_spdk | dpdk_compile_ovs | +=====================+====================+===================+=========================+======================+===================+==================+ | Ubuntu 20.04 | PASS | SKIPPED | SKIPPED | SKIPPED | SKIPPED | SKIPPED | +---------------------+--------------------+-------------------+-------------------------+----------------------+-------------------+------------------+ | FreeBSD 14.2 | PASS | SKIPPED | SKIPPED | SKIPPED | SKIPPED | SKIPPED | +---------------------+--------------------+-------------------+-------------------------+----------------------+-------------------+------------------+ | CentOS Stream 9 | PEND | SKIPPED | SKIPPED | SKIPPED | PEND | SKIPPED | +---------------------+--------------------+-------------------+-------------------------+----------------------+-------------------+------------------+ | CentOS Stream 10 | PASS | SKIPPED | SKIPPED | SKIPPED | SKIPPED | SKIPPED | +---------------------+--------------------+-------------------+-------------------------+----------------------+-------------------+------------------+ | Debian GNU/Linux 12 | PASS | SKIPPED | SKIPPED | SKIPPED | WARN | SKIPPED | +---------------------+--------------------+-------------------+-------------------------+----------------------+-------------------+------------------+ | Fedora Linux 42 | PEND | SKIPPED | SKIPPED | SKIPPED | PEND | PEND | +---------------------+--------------------+-------------------+-------------------------+----------------------+-------------------+------------------+ | Windows Server 2022 | SKIPPED | PASS | PASS | PASS | SKIPPED | SKIPPED | +---------------------+--------------------+-------------------+-------------------------+----------------------+-------------------+------------------+ ==== 20 line log output for Debian GNU/Linux 12 (dpdk_compile_spdk): ==== --- Failed to get log output --- ==== End log output ==== Ubuntu 20.04 Kernel: 4.19 Compiler: gcc gcc (Ubuntu 9.4.0-1ubuntu1~20.04.2) 9.4.0 FreeBSD 14.2 Kernel: 14.2-RELEASE Compiler: clang 18.1.6 CentOS Stream 9 Kernel: 5.15 Compiler: gcc gcc (GCC) 11.5.0 20240719 (Red Hat 11.5.0-11) CentOS Stream 10 Kernel: 5.15 Compiler: gcc gcc (GCC) 14.2.1 20250110 (Red Hat 14.2.1-8) Debian GNU/Linux 12 Kernel: 5.15 Compiler: gcc gcc (Debian 12.2.0-14+deb12u1) 12.2.0 Fedora Linux 42 Kernel: 5.15 Compiler: clang gcc (GCC) 15.2.1 20250808 (Red Hat 15.2.1-1) Windows Server 2022 Kernel: 10.0.20348.2031 Compiler: clang 15.0.7, gcc 14.1.0 (MinGW), and MSVC VS 19.39.33521 To view detailed results, visit: https://lab.dpdk.org/results/dashboard/patchsets/34381/ UNH-IOL DPDK Community Lab To manage your email subscriptions, visit: https://lab.dpdk.org/results/dashboard/preferences/subscriptions/