From mboxrd@z Thu Jan 1 00:00:00 1970 Return-Path: Received: from mails.dpdk.org (mails.dpdk.org [217.70.189.124]) by inbox.dpdk.org (Postfix) with ESMTP id 0E016489D7 for ; Sat, 25 Oct 2025 23:08:12 +0200 (CEST) Received: from mails.dpdk.org (localhost [127.0.0.1]) by mails.dpdk.org (Postfix) with ESMTP id D89254003C; Sat, 25 Oct 2025 23:08:11 +0200 (CEST) Received: from mail-io1-f100.google.com (mail-io1-f100.google.com [209.85.166.100]) by mails.dpdk.org (Postfix) with ESMTP id 38B534003C for ; Sat, 25 Oct 2025 23:08:10 +0200 (CEST) Received: by mail-io1-f100.google.com with SMTP id ca18e2360f4ac-940d2b701a3so341985239f.0 for ; Sat, 25 Oct 2025 14:08:10 -0700 (PDT) DKIM-Signature: v=1; a=rsa-sha256; c=relaxed/relaxed; d=iol.unh.edu; s=unh-iol; t=1761426489; x=1762031289; darn=dpdk.org; h=cc:to:from:subject:message-id:date:from:to:cc:subject:date :message-id:reply-to; bh=KbWPnj+tmY02O5cK5GsENGPpGdsy6CVLEAVYKLVICms=; b=TkO3pfeI7z7fnSrkQ0uHCRxzX0dIhMI7CIC4XIwQeARQ0bI99nPV/5xWrdq6FnGKlL tB90yzOkQY9WAstNNiemLem72IPaSynB12Q7jk1vYhdL3Va9yZEhK/v+RZ4u18wvR8FH 5H6WAk/P+gWm7ACGJcyhfHBlYh2CLxLjLjpmY= X-Google-DKIM-Signature: v=1; a=rsa-sha256; c=relaxed/relaxed; d=1e100.net; s=20230601; t=1761426489; x=1762031289; h=cc:to:from:subject:message-id:date:x-gm-message-state:from:to:cc :subject:date:message-id:reply-to; bh=KbWPnj+tmY02O5cK5GsENGPpGdsy6CVLEAVYKLVICms=; b=woswql6h0eZbxDs8/YioSYyvpqbRe+E/jY52OL3oJ0Zu3A1/CAbE1kbvFrtF4tw5yc ftOwqKKKEUeRa0zNz3Z9WhhI8uWEGNTWLcZr/xOCW7Tq8LIYMZqWxT8/u0ROwFVf1HGj yiCwdIIscxYVFrUeES23j57Yl6wyKPw936LnjWMpxouorYScxGhtyb1ZPUSPkL57rJdy b06SCEFrO3oeP8Pk3hyWFtfuHYWyY1rtc77PUCDpUt2y0rXQao6Lv9bHqNegpFmM0ZS5 zy7diXk33W3jSNHADe+Np+XEMgGVytl/AiWsuMvefnGjxKYMITTTSY7vMqjYFMF2djRR wTng== X-Gm-Message-State: AOJu0Yy3bTRElEx9LA4sfIama7FK4cUYwFcBBxOERxU1exUKo5DZiOlQ 7UUyoIZRSIZA0aW49Ru7RCaSHkTDz0dmcnreUVc5g9Glxum+/rj12OXNyPa92LiC/lKDqU/h3SM tT+1lc07x2vn1CiMs58CidH3MBkrCOB5yNrCL X-Gm-Gg: ASbGncvqgPc15Xz+SFqQjh0EOAuUoFnnBEo5hJYypbtH7Vl1K1OyfM1UTWw3w9U5KrT 4LkMrqUxBLcf+pCrXDmYN2DsPMCyZu96aANOPkDpnq+pfqYzoi+Mrx5a+2AdShVq18eDxf6Rgmk QDo2Eptwv5sZWBgML4QF+ClpVIjgeZxKe2wD2O1fvzH0Om4CC1mBHW7vl9u32029q+DVu1FjwhZ R/wkerQxotqDJloI9kmYf6QO8MxH+LImnuktVAS2/gGwvX3ZYGVYPA3YAwbd1RFVbYTOfb62KTX zamgnp9/QPJKKS3eiEu/ZQsWk3Y5MS2udE/miEKHWZAgkV21GtjacAEwyxVuzHFigd6u4KKdVht RPkfLggHpUgZzmU9JRDLohYqN17FW/i4= X-Google-Smtp-Source: AGHT+IFL74jnpfiDbOUzVc3JRnN9jE85AjOk6yTy+xvGiovnmwqUrrKUws8RAzywKOxoNCYL1laPwO0eCgDo X-Received: by 2002:a92:c26d:0:b0:431:d951:ab9b with SMTP id e9e14a558f8ab-431d951ae24mr170406105ab.0.1761426489415; Sat, 25 Oct 2025 14:08:09 -0700 (PDT) Received: from postal.iol.unh.edu (postal.iol.unh.edu. [132.177.123.84]) by smtp-relay.gmail.com with ESMTPS id 8926c6da1cb9f-5aea7be33a4sm222807173.15.2025.10.25.14.08.09 (version=TLS1_2 cipher=ECDHE-ECDSA-AES128-GCM-SHA256 bits=128/128); Sat, 25 Oct 2025 14:08:09 -0700 (PDT) X-Relaying-Domain: iol.unh.edu Date: Sat, 25 Oct 2025 14:08:09 -0700 (PDT) Message-ID: <68fd3c39.050a0220.f8246.ad92SMTPIN_ADDED_MISSING@mx.google.com> Received: from [172.21.0.2] (unknown [172.18.0.240]) by postal.iol.unh.edu (Postfix) with ESMTP id EC4856051830; Sat, 25 Oct 2025 17:08:08 -0400 (EDT) Subject: |SUCCESS| [GIT MASTER] 5d40aaf77852b5884e137f1588726c92feb59002 From: dpdklab@iol.unh.edu To: Test Report Cc: dpdk-test-reports@iol.unh.edu, Ajit Khaparde Content-Type: text/plain X-BeenThere: test-report@dpdk.org X-Mailman-Version: 2.1.29 Precedence: list List-Id: automatic DPDK test reports List-Unsubscribe: , List-Archive: List-Post: List-Help: List-Subscribe: , Errors-To: test-report-bounces@dpdk.org _Testing PASS_ Branch: next-net-brcm-for-next-net 5d40aaf77852b5884e137f1588726c92feb59002 --> testing pass Upstream job id: Generic-DPDK-Compile-Meson#437579 Test environment and result as below: +------------------------------+--------------------+ | Environment | dpdk_meson_compile | +==============================+====================+ | Red Hat Enterprise Linux 9.5 | PASS | +------------------------------+--------------------+ | Ubuntu 20.04 | PASS | +------------------------------+--------------------+ | Debian GNU/Linux 12 | PASS | +------------------------------+--------------------+ | Fedora Linux 42 | PASS | +------------------------------+--------------------+ | Ubuntu 22.04 | PASS | +------------------------------+--------------------+ | Ubuntu 24.04 | PASS | +------------------------------+--------------------+ | CentOS Stream 9 | PASS | +------------------------------+--------------------+ | CentOS Stream 10 | PASS | +------------------------------+--------------------+ Red Hat Enterprise Linux 9.5 Kernel: 5.4 Compiler: gcc gcc (GCC) 11.5.0 20240719 (Red Hat 11.5.0-2) Ubuntu 20.04 Kernel: 5.15 Compiler: aarch64-linux-gnu-gcc gcc (Ubuntu 9.4.0-1ubuntu1~20.04.2) 9.4.0 Debian GNU/Linux 12 Kernel: 5.4 Compiler: gcc gcc (Debian 12.2.0-14+deb12u1) 12.2.0 Fedora Linux 42 Kernel: 5.4 Compiler: gcc gcc (GCC) 15.2.1 20250808 (Red Hat 15.2.1-1) Ubuntu 22.04 Kernel: 5.4 Compiler: gcc gcc (Ubuntu 11.4.0-1ubuntu1~22.04) 11.4.0 Ubuntu 24.04 Kernel: 5.4 Compiler: gcc gcc (Ubuntu 13.3.0-6ubuntu2~24.04) 13.3.0 CentOS Stream 9 Kernel: 5.4 Compiler: gcc gcc (GCC) 11.5.0 20240719 (Red Hat 11.5.0-11) CentOS Stream 10 Kernel: 5.4 Compiler: gcc gcc (GCC) 14.2.1 20250110 (Red Hat 14.2.1-8) To view detailed results, visit: https://lab.dpdk.org/results/dashboard/tarballs/35333/ UNH-IOL DPDK Community Lab To manage your email subscriptions, visit: https://lab.dpdk.org/results/dashboard/preferences/subscriptions/