From mboxrd@z Thu Jan 1 00:00:00 1970 Return-Path: Received: from mails.dpdk.org (mails.dpdk.org [217.70.189.124]) by inbox.dpdk.org (Postfix) with ESMTP id 6C3F6489D7 for ; Sat, 25 Oct 2025 23:12:23 +0200 (CEST) Received: from mails.dpdk.org (localhost [127.0.0.1]) by mails.dpdk.org (Postfix) with ESMTP id 420C14003C; Sat, 25 Oct 2025 23:12:23 +0200 (CEST) Received: from mail-io1-f99.google.com (mail-io1-f99.google.com [209.85.166.99]) by mails.dpdk.org (Postfix) with ESMTP id C464E4003C for ; Sat, 25 Oct 2025 23:12:21 +0200 (CEST) Received: by mail-io1-f99.google.com with SMTP id ca18e2360f4ac-9444425cedcso81688039f.1 for ; Sat, 25 Oct 2025 14:12:21 -0700 (PDT) DKIM-Signature: v=1; a=rsa-sha256; c=relaxed/relaxed; d=iol.unh.edu; s=unh-iol; t=1761426741; x=1762031541; darn=dpdk.org; h=references:in-reply-to:cc:to:from:subject:message-id:date:from:to :cc:subject:date:message-id:reply-to; bh=BJuffdpnhkO4Kd1d2oSVexsQF2+Or9k2fKHOW/i43g8=; b=LNydfg9RjKH+SfmWiVNK8dk7UCyMs6Q7qq7LSA0ZzjjaOVb4pkUaqCXYLO4HMub+t7 UuWoMuhZs+OriSrjNG7Q7m1rbomhvyVvRz9hJKtvUPfs3CUF9KXRGiwJI3hgZLBPfGrK RXKB81cgtfaNXXHGbCx9ShDgzh+FZztoqbwMg= X-Google-DKIM-Signature: v=1; a=rsa-sha256; c=relaxed/relaxed; d=1e100.net; s=20230601; t=1761426741; x=1762031541; h=references:in-reply-to:cc:to:from:subject:message-id:date :x-gm-message-state:from:to:cc:subject:date:message-id:reply-to; bh=BJuffdpnhkO4Kd1d2oSVexsQF2+Or9k2fKHOW/i43g8=; b=cQpkks/MuacKsHBO/ev9nES4wmHY4g/U1EYgAKUmZiS5XBYcGhZxNdgEvhHw4C2N5h dN9pUoInGSEpI78ah8an2fIh0JSuOOoPss9Uk1fQxeZ0AJqQafk5+gZbfG9sL1ovpwPe MAXrI1KZBvwD+RW0mprYuA+EjPhiMOyLtmT/D63zKBVM53z1LZdDCyE+EEGn+s9SOciP K/6EQQI0Di1Dcj/NzhaJNi7h0uCg0l15DixlkyLG7GL1EuJCcDYcR9ku8uCyxW838/ae kX6+xNOg0wwPS2JPrsIn+kHfHJ4CsQrSAkro6gVKoBmDObO6LPU1MfF4hcb/eOEGuyQN PHPA== X-Gm-Message-State: AOJu0Yzmeodcu8cafG/F/h+yikB+VZh0nV4BeKnBW8MJwdniTCHJF+LZ CPXUVHb8ivEeap6R5c67eDILgSKAVGSSqb6d29CPw5rwj+3200/9Ny3IcmeRnKKXU3AjxGJ81hD gB09qP+tpQGsBJqD09x+XDQ4F7IQD8YP6Xn5+AmpxAhvJN9NrI3uBSY/WAX9z X-Gm-Gg: ASbGnctNLk8tg8OKio0cU1M8k3pO9aYSoA2q4waiSr1ojKIMX7b59/YlURWJ1DmfxJ2 5zZ74+yaUteZWpuSngVUSQm4IGEp6+d50sFPg5EmEYldwrRIrBTi6k4T8Lxr224HatWTE33v6t+ 7jJSQlErcBUoSiPNyHzx0wCwdVxB/mpk+kTARGUMC2YgkBadHhQpOQ+9rTs4JilmwAsGTyVyrjV tZPb/5ZUaheS5Rf8X1s7kS+RkJ17dDCsxr0bHpuilzd57KdiAae5RKPIFnCnT/wpqAZJmuD0XUX pkE7GtRyQ4QHv68OcYYUMXCYbCD4z51IPG1w46v30gJng7SVcYjWf3EqoTD6jg1dIH6qOcfbhLH qMVYPtBGY X-Google-Smtp-Source: AGHT+IHmjWN5+Oa3uA8VxXi86+8iwiA7fUHfWOBIw32JBcpfE7uNYKme3/RDy7XRq9C6dhoYGGx5A3Sikn7m X-Received: by 2002:a05:6e02:b42:b0:430:b6a3:53b4 with SMTP id e9e14a558f8ab-431ebeb3f12mr107994845ab.3.1761426740974; Sat, 25 Oct 2025 14:12:20 -0700 (PDT) Received: from postal.iol.unh.edu (postal.iol.unh.edu. [2606:4100:3880:1234::84]) by smtp-relay.gmail.com with ESMTPS id 8926c6da1cb9f-5aea7be4cf4sm224094173.14.2025.10.25.14.12.20 (version=TLS1_2 cipher=ECDHE-ECDSA-AES128-GCM-SHA256 bits=128/128); Sat, 25 Oct 2025 14:12:20 -0700 (PDT) X-Relaying-Domain: iol.unh.edu Date: Sat, 25 Oct 2025 14:12:20 -0700 (PDT) Message-ID: <68fd3d34.050a0220.17861b.a88fSMTPIN_ADDED_MISSING@mx.google.com> Received: from [172.21.0.2] (unknown [172.18.0.240]) by postal.iol.unh.edu (Postfix) with ESMTP id 917CD6051830; Sat, 25 Oct 2025 17:12:20 -0400 (EDT) Subject: |WARNING| pw158099 [PATCH] app/compress-perf: fix coverity issue From: dpdklab@iol.unh.edu To: Test Report Cc: dpdk-test-reports@iol.unh.edu, Akhil Goyal In-Reply-To: <20251024191125.1728953-1-svaze@qti.qualcomm.com> References: <20251024191125.1728953-1-svaze@qti.qualcomm.com> Content-Type: text/plain X-BeenThere: test-report@dpdk.org X-Mailman-Version: 2.1.29 Precedence: list List-Id: automatic DPDK test reports List-Unsubscribe: , List-Archive: List-Post: List-Help: List-Subscribe: , Errors-To: test-report-bounces@dpdk.org Test-Label: iol-compile-amd64-testing Test-Status: WARNING http://dpdk.org/patch/158099 _Testing issues_ Submitter: Sameer Vaze Date: Friday, October 24 2025 19:11:25 DPDK git baseline: Repo:dpdk-next-crypto Branch: master CommitID:6edcec237e31fcdb848cca6c151ee7a5bf057c28 158099 --> testing issues Upstream job id: Generic-DPDK-Compile-Meson#437717 Test environment and result as below: +-------------------------------+--------------------+-------------------+-------------------------+----------------------+-------------------+------------------+ | Environment | dpdk_meson_compile | dpdk_msvc_compile | dpdk_llvm_clang_compile | dpdk_mingw64_compile | dpdk_compile_spdk | dpdk_compile_ovs | +===============================+====================+===================+=========================+======================+===================+==================+ | Ubuntu 20.04 | PASS | SKIPPED | SKIPPED | SKIPPED | SKIPPED | SKIPPED | +-------------------------------+--------------------+-------------------+-------------------------+----------------------+-------------------+------------------+ | FreeBSD 14.2 | PASS | SKIPPED | SKIPPED | SKIPPED | SKIPPED | SKIPPED | +-------------------------------+--------------------+-------------------+-------------------------+----------------------+-------------------+------------------+ | CentOS Stream 9 | PASS | SKIPPED | SKIPPED | SKIPPED | WARN | SKIPPED | +-------------------------------+--------------------+-------------------+-------------------------+----------------------+-------------------+------------------+ | CentOS Stream 10 | PASS | SKIPPED | SKIPPED | SKIPPED | SKIPPED | SKIPPED | +-------------------------------+--------------------+-------------------+-------------------------+----------------------+-------------------+------------------+ | Debian GNU/Linux 12 | PASS | SKIPPED | SKIPPED | SKIPPED | WARN | SKIPPED | +-------------------------------+--------------------+-------------------+-------------------------+----------------------+-------------------+------------------+ | Fedora Linux 42 | PASS | SKIPPED | SKIPPED | SKIPPED | WARN | PASS | +-------------------------------+--------------------+-------------------+-------------------------+----------------------+-------------------+------------------+ | openSUSE Leap 15.6 | PASS | SKIPPED | SKIPPED | SKIPPED | SKIPPED | SKIPPED | +-------------------------------+--------------------+-------------------+-------------------------+----------------------+-------------------+------------------+ | Red Hat Enterprise Linux 8.10 | PASS | SKIPPED | SKIPPED | SKIPPED | SKIPPED | SKIPPED | +-------------------------------+--------------------+-------------------+-------------------------+----------------------+-------------------+------------------+ | Red Hat Enterprise Linux 9.5 | PASS | SKIPPED | SKIPPED | SKIPPED | SKIPPED | SKIPPED | +-------------------------------+--------------------+-------------------+-------------------------+----------------------+-------------------+------------------+ | Ubuntu 22.04 | PASS | SKIPPED | SKIPPED | SKIPPED | WARN | SKIPPED | +-------------------------------+--------------------+-------------------+-------------------------+----------------------+-------------------+------------------+ | Ubuntu 24.04 | PASS | SKIPPED | SKIPPED | SKIPPED | WARN | PASS | +-------------------------------+--------------------+-------------------+-------------------------+----------------------+-------------------+------------------+ | Alpine Linux 3.22.0 | PASS | SKIPPED | SKIPPED | SKIPPED | SKIPPED | SKIPPED | +-------------------------------+--------------------+-------------------+-------------------------+----------------------+-------------------+------------------+ | Windows Server 2022 | SKIPPED | PASS | PASS | PASS | SKIPPED | SKIPPED | +-------------------------------+--------------------+-------------------+-------------------------+----------------------+-------------------+------------------+ ==== 20 line log output for Ubuntu 24.04 (dpdk_compile_spdk): ==== --- Failed to get log output --- ==== End log output ==== Ubuntu 20.04 Kernel: 4.19 Compiler: gcc gcc (Ubuntu 9.4.0-1ubuntu1~20.04.2) 9.4.0 FreeBSD 14.2 Kernel: 14.2-RELEASE Compiler: clang 18.1.6 CentOS Stream 9 Kernel: 5.15 Compiler: gcc gcc (GCC) 11.5.0 20240719 (Red Hat 11.5.0-11) CentOS Stream 10 Kernel: 5.15 Compiler: gcc gcc (GCC) 14.2.1 20250110 (Red Hat 14.2.1-8) Debian GNU/Linux 12 Kernel: 5.15 Compiler: gcc gcc (Debian 12.2.0-14+deb12u1) 12.2.0 Fedora Linux 42 Kernel: 5.15 Compiler: clang gcc (GCC) 15.2.1 20250808 (Red Hat 15.2.1-1) openSUSE Leap 15.6 Kernel: 5.15 Compiler: gcc gcc (SUSE Linux) 7.5.0 Red Hat Enterprise Linux 8.10 Kernel: 5.15 Compiler: gcc gcc (GCC) 8.5.0 20210514 (Red Hat 8.5.0-22) Red Hat Enterprise Linux 9.5 Kernel: 5.15 Compiler: gcc gcc (GCC) 11.5.0 20240719 (Red Hat 11.5.0-2) Ubuntu 22.04 Kernel: 5.15 Compiler: gcc gcc (Ubuntu 11.4.0-1ubuntu1~22.04) 11.4.0 Ubuntu 24.04 Kernel: 5.15 Compiler: gcc gcc (Ubuntu 13.3.0-6ubuntu2~24.04) 13.3.0 Alpine Linux 3.22.0 Kernel: 5.15 Compiler: gcc gcc (Alpine 14.2.0) 14.2.0 Windows Server 2022 Kernel: 10.0.20348.2031 Compiler: clang 15.0.7, gcc 14.1.0 (MinGW), and MSVC VS 19.39.33521 To view detailed results, visit: https://lab.dpdk.org/results/dashboard/patchsets/34380/ UNH-IOL DPDK Community Lab To manage your email subscriptions, visit: https://lab.dpdk.org/results/dashboard/preferences/subscriptions/