From mboxrd@z Thu Jan 1 00:00:00 1970 Return-Path: Received: from mails.dpdk.org (mails.dpdk.org [217.70.189.124]) by inbox.dpdk.org (Postfix) with ESMTP id 6B0AE489D7 for ; Sat, 25 Oct 2025 23:24:01 +0200 (CEST) Received: from mails.dpdk.org (localhost [127.0.0.1]) by mails.dpdk.org (Postfix) with ESMTP id 467204003C; Sat, 25 Oct 2025 23:24:01 +0200 (CEST) Received: from mail-yw1-f225.google.com (mail-yw1-f225.google.com [209.85.128.225]) by mails.dpdk.org (Postfix) with ESMTP id 54B6D4003C for ; Sat, 25 Oct 2025 23:23:59 +0200 (CEST) Received: by mail-yw1-f225.google.com with SMTP id 00721157ae682-7815092cd0bso40139837b3.2 for ; Sat, 25 Oct 2025 14:23:59 -0700 (PDT) DKIM-Signature: v=1; a=rsa-sha256; c=relaxed/relaxed; d=iol.unh.edu; s=unh-iol; t=1761427438; x=1762032238; darn=dpdk.org; h=references:in-reply-to:cc:to:from:subject:message-id:date:from:to :cc:subject:date:message-id:reply-to; bh=8fWdhCnxzVRYjN6SWbK30W3mOPQKLb+zt66h2gk/A8c=; b=XNwTilSfXjNwD+fmXaGfWsbn0hXv58NsESM1R1dii051ovqMUfbbMsLvPP12FCYZ3E FOsgRQJC+Hl75WGtbaq8RKKJPskCbqmI0Q8bCCEjhnYcAaKxgCLH3m3sDVDhLg4X3wQp wSsZ5wXazzG35Olge/ib0tB8USxFCLjhS+yyY= X-Google-DKIM-Signature: v=1; a=rsa-sha256; c=relaxed/relaxed; d=1e100.net; s=20230601; t=1761427438; x=1762032238; h=references:in-reply-to:cc:to:from:subject:message-id:date :x-gm-message-state:from:to:cc:subject:date:message-id:reply-to; bh=8fWdhCnxzVRYjN6SWbK30W3mOPQKLb+zt66h2gk/A8c=; b=my0CA8f/xVfjcil51hQ2jRc4kGGpPDqz5FyOTu0AwH3CTbHuiiT6SAv6XtcyTo6Bb+ 3cducOkuOFUe9CIMK+2H6BbQJWa5WRpyQMIVZgRSEeQ+4jMKWw+ykIL1FuRJ/0yF2azh gU60GSC4mDIMJobJM8xNGLLaHi9gnFguOYb0gV8JFFa0jBrh5ThJWWXsKiYN28M6GziG t1Hxt5shNnhfCX+WP3iyvNSyzBGEdlocjqtSRvIjRMmMTWksKvQeM8skGeztJhbv2vXG RzGav/CJMGXIddB4D73JOgsIBVKRXH4ePXs3dcuUb890/nTRp2B+YpLIk2bkpqKSWaOm nD2g== X-Gm-Message-State: AOJu0YxPzrsZYI5g16q6zfDLfVIlptdKsImkGZWVU6Ve4qUxIiAqgPqx q5wX7enf9CTzam2giYTm9ktviNVryz6iQSulaSLio5f3Kwm2hQbkIvnGq80u4QdzA1q247h/Caz P7kr/LXSOcmwdUrmnjBUb1v60i4v5XLbjlq1mrI/3tGKQfeCiyGEYhH+1SlK8 X-Gm-Gg: ASbGncu1cn2L2YRr8uO7It761bR7MOdEfuZ0WXpcxsIcsEDLDAgYP/sLGslCd94EQS2 mWPMAHjWVj84nryeEVjnVt07ed5p3JWk8RcgmcOyvvXza5MWYlzYOg68jZMXA3nyOcSqcunx0hO sqghx3NMgFoKh3N7jHNiqbrSQAwQFT6rZ+CfiwCE7R5+Q64V0oSMtgZkYBXjnBZXoUSI3sxg1WZ WExzwM+nU78ioYwIKpaNBtPw9AZzD8FtolQi/ohNBmrAvrLrI85+iiF39hlRAkklJCJa8LVmts7 fIcel1IHjrLsIT3bNw5i/VMaOp19XdhdQiGYoT9opEcA6CVfIprqsZAAhF6emOZeyGiSgWlPTCl yWJ8KHKAB X-Google-Smtp-Source: AGHT+IE70ZxTpxv0kQIogdLC0Xn8A0RUp9LUzLDAJsmaiKApRCOXPpM7gqbSsyxwFD/unP20r5tCZ63PY/oC X-Received: by 2002:a05:690c:2607:b0:784:92a3:68ad with SMTP id 00721157ae682-78492a38a34mr359936477b3.48.1761427438546; Sat, 25 Oct 2025 14:23:58 -0700 (PDT) Received: from postal.iol.unh.edu (postal.iol.unh.edu. [2606:4100:3880:1234::84]) by smtp-relay.gmail.com with ESMTPS id 00721157ae682-785ed19bcf8sm1973147b3.16.2025.10.25.14.23.58 (version=TLS1_2 cipher=ECDHE-ECDSA-AES128-GCM-SHA256 bits=128/128); Sat, 25 Oct 2025 14:23:58 -0700 (PDT) X-Relaying-Domain: iol.unh.edu Date: Sat, 25 Oct 2025 14:23:58 -0700 (PDT) Message-ID: <68fd3fee.050a0220.f7659.a5b3SMTPIN_ADDED_MISSING@mx.google.com> Received: from [172.21.0.4] (unknown [172.18.0.240]) by postal.iol.unh.edu (Postfix) with ESMTP id EF35A6051830; Sat, 25 Oct 2025 17:23:57 -0400 (EDT) Subject: |SUCCESS| pw158081-158084 [PATCH] [v1,4/4] doc: add PTP IDPF documen From: dpdklab@iol.unh.edu To: Test Report Cc: dpdk-test-reports@iol.unh.edu, Bruce Richardson In-Reply-To: <20251024120840.420016-5-soumyadeep.hore@intel.com> References: <20251024120840.420016-5-soumyadeep.hore@intel.com> Content-Type: text/plain X-BeenThere: test-report@dpdk.org X-Mailman-Version: 2.1.29 Precedence: list List-Id: automatic DPDK test reports List-Unsubscribe: , List-Archive: List-Post: List-Help: List-Subscribe: , Errors-To: test-report-bounces@dpdk.org Test-Label: iol-compile-arm64-testing Test-Status: SUCCESS http://dpdk.org/patch/158084 _Testing PASS_ Submitter: Soumyadeep Hore Date: Friday, October 24 2025 12:08:40 DPDK git baseline: Repo:dpdk-next-net-intel Branch: master CommitID:6b997d6b9ffdbb4f8ecd14d1f217da69cdc783af 158081-158084 --> testing pass Upstream job id: Generic-DPDK-Compile-Meson#437556 Test environment and result as below: +------------------------------+--------------------+ | Environment | dpdk_meson_compile | +==============================+====================+ | Red Hat Enterprise Linux 9.5 | PASS | +------------------------------+--------------------+ | Ubuntu 20.04 | PASS | +------------------------------+--------------------+ | Debian GNU/Linux 12 | PASS | +------------------------------+--------------------+ | Fedora Linux 42 | PASS | +------------------------------+--------------------+ | Ubuntu 22.04 | PASS | +------------------------------+--------------------+ | Ubuntu 24.04 | PASS | +------------------------------+--------------------+ | CentOS Stream 9 | PASS | +------------------------------+--------------------+ | CentOS Stream 10 | PASS | +------------------------------+--------------------+ Red Hat Enterprise Linux 9.5 Kernel: 5.4 Compiler: gcc gcc (GCC) 11.5.0 20240719 (Red Hat 11.5.0-2) Ubuntu 20.04 Kernel: 5.15 Compiler: aarch64-linux-gnu-gcc gcc (Ubuntu 9.4.0-1ubuntu1~20.04.2) 9.4.0 Debian GNU/Linux 12 Kernel: 5.4 Compiler: gcc gcc (Debian 12.2.0-14+deb12u1) 12.2.0 Fedora Linux 42 Kernel: 5.4 Compiler: gcc gcc (GCC) 15.2.1 20250808 (Red Hat 15.2.1-1) Ubuntu 22.04 Kernel: 5.4 Compiler: gcc gcc (Ubuntu 11.4.0-1ubuntu1~22.04) 11.4.0 Ubuntu 24.04 Kernel: 5.4 Compiler: gcc gcc (Ubuntu 13.3.0-6ubuntu2~24.04) 13.3.0 CentOS Stream 9 Kernel: 5.4 Compiler: gcc gcc (GCC) 11.5.0 20240719 (Red Hat 11.5.0-11) CentOS Stream 10 Kernel: 5.4 Compiler: gcc gcc (GCC) 14.2.1 20250110 (Red Hat 14.2.1-8) To view detailed results, visit: https://lab.dpdk.org/results/dashboard/patchsets/34373/ UNH-IOL DPDK Community Lab To manage your email subscriptions, visit: https://lab.dpdk.org/results/dashboard/preferences/subscriptions/