From mboxrd@z Thu Jan 1 00:00:00 1970 Return-Path: Received: from mails.dpdk.org (mails.dpdk.org [217.70.189.124]) by inbox.dpdk.org (Postfix) with ESMTP id EFD2B489D7 for ; Sat, 25 Oct 2025 23:29:02 +0200 (CEST) Received: from mails.dpdk.org (localhost [127.0.0.1]) by mails.dpdk.org (Postfix) with ESMTP id CF7FC4003C; Sat, 25 Oct 2025 23:29:02 +0200 (CEST) Received: from mail-pg1-f228.google.com (mail-pg1-f228.google.com [209.85.215.228]) by mails.dpdk.org (Postfix) with ESMTP id 6DD4C4003C for ; Sat, 25 Oct 2025 23:29:02 +0200 (CEST) Received: by mail-pg1-f228.google.com with SMTP id 41be03b00d2f7-b6271ea3a6fso2257825a12.0 for ; Sat, 25 Oct 2025 14:29:02 -0700 (PDT) DKIM-Signature: v=1; a=rsa-sha256; c=relaxed/relaxed; d=iol.unh.edu; s=unh-iol; t=1761427741; x=1762032541; darn=dpdk.org; h=references:in-reply-to:cc:to:from:subject:message-id:date:from:to :cc:subject:date:message-id:reply-to; bh=4445IcS/m4axN+db+79B4siEmdLJt929l8GXb4Mljuk=; b=QwYVkbA1qn4hMC+XKLQZS7p8bVwo3dN/JtAE+N4zLZrjLAVDmrfepft1Zn3Z0EyhS5 hcT1vyeudEAuurVwF8kgmqYEeBZgjnkQ9hckX9VLZEJUEnxWfv2eQSeVLE1nVYSRi1oc l1asRrVSRCPsJ5FAxFJYjYu5/cerJa5cGlt8c= X-Google-DKIM-Signature: v=1; a=rsa-sha256; c=relaxed/relaxed; d=1e100.net; s=20230601; t=1761427741; x=1762032541; h=references:in-reply-to:cc:to:from:subject:message-id:date :x-gm-message-state:from:to:cc:subject:date:message-id:reply-to; bh=4445IcS/m4axN+db+79B4siEmdLJt929l8GXb4Mljuk=; b=e1zurFNXdP0Crq2EA+b2aSp3fSWTBA38+SCJUJDgYf3vrtaA+E3DpPxVetlRq0Clcb JF1EtutJrj+QeeuM0H8+6q5on7IHSWvKQb3ZweHTU4EHyOZVT9UNqmGeBWp9lXL9PYpf Kgw+Cze/+b0t6ySQPzJZRMkbSYnVRvuB59lG6RTNLbdO8QsYmi7RZcLCrrtaFjR6G0MQ nw+Db46MRJvtA4m+yz/sJNsq+SdPrL7TVyyDNJzq6vWUoaU8vw2jKKavptw1bUX4cMsU nOYEACOHJHUTgnL61HdSC8iEkWiGNSfT8LiNKsnSTdhopa9PebBhsAGvXUZRJVZ6UJRj WaHA== X-Gm-Message-State: AOJu0YwSxsHXW20iNYzkKMPsv2Flfotay5caPpW6WknBX/d3u/BPxvqW My/vlu4fN41oQpU+LTjnnYya3/yaBBKHjSHm0PlQa7PcdHleVjZJewiS0uaECNhRvkqvyLn9uOM y31DKrMu+ZkjIYFZ0lCYirJ635S+ggdUn6mGV199+FMY0MZurx1fE/GGu9Ull X-Gm-Gg: ASbGncsqC0WZqdgFbhXKkZKgLweDxzv2j+VaTg+mjUqUrhUE74CT5favth8zJcXf2Np wL/xD7t1YD4zts0j1f3FGb5OKUReaoNvip9GNnL4lm+FCHfHKCtvTUnwVW3bYCE/zPFtOKe2nFn cxEmk/80Up4QMw4W1sc7eRCmVQcF/liV4I8Izd5WblnQhfFfaodPpH2M2IhmU2bm6ES/QNXJwlg 9NHw6JnUrMwaGoOAKRvcinwmPFK1mKF4iWnBvb00Ka8GElEytJZIEWkHMYEqPZGIomnMsMhkM65 6DW8v4cmzv2vd8SOk9t3dT8ON0mWkLFrSEDxP5tEXrDmHhit+07TE68rMnncAZZEbpmsJo9v6X4 o6AQxmiy0 X-Google-Smtp-Source: AGHT+IFZjHz99lE/mBTfJYvQQ29mUdO7aV8PgTJvs8Bm1nsXl9c8YGzKKlMUZeWnfS0I/VF/P/kuCJGEIlyV X-Received: by 2002:a17:902:c950:b0:292:fc65:3584 with SMTP id d9443c01a7336-292fc6538acmr191263035ad.50.1761427741535; Sat, 25 Oct 2025 14:29:01 -0700 (PDT) Received: from postal.iol.unh.edu (postal.iol.unh.edu. [2606:4100:3880:1234::84]) by smtp-relay.gmail.com with ESMTPS id d9443c01a7336-29498cf3077sm2992975ad.10.2025.10.25.14.29.01 (version=TLS1_2 cipher=ECDHE-ECDSA-AES128-GCM-SHA256 bits=128/128); Sat, 25 Oct 2025 14:29:01 -0700 (PDT) X-Relaying-Domain: iol.unh.edu Date: Sat, 25 Oct 2025 14:29:01 -0700 (PDT) Message-ID: <68fd411d.170a0220.326c00.e514SMTPIN_ADDED_MISSING@mx.google.com> Received: from [172.21.0.2] (unknown [172.18.0.240]) by postal.iol.unh.edu (Postfix) with ESMTP id C11236051830; Sat, 25 Oct 2025 17:29:00 -0400 (EDT) Subject: |SUCCESS| pw158086-158088 [PATCH] [v3,3/3] dts: add virtio forwardin From: dpdklab@iol.unh.edu To: Test Report Cc: dpdk-test-reports@iol.unh.edu In-Reply-To: <20251024174702.600147-3-dmarx@iol.unh.edu> References: <20251024174702.600147-3-dmarx@iol.unh.edu> Content-Type: text/plain X-BeenThere: test-report@dpdk.org X-Mailman-Version: 2.1.29 Precedence: list List-Id: automatic DPDK test reports List-Unsubscribe: , List-Archive: List-Post: List-Help: List-Subscribe: , Errors-To: test-report-bounces@dpdk.org Test-Label: iol-compile-arm64-testing Test-Status: SUCCESS http://dpdk.org/patch/158088 _Testing PASS_ Submitter: Dean Marx Date: Friday, October 24 2025 17:47:00 DPDK git baseline: Repo:dpdk-next-dts Branch: master CommitID:c1abcee5a9656fb4890b733e6051aa604c60f146 158086-158088 --> testing pass Upstream job id: Generic-DPDK-Compile-Meson#437605 Test environment and result as below: +------------------------------+--------------------+ | Environment | dpdk_meson_compile | +==============================+====================+ | Red Hat Enterprise Linux 9.5 | PASS | +------------------------------+--------------------+ | Ubuntu 20.04 | PASS | +------------------------------+--------------------+ | Debian GNU/Linux 12 | PASS | +------------------------------+--------------------+ | Fedora Linux 42 | PASS | +------------------------------+--------------------+ | Ubuntu 22.04 | PASS | +------------------------------+--------------------+ | Ubuntu 24.04 | PASS | +------------------------------+--------------------+ | CentOS Stream 9 | PASS | +------------------------------+--------------------+ | CentOS Stream 10 | PASS | +------------------------------+--------------------+ Red Hat Enterprise Linux 9.5 Kernel: 5.4 Compiler: gcc gcc (GCC) 11.5.0 20240719 (Red Hat 11.5.0-2) Ubuntu 20.04 Kernel: 5.15 Compiler: aarch64-linux-gnu-gcc gcc (Ubuntu 9.4.0-1ubuntu1~20.04.2) 9.4.0 Debian GNU/Linux 12 Kernel: 5.4 Compiler: gcc gcc (Debian 12.2.0-14+deb12u1) 12.2.0 Fedora Linux 42 Kernel: 5.4 Compiler: gcc gcc (GCC) 15.2.1 20250808 (Red Hat 15.2.1-1) Ubuntu 22.04 Kernel: 5.4 Compiler: gcc gcc (Ubuntu 11.4.0-1ubuntu1~22.04) 11.4.0 Ubuntu 24.04 Kernel: 5.4 Compiler: gcc gcc (Ubuntu 13.3.0-6ubuntu2~24.04) 13.3.0 CentOS Stream 9 Kernel: 5.4 Compiler: gcc gcc (GCC) 11.5.0 20240719 (Red Hat 11.5.0-11) CentOS Stream 10 Kernel: 5.4 Compiler: gcc gcc (GCC) 14.2.1 20250110 (Red Hat 14.2.1-8) To view detailed results, visit: https://lab.dpdk.org/results/dashboard/patchsets/34374/ UNH-IOL DPDK Community Lab To manage your email subscriptions, visit: https://lab.dpdk.org/results/dashboard/preferences/subscriptions/