From mboxrd@z Thu Jan 1 00:00:00 1970 Return-Path: Received: from mails.dpdk.org (mails.dpdk.org [217.70.189.124]) by inbox.dpdk.org (Postfix) with ESMTP id 8A2FE489D7 for ; Sat, 25 Oct 2025 23:35:38 +0200 (CEST) Received: from mails.dpdk.org (localhost [127.0.0.1]) by mails.dpdk.org (Postfix) with ESMTP id 64B0140156; Sat, 25 Oct 2025 23:35:38 +0200 (CEST) Received: from mail-qv1-f98.google.com (mail-qv1-f98.google.com [209.85.219.98]) by mails.dpdk.org (Postfix) with ESMTP id 2D8D64003C for ; Sat, 25 Oct 2025 23:35:37 +0200 (CEST) Received: by mail-qv1-f98.google.com with SMTP id 6a1803df08f44-78f30dac856so37730306d6.2 for ; Sat, 25 Oct 2025 14:35:37 -0700 (PDT) DKIM-Signature: v=1; a=rsa-sha256; c=relaxed/relaxed; d=iol.unh.edu; s=unh-iol; t=1761428136; x=1762032936; darn=dpdk.org; h=references:in-reply-to:cc:to:from:subject:message-id:date:from:to :cc:subject:date:message-id:reply-to; bh=wKE2/mGeVq3JuejVUG7wswZEo/xJQEyTuGi1riERBpc=; b=Uh6pOWAFrHFUsyxVVTsxflwdsAf78ztapzV614w8iSy8Ur13/6vHfkQQ8tfBxXLcAf CyDfjXpXe7WuCAW2uNzf0e3FJFbtwO8TVcHa22FZ8sAHPAkjZj8EdOd7VC88AaRa7nqG zqbSdrqLpV0Y1NFBurm9f4DdhCtpDY9p9B3OI= X-Google-DKIM-Signature: v=1; a=rsa-sha256; c=relaxed/relaxed; d=1e100.net; s=20230601; t=1761428136; x=1762032936; h=references:in-reply-to:cc:to:from:subject:message-id:date :x-gm-message-state:from:to:cc:subject:date:message-id:reply-to; bh=wKE2/mGeVq3JuejVUG7wswZEo/xJQEyTuGi1riERBpc=; b=GCUIpEpam4yreWSe1UCwRkHnVhEdLoroHuL2iXT27eTBOMJCdSMYitVYWZpTyzNPC5 8tR49yCAtdf+5KFuFU/Caofi6wBDU7WN03wOKfdyksG+yW1J1Ey9l6eP42IDB/BF4zzo AInua2rdYhXmpRRMVqvoJINHUkIVEqSd/ugkYH5pWaab+D1X8OH6AsfC74Yf0sexpjmi Qh2h6NxfF0nf33JoJHYTI9Gt/WPeSlX88GfqymKjlKjoRvDYuuJ8/QYTb3eaKFGGAN61 lx2FvnaIQksADYQgw3rab9q1yht085h61jZjUQpdksnFQPUpHfTH86q7XN4FTAw2w5CR oKMg== X-Gm-Message-State: AOJu0YwxVTnTNGjF0PK+i68bXvmNXbk+FozRyag96Chd120sKpc4ZJ/J FOHvWXSLEUVqsiGaDfozRe1jIE203DFvDiCRQO3CT2D/7awItpSmxlXH+u1hG4YfGO7J8QGbj6s OtcxMN1hSbG01cFV5eQLlg8B+ep+W/MyRPO7y0yQQ/RVxSxKiJyOAEx4juJJQ X-Gm-Gg: ASbGncsGvOC0PJREUCIE4hfJ5h2n+1xa7cBUD0p536XLZPUW8vyhZfH1ItMAYQNe0dy gHqb0OZKo1LWFNzs/s4Vnk3iv25JpBkLbQFHeYMLtHoy2+vOoovthbBKcpITQkFyKtuSxBWbdp1 6tE0U65AyIclm8LaRFNYOgTc+CEklBqRYOc5KeDFLsfSC1p5FxFzFNsiF/qaoZ6QDv32Lp/Lkub zxKdAoIDFxsfejGoRSfBP2bO2x4o6sfjgjbRl7Fxk6LQazG49ov4VSTQ8sD6TVHNM2Q5gT1zWY2 kQbuCXWrcR3uScmvOsygfn1+ueQwrm+DkG1Mc2dbjXBgTZSWO48NKPiBfG1jQ4/EpUl1laOk6b2 NV28GpDPx X-Google-Smtp-Source: AGHT+IFxafNY1KZQMLachKw6LlnWulOZwXZLzUHMoML0TiHdf45X2oZis+VR7jtD43kPfaOqmxCDyB4zzT0k X-Received: by 2002:ad4:5745:0:b0:87a:aa4:4b6a with SMTP id 6a1803df08f44-87f9eda2001mr145685416d6.18.1761428136574; Sat, 25 Oct 2025 14:35:36 -0700 (PDT) Received: from postal.iol.unh.edu (postal.iol.unh.edu. [2606:4100:3880:1234::84]) by smtp-relay.gmail.com with ESMTPS id 6a1803df08f44-87fc496b54fsm2983606d6.20.2025.10.25.14.35.36 (version=TLS1_2 cipher=ECDHE-ECDSA-AES128-GCM-SHA256 bits=128/128); Sat, 25 Oct 2025 14:35:36 -0700 (PDT) X-Relaying-Domain: iol.unh.edu Date: Sat, 25 Oct 2025 14:35:36 -0700 (PDT) Message-ID: <68fd42a8.d40a0220.30f413.e3bdSMTPIN_ADDED_MISSING@mx.google.com> Received: from [172.21.0.2] (unknown [172.18.0.240]) by postal.iol.unh.edu (Postfix) with ESMTP id 4E3A56051830; Sat, 25 Oct 2025 17:35:36 -0400 (EDT) Subject: |WARNING| pw158100-158107 [PATCH] [v5,8/8] doc: update documentation From: dpdklab@iol.unh.edu To: Test Report Cc: dpdk-test-reports@iol.unh.edu In-Reply-To: <20251024215456.282171-9-stephen@networkplumber.org> References: <20251024215456.282171-9-stephen@networkplumber.org> Content-Type: text/plain X-BeenThere: test-report@dpdk.org X-Mailman-Version: 2.1.29 Precedence: list List-Id: automatic DPDK test reports List-Unsubscribe: , List-Archive: List-Post: List-Help: List-Subscribe: , Errors-To: test-report-bounces@dpdk.org Test-Label: iol-compile-amd64-testing Test-Status: WARNING http://dpdk.org/patch/158107 _Testing issues_ Submitter: Stephen Hemminger Date: Friday, October 24 2025 21:54:03 DPDK git baseline: Repo:dpdk Branch: master CommitID:90f838a042f3e1bd663aca16bcdfc4dcd14b47d5 158100-158107 --> testing issues Upstream job id: Generic-DPDK-Compile-Meson#437745 Test environment and result as below: +-------------------------------+--------------------+-------------------+-------------------------+-------------------+------------------+ | Environment | dpdk_meson_compile | dpdk_msvc_compile | dpdk_llvm_clang_compile | dpdk_compile_spdk | dpdk_compile_ovs | +===============================+====================+===================+=========================+===================+==================+ | Ubuntu 20.04 | PEND | SKIPPED | SKIPPED | SKIPPED | SKIPPED | +-------------------------------+--------------------+-------------------+-------------------------+-------------------+------------------+ | FreeBSD 14.2 | PASS | SKIPPED | SKIPPED | SKIPPED | SKIPPED | +-------------------------------+--------------------+-------------------+-------------------------+-------------------+------------------+ | CentOS Stream 9 | PASS | SKIPPED | SKIPPED | WARN | SKIPPED | +-------------------------------+--------------------+-------------------+-------------------------+-------------------+------------------+ | CentOS Stream 10 | PEND | SKIPPED | SKIPPED | SKIPPED | SKIPPED | +-------------------------------+--------------------+-------------------+-------------------------+-------------------+------------------+ | Debian GNU/Linux 12 | PEND | SKIPPED | SKIPPED | PEND | SKIPPED | +-------------------------------+--------------------+-------------------+-------------------------+-------------------+------------------+ | Fedora Linux 42 | PEND | SKIPPED | SKIPPED | PEND | PEND | +-------------------------------+--------------------+-------------------+-------------------------+-------------------+------------------+ | openSUSE Leap 15.6 | PEND | SKIPPED | SKIPPED | SKIPPED | SKIPPED | +-------------------------------+--------------------+-------------------+-------------------------+-------------------+------------------+ | Red Hat Enterprise Linux 8.10 | PASS | SKIPPED | SKIPPED | SKIPPED | SKIPPED | +-------------------------------+--------------------+-------------------+-------------------------+-------------------+------------------+ | Red Hat Enterprise Linux 9.5 | PASS | SKIPPED | SKIPPED | SKIPPED | SKIPPED | +-------------------------------+--------------------+-------------------+-------------------------+-------------------+------------------+ | Ubuntu 22.04 | PEND | SKIPPED | SKIPPED | PEND | SKIPPED | +-------------------------------+--------------------+-------------------+-------------------------+-------------------+------------------+ | Ubuntu 24.04 | PEND | SKIPPED | SKIPPED | PEND | PEND | +-------------------------------+--------------------+-------------------+-------------------------+-------------------+------------------+ | Windows Server 2022 | SKIPPED | PASS | PASS | SKIPPED | SKIPPED | +-------------------------------+--------------------+-------------------+-------------------------+-------------------+------------------+ ==== 20 line log output for CentOS Stream 9 (dpdk_compile_spdk): ==== --- Failed to get log output --- ==== End log output ==== Ubuntu 20.04 Kernel: 4.19 Compiler: gcc gcc (Ubuntu 9.4.0-1ubuntu1~20.04.2) 9.4.0 FreeBSD 14.2 Kernel: 14.2-RELEASE Compiler: clang 18.1.6 CentOS Stream 9 Kernel: 5.15 Compiler: gcc gcc (GCC) 11.5.0 20240719 (Red Hat 11.5.0-11) CentOS Stream 10 Kernel: 5.15 Compiler: gcc gcc (GCC) 14.2.1 20250110 (Red Hat 14.2.1-8) Debian GNU/Linux 12 Kernel: 5.15 Compiler: gcc gcc (Debian 12.2.0-14+deb12u1) 12.2.0 Fedora Linux 42 Kernel: 5.15 Compiler: clang gcc (GCC) 15.2.1 20250808 (Red Hat 15.2.1-1) openSUSE Leap 15.6 Kernel: 5.15 Compiler: gcc gcc (SUSE Linux) 7.5.0 Red Hat Enterprise Linux 8.10 Kernel: 5.15 Compiler: gcc gcc (GCC) 8.5.0 20210514 (Red Hat 8.5.0-22) Red Hat Enterprise Linux 9.5 Kernel: 5.15 Compiler: gcc gcc (GCC) 11.5.0 20240719 (Red Hat 11.5.0-2) Ubuntu 22.04 Kernel: 5.15 Compiler: gcc gcc (Ubuntu 11.4.0-1ubuntu1~22.04) 11.4.0 Ubuntu 24.04 Kernel: 5.15 Compiler: gcc gcc (Ubuntu 13.3.0-6ubuntu2~24.04) 13.3.0 Windows Server 2022 Kernel: 10.0.20348.2031 Compiler: clang 15.0.7, gcc 14.1.0 (MinGW), and MSVC VS 19.39.33521 To view detailed results, visit: https://lab.dpdk.org/results/dashboard/patchsets/34382/ UNH-IOL DPDK Community Lab To manage your email subscriptions, visit: https://lab.dpdk.org/results/dashboard/preferences/subscriptions/