From mboxrd@z Thu Jan 1 00:00:00 1970 Return-Path: Received: from mails.dpdk.org (mails.dpdk.org [217.70.189.124]) by inbox.dpdk.org (Postfix) with ESMTP id E86D248979 for ; Sun, 26 Oct 2025 00:02:19 +0200 (CEST) Received: from mails.dpdk.org (localhost [127.0.0.1]) by mails.dpdk.org (Postfix) with ESMTP id BAA6D4028B; Sun, 26 Oct 2025 00:02:19 +0200 (CEST) Received: from mail-yx1-f100.google.com (mail-yx1-f100.google.com [74.125.224.100]) by mails.dpdk.org (Postfix) with ESMTP id 08A2D4028B for ; Sun, 26 Oct 2025 00:02:18 +0200 (CEST) Received: by mail-yx1-f100.google.com with SMTP id 956f58d0204a3-63e3a7a67a4so3692726d50.1 for ; Sat, 25 Oct 2025 15:02:17 -0700 (PDT) DKIM-Signature: v=1; a=rsa-sha256; c=relaxed/relaxed; d=iol.unh.edu; s=unh-iol; t=1761429737; x=1762034537; darn=dpdk.org; h=references:in-reply-to:cc:to:from:subject:message-id:date:from:to :cc:subject:date:message-id:reply-to; bh=2+MRckqIyWjohsZEBF9UzaQlQg6fJbOyrpgoLCsBWcc=; b=IajVpqRZ1Mxe4oKdnhxV5SuxrIyEfhNz4KmsqEm+DKX9EzdrzaVMLRjqTU1krlQLyx ruOS6rGkrFUpwdLbqSf6HH60bkO7zLpCvXKU5hC57Rb/ViqnZX1AYSpf0mvowOCOMFmj sCK6uLOjBiBDd/bpcEdVXcq6bvCPHpTb662GM= X-Google-DKIM-Signature: v=1; a=rsa-sha256; c=relaxed/relaxed; d=1e100.net; s=20230601; t=1761429737; x=1762034537; h=references:in-reply-to:cc:to:from:subject:message-id:date :x-gm-message-state:from:to:cc:subject:date:message-id:reply-to; bh=2+MRckqIyWjohsZEBF9UzaQlQg6fJbOyrpgoLCsBWcc=; b=kzELlioaDIjUEyLzuV50SD9GZqpDIp/rydb1+kvEbeVBLf3FAFh8Wj2x3LzyG1VZac c49s0/S99Wprkd3Nw4hh1xaSOyWuKl8YFL8kWB7zdu1lv6vK0jtjBsRg41FdbKhJX1jq iYdWSUVVrTqs/eVbuJeb09VIQlzAzTBZ+zBkxNoBDcPYSxjS1kmRapG4mA2dD/4AFniY cTRJDJlR9PkAO1a7FJZYVGUYPj0q0GPgXLEFtipksFwMRohiUE3T4JUd6SnM3/gGhoS4 9zMM5JjZcyaV0krtUOYVnwjwa6bvHv5qEECjfvmuYmiGnEeCJ5rRnPowKDFFc1Td8WYt Tf6Q== X-Gm-Message-State: AOJu0YyWWQZEzdMMKNic28WAcQ6ETM9guV9qdsJEVnMuGZoflHg3kLsz oal/XG9dyw38mEFt+UYFUwi4orVxBdwi0/8OzN5Z8m8OhtaWQHEtE6Fb5mw8+dHI9aLWG/YvilZ qEV4j0wHMR4DR8eanNAAMtB2xoiUoeMjFox/ptFqKPjdKGjbpusnDRt6VI3s1 X-Gm-Gg: ASbGncuAI8c5h0DXuHscg3gxUvsi/BGyS0YEO9zNUsjlMrZsBYqZM2u4LXYnT+rh7xW lRp5eG/LYxE+xVdObu4UD6Azp7600JFa7sWbTH0CgO0wYu5ZjtE1C/nYKb7fQoMpwclSgoVCS6P iAYKCbskA3TCM7algbTINz2R6M+bdJbFKRShP5x8IKDFGLeiv09jKdup7E6BFKPA1E3tgoyC5ox k9LlH2HBzxisWdbdjkpUQ59yZ7TK0e7S2nob7WwsTuSxH4mqZvre1fb/le3tZeSD6F+ztIhKNnz TZCD9kxs+VHaCI4hq7p/8xPDnG8NUy84G37id730FYKTautw5PWFkReneynHbxJyBaw+WxUiKEj fTTnoHLQ/ X-Google-Smtp-Source: AGHT+IEL57syCDdOKjtW5Q2YA0RnmXTdOGxoIuO5KoSN2lxPeEGkp28WlMhPCJW3S3SKZgxKQyritNRFkujx X-Received: by 2002:a53:b688:0:b0:63e:1031:9a40 with SMTP id 956f58d0204a3-63f378c6ac5mr6998390d50.57.1761429737320; Sat, 25 Oct 2025 15:02:17 -0700 (PDT) Received: from postal.iol.unh.edu (postal.iol.unh.edu. [2606:4100:3880:1234::84]) by smtp-relay.gmail.com with ESMTPS id 956f58d0204a3-63f4c3be96csm227159d50.3.2025.10.25.15.02.17 (version=TLS1_2 cipher=ECDHE-ECDSA-AES128-GCM-SHA256 bits=128/128); Sat, 25 Oct 2025 15:02:17 -0700 (PDT) X-Relaying-Domain: iol.unh.edu Date: Sat, 25 Oct 2025 15:02:17 -0700 (PDT) Message-ID: <68fd48e9.050a0220.6002f.ab8bSMTPIN_ADDED_MISSING@mx.google.com> Received: from [172.21.0.2] (unknown [172.18.0.240]) by postal.iol.unh.edu (Postfix) with ESMTP id B40486051830; Sat, 25 Oct 2025 18:02:16 -0400 (EDT) Subject: |WARNING| pw158100-158107 [PATCH] [v5,8/8] doc: update documentation From: dpdklab@iol.unh.edu To: Test Report Cc: dpdk-test-reports@iol.unh.edu In-Reply-To: <20251024215456.282171-9-stephen@networkplumber.org> References: <20251024215456.282171-9-stephen@networkplumber.org> Content-Type: text/plain X-BeenThere: test-report@dpdk.org X-Mailman-Version: 2.1.29 Precedence: list List-Id: automatic DPDK test reports List-Unsubscribe: , List-Archive: List-Post: List-Help: List-Subscribe: , Errors-To: test-report-bounces@dpdk.org Test-Label: iol-compile-amd64-testing Test-Status: WARNING http://dpdk.org/patch/158107 _Testing issues_ Submitter: Stephen Hemminger Date: Friday, October 24 2025 21:54:03 DPDK git baseline: Repo:dpdk Branch: master CommitID:90f838a042f3e1bd663aca16bcdfc4dcd14b47d5 158100-158107 --> testing issues Upstream job id: Generic-DPDK-Compile-Meson#437748 Test environment and result as below: +-------------------------------+--------------------+-------------------+-------------------------+-------------------+------------------+ | Environment | dpdk_meson_compile | dpdk_msvc_compile | dpdk_llvm_clang_compile | dpdk_compile_spdk | dpdk_compile_ovs | +===============================+====================+===================+=========================+===================+==================+ | Ubuntu 20.04 | PASS | SKIPPED | SKIPPED | SKIPPED | SKIPPED | +-------------------------------+--------------------+-------------------+-------------------------+-------------------+------------------+ | FreeBSD 14.2 | PASS | SKIPPED | SKIPPED | SKIPPED | SKIPPED | +-------------------------------+--------------------+-------------------+-------------------------+-------------------+------------------+ | CentOS Stream 9 | PASS | SKIPPED | SKIPPED | WARN | SKIPPED | +-------------------------------+--------------------+-------------------+-------------------------+-------------------+------------------+ | CentOS Stream 10 | PASS | SKIPPED | SKIPPED | SKIPPED | SKIPPED | +-------------------------------+--------------------+-------------------+-------------------------+-------------------+------------------+ | Debian GNU/Linux 12 | PASS | SKIPPED | SKIPPED | WARN | SKIPPED | +-------------------------------+--------------------+-------------------+-------------------------+-------------------+------------------+ | Fedora Linux 42 | PASS | SKIPPED | SKIPPED | WARN | PASS | +-------------------------------+--------------------+-------------------+-------------------------+-------------------+------------------+ | openSUSE Leap 15.6 | PASS | SKIPPED | SKIPPED | SKIPPED | SKIPPED | +-------------------------------+--------------------+-------------------+-------------------------+-------------------+------------------+ | Red Hat Enterprise Linux 8.10 | PASS | SKIPPED | SKIPPED | SKIPPED | SKIPPED | +-------------------------------+--------------------+-------------------+-------------------------+-------------------+------------------+ | Red Hat Enterprise Linux 9.5 | PASS | SKIPPED | SKIPPED | SKIPPED | SKIPPED | +-------------------------------+--------------------+-------------------+-------------------------+-------------------+------------------+ | Ubuntu 22.04 | PASS | SKIPPED | SKIPPED | WARN | SKIPPED | +-------------------------------+--------------------+-------------------+-------------------------+-------------------+------------------+ | Ubuntu 24.04 | PASS | SKIPPED | SKIPPED | WARN | PASS | +-------------------------------+--------------------+-------------------+-------------------------+-------------------+------------------+ | Alpine Linux 3.22.0 | PASS | SKIPPED | SKIPPED | SKIPPED | SKIPPED | +-------------------------------+--------------------+-------------------+-------------------------+-------------------+------------------+ | Windows Server 2022 | SKIPPED | PASS | PASS | SKIPPED | SKIPPED | +-------------------------------+--------------------+-------------------+-------------------------+-------------------+------------------+ ==== 20 line log output for Ubuntu 24.04 (dpdk_compile_spdk): ==== --- Failed to get log output --- ==== End log output ==== Ubuntu 20.04 Kernel: 4.19 Compiler: gcc gcc (Ubuntu 9.4.0-1ubuntu1~20.04.2) 9.4.0 FreeBSD 14.2 Kernel: 14.2-RELEASE Compiler: clang 18.1.6 CentOS Stream 9 Kernel: 5.15 Compiler: gcc gcc (GCC) 11.5.0 20240719 (Red Hat 11.5.0-11) CentOS Stream 10 Kernel: 5.15 Compiler: gcc gcc (GCC) 14.2.1 20250110 (Red Hat 14.2.1-8) Debian GNU/Linux 12 Kernel: 5.15 Compiler: gcc gcc (Debian 12.2.0-14+deb12u1) 12.2.0 Fedora Linux 42 Kernel: 5.15 Compiler: clang gcc (GCC) 15.2.1 20250808 (Red Hat 15.2.1-1) openSUSE Leap 15.6 Kernel: 5.15 Compiler: gcc gcc (SUSE Linux) 7.5.0 Red Hat Enterprise Linux 8.10 Kernel: 5.15 Compiler: gcc gcc (GCC) 8.5.0 20210514 (Red Hat 8.5.0-22) Red Hat Enterprise Linux 9.5 Kernel: 5.15 Compiler: gcc gcc (GCC) 11.5.0 20240719 (Red Hat 11.5.0-2) Ubuntu 22.04 Kernel: 5.15 Compiler: gcc gcc (Ubuntu 11.4.0-1ubuntu1~22.04) 11.4.0 Ubuntu 24.04 Kernel: 5.15 Compiler: gcc gcc (Ubuntu 13.3.0-6ubuntu2~24.04) 13.3.0 Alpine Linux 3.22.0 Kernel: 5.15 Compiler: gcc gcc (Alpine 14.2.0) 14.2.0 Windows Server 2022 Kernel: 10.0.20348.2031 Compiler: clang 15.0.7, gcc 14.1.0 (MinGW), and MSVC VS 19.39.33521 To view detailed results, visit: https://lab.dpdk.org/results/dashboard/patchsets/34382/ UNH-IOL DPDK Community Lab To manage your email subscriptions, visit: https://lab.dpdk.org/results/dashboard/preferences/subscriptions/