From mboxrd@z Thu Jan 1 00:00:00 1970 Return-Path: Received: from mails.dpdk.org (mails.dpdk.org [217.70.189.124]) by inbox.dpdk.org (Postfix) with ESMTP id B053C48979 for ; Sun, 26 Oct 2025 00:24:50 +0200 (CEST) Received: from mails.dpdk.org (localhost [127.0.0.1]) by mails.dpdk.org (Postfix) with ESMTP id AC7C34003C; Sun, 26 Oct 2025 00:24:50 +0200 (CEST) Received: from mail-vk1-f228.google.com (mail-vk1-f228.google.com [209.85.221.228]) by mails.dpdk.org (Postfix) with ESMTP id A9EC74003C for ; Sun, 26 Oct 2025 00:24:49 +0200 (CEST) Received: by mail-vk1-f228.google.com with SMTP id 71dfb90a1353d-54aa5f70513so925231e0c.2 for ; Sat, 25 Oct 2025 15:24:49 -0700 (PDT) DKIM-Signature: v=1; a=rsa-sha256; c=relaxed/relaxed; d=iol.unh.edu; s=unh-iol; t=1761431089; x=1762035889; darn=dpdk.org; h=references:in-reply-to:cc:to:from:subject:message-id:date:from:to :cc:subject:date:message-id:reply-to; bh=X1YJb5OWjbPDmuXUKhXU0MGLsAKsT8EY92RmE8qG3SQ=; b=HxSQlpLMXkG5uZmSY1cluAxmnmhnEpMpHsu6rMZDjIf/CtceOCixheWoLdzcdOzxN2 01aba9edDRb0CqRIgAfAx6D2QcgzDgcxB7pChq6TITRxBxCtL3/6RLmVlCVx3N9bGWT2 iStyV+mg86aObj3aQYaZUtcxkCKnm5wE7N09E= X-Google-DKIM-Signature: v=1; a=rsa-sha256; c=relaxed/relaxed; d=1e100.net; s=20230601; t=1761431089; x=1762035889; h=references:in-reply-to:cc:to:from:subject:message-id:date :x-gm-message-state:from:to:cc:subject:date:message-id:reply-to; bh=X1YJb5OWjbPDmuXUKhXU0MGLsAKsT8EY92RmE8qG3SQ=; b=YhrutoLVNc7Qzxj5eeNt9XLPqbL9bq+5hgzuaMrB0VQBYK/+NirfByHp27qvRlRaSz NzYPXEGTtDc4IqFXD6MpxOJJjDD4cr3Wh2Fb0wQPOYhFEOYRUaXfdbK2sEowJIx8Ggi6 J2Q5g5WKlIIsRwBVDSi6o258EORL/+qndH2zozqkMWwAeSByrK5BVDvVyo7zB1H/vOI2 aTz4UvpAhmufQ3DGGVmeElziA8jxvIr/mZPJ8NsFB3ckxlTjPBEhBDbDcMq9VOoBA2xu 8TA9lYyRsaYwStX1MAJam402TlR2IE4A2unrU6GqejjAx8siwb8Jo8WegFxIdegh/5Za kvFQ== X-Gm-Message-State: AOJu0YyFRQFHi18DZNefynlaqlsdm11c/9bRX6n1jM4KYl1L/M1WZLFP H5hLnMKiC5BhpeQHXorFfQchK0fbGCy/kByrANMQCITkp+IqPrthOMQbFJ1mdzc1OnjWS9/g4zv OhIO/9wdijQN9+nK8S3DMxDr7WjvtnQX/17VAjfGFdko1 X-Gm-Gg: ASbGncuJ/txznfgMsP7VPzQTzVBPioLBzM8krzamKFz8gXG0jULOzOtKB+lWGwd2DLm nn0gbippRX0wYJ/w8rmBHDOfF03CfLzx+2vvwzfJlEzVydqf62bgRzNkH/lsf7o71cn4j2JK+1m o7gZLpXvicHyBx1E7BY1vqkWkbs7hK5t6m1GEVF3sBNNCMK9mAblYuK9mGVJlTjVD70l1wMssVe xZmHUYxh4R79e+DyeBvvcknzu9AA7yecU5GyBfscMrv6K2piGDpjC1nXdvpSKlbHsHXX7z6EWfm GFm19HEguH9jSj/eXky8dgkfW1Vza/HdzQb9yIchB9h+2gF7dWqoPVMbpgJKD7yrLZiuRFsVfch V1Ju0xu+mAsCxDI8d4ydgV2RZGPmECg8= X-Google-Smtp-Source: AGHT+IGNPOBtu7mMviamWloPEESTy1QANzHVsdY/EMcK4T6ezrwurc/sUl4bjGo71WjU51j0RMS0SWNnex/i X-Received: by 2002:a05:6122:3214:b0:557:cc78:91fc with SMTP id 71dfb90a1353d-557ceb31787mr2270360e0c.16.1761431088967; Sat, 25 Oct 2025 15:24:48 -0700 (PDT) Received: from postal.iol.unh.edu (postal.iol.unh.edu. [132.177.123.84]) by smtp-relay.gmail.com with ESMTPS id 71dfb90a1353d-557ddb4f6dbsm371886e0c.6.2025.10.25.15.24.48 (version=TLS1_2 cipher=ECDHE-ECDSA-AES128-GCM-SHA256 bits=128/128); Sat, 25 Oct 2025 15:24:48 -0700 (PDT) X-Relaying-Domain: iol.unh.edu Date: Sat, 25 Oct 2025 15:24:48 -0700 (PDT) Message-ID: <68fd4e30.050a0220.2d0917.18cdSMTPIN_ADDED_MISSING@mx.google.com> Received: from [172.21.0.4] (unknown [172.18.0.240]) by postal.iol.unh.edu (Postfix) with ESMTP id 8B1796051830; Sat, 25 Oct 2025 18:24:48 -0400 (EDT) Subject: |WARNING| pw158108 [PATCH] mbuf: fix build failure if MBUF_HISTORY_D From: dpdklab@iol.unh.edu To: Test Report Cc: dpdk-test-reports@iol.unh.edu In-Reply-To: <20251024222946.323662-1-stephen@networkplumber.org> References: <20251024222946.323662-1-stephen@networkplumber.org> Content-Type: text/plain X-BeenThere: test-report@dpdk.org X-Mailman-Version: 2.1.29 Precedence: list List-Id: automatic DPDK test reports List-Unsubscribe: , List-Archive: List-Post: List-Help: List-Subscribe: , Errors-To: test-report-bounces@dpdk.org Test-Label: iol-compile-amd64-testing Test-Status: WARNING http://dpdk.org/patch/158108 _Testing issues_ Submitter: Stephen Hemminger Date: Friday, October 24 2025 22:29:46 DPDK git baseline: Repo:dpdk Branch: master CommitID:90f838a042f3e1bd663aca16bcdfc4dcd14b47d5 158108 --> testing issues Upstream job id: Generic-DPDK-Compile-Meson#437789 Test environment and result as below: +-------------------------------+-------------------------+-------------------+--------------------+----------------------+------------------+-------------------+ | Environment | dpdk_llvm_clang_compile | dpdk_msvc_compile | dpdk_meson_compile | dpdk_mingw64_compile | dpdk_compile_ovs | dpdk_compile_spdk | +===============================+=========================+===================+====================+======================+==================+===================+ | Windows Server 2022 | PASS | PASS | SKIPPED | PASS | SKIPPED | SKIPPED | +-------------------------------+-------------------------+-------------------+--------------------+----------------------+------------------+-------------------+ | FreeBSD 14.2 | SKIPPED | SKIPPED | PASS | SKIPPED | SKIPPED | SKIPPED | +-------------------------------+-------------------------+-------------------+--------------------+----------------------+------------------+-------------------+ | Ubuntu 20.04 | SKIPPED | SKIPPED | PASS | SKIPPED | SKIPPED | SKIPPED | +-------------------------------+-------------------------+-------------------+--------------------+----------------------+------------------+-------------------+ | Fedora Linux 42 | SKIPPED | SKIPPED | PASS | SKIPPED | PASS | WARN | +-------------------------------+-------------------------+-------------------+--------------------+----------------------+------------------+-------------------+ | CentOS Stream 9 | SKIPPED | SKIPPED | PASS | SKIPPED | SKIPPED | WARN | +-------------------------------+-------------------------+-------------------+--------------------+----------------------+------------------+-------------------+ | CentOS Stream 10 | SKIPPED | SKIPPED | PASS | SKIPPED | SKIPPED | SKIPPED | +-------------------------------+-------------------------+-------------------+--------------------+----------------------+------------------+-------------------+ | Debian GNU/Linux 12 | SKIPPED | SKIPPED | PASS | SKIPPED | SKIPPED | WARN | +-------------------------------+-------------------------+-------------------+--------------------+----------------------+------------------+-------------------+ | openSUSE Leap 15.6 | SKIPPED | SKIPPED | PASS | SKIPPED | SKIPPED | SKIPPED | +-------------------------------+-------------------------+-------------------+--------------------+----------------------+------------------+-------------------+ | Red Hat Enterprise Linux 8.10 | SKIPPED | SKIPPED | PASS | SKIPPED | SKIPPED | SKIPPED | +-------------------------------+-------------------------+-------------------+--------------------+----------------------+------------------+-------------------+ | Red Hat Enterprise Linux 9.5 | SKIPPED | SKIPPED | PASS | SKIPPED | SKIPPED | SKIPPED | +-------------------------------+-------------------------+-------------------+--------------------+----------------------+------------------+-------------------+ | Ubuntu 22.04 | SKIPPED | SKIPPED | PASS | SKIPPED | SKIPPED | WARN | +-------------------------------+-------------------------+-------------------+--------------------+----------------------+------------------+-------------------+ | Ubuntu 24.04 | SKIPPED | SKIPPED | PASS | SKIPPED | PASS | WARN | +-------------------------------+-------------------------+-------------------+--------------------+----------------------+------------------+-------------------+ | Alpine Linux 3.22.0 | SKIPPED | SKIPPED | PASS | SKIPPED | SKIPPED | SKIPPED | +-------------------------------+-------------------------+-------------------+--------------------+----------------------+------------------+-------------------+ ==== 20 line log output for Ubuntu 24.04 (dpdk_compile_spdk): ==== --- Failed to get log output --- ==== End log output ==== Windows Server 2022 Kernel: 10.0.20348.2031 Compiler: clang 15.0.7, gcc 14.1.0 (MinGW), and MSVC VS 19.39.33521 FreeBSD 14.2 Kernel: 14.2-RELEASE Compiler: clang 18.1.6 Ubuntu 20.04 Kernel: 4.19 Compiler: gcc gcc (Ubuntu 9.4.0-1ubuntu1~20.04.2) 9.4.0 Fedora Linux 42 Kernel: 5.15 Compiler: gcc gcc (GCC) 15.2.1 20250808 (Red Hat 15.2.1-1) CentOS Stream 9 Kernel: 5.15 Compiler: gcc gcc (GCC) 11.5.0 20240719 (Red Hat 11.5.0-11) CentOS Stream 10 Kernel: 5.15 Compiler: gcc gcc (GCC) 14.2.1 20250110 (Red Hat 14.2.1-8) Debian GNU/Linux 12 Kernel: 5.15 Compiler: gcc gcc (Debian 12.2.0-14+deb12u1) 12.2.0 openSUSE Leap 15.6 Kernel: 5.15 Compiler: gcc gcc (SUSE Linux) 7.5.0 Red Hat Enterprise Linux 8.10 Kernel: 5.15 Compiler: gcc gcc (GCC) 8.5.0 20210514 (Red Hat 8.5.0-22) Red Hat Enterprise Linux 9.5 Kernel: 5.15 Compiler: gcc gcc (GCC) 11.5.0 20240719 (Red Hat 11.5.0-2) Ubuntu 22.04 Kernel: 5.15 Compiler: gcc gcc (Ubuntu 11.4.0-1ubuntu1~22.04) 11.4.0 Ubuntu 24.04 Kernel: 5.15 Compiler: gcc gcc (Ubuntu 13.3.0-6ubuntu2~24.04) 13.3.0 Alpine Linux 3.22.0 Kernel: 5.15 Compiler: gcc gcc (Alpine 14.2.0) 14.2.0 To view detailed results, visit: https://lab.dpdk.org/results/dashboard/patchsets/34383/ UNH-IOL DPDK Community Lab To manage your email subscriptions, visit: https://lab.dpdk.org/results/dashboard/preferences/subscriptions/