From mboxrd@z Thu Jan 1 00:00:00 1970 Return-Path: Received: from mails.dpdk.org (mails.dpdk.org [217.70.189.124]) by inbox.dpdk.org (Postfix) with ESMTP id D079B48979 for ; Sun, 26 Oct 2025 01:24:42 +0200 (CEST) Received: from mails.dpdk.org (localhost [127.0.0.1]) by mails.dpdk.org (Postfix) with ESMTP id AA09A4003C; Sun, 26 Oct 2025 01:24:42 +0200 (CEST) Received: from mail-pf1-f226.google.com (mail-pf1-f226.google.com [209.85.210.226]) by mails.dpdk.org (Postfix) with ESMTP id 5E6294003C for ; Sun, 26 Oct 2025 01:24:41 +0200 (CEST) Received: by mail-pf1-f226.google.com with SMTP id d2e1a72fcca58-7a4176547bfso581173b3a.2 for ; Sat, 25 Oct 2025 16:24:41 -0700 (PDT) DKIM-Signature: v=1; a=rsa-sha256; c=relaxed/relaxed; d=iol.unh.edu; s=unh-iol; t=1761434680; x=1762039480; darn=dpdk.org; h=cc:to:from:subject:message-id:date:from:to:cc:subject:date :message-id:reply-to; bh=2eGvpH6C3gJSoHC4GwecZDD/b6m7VNSW8BwGHruvZAE=; b=S291D+HiaqjyuLo6K5zd5JVvP+1ckZNSaaKcwcIFlEbwb7ABvQtBf6eaGTKLWLZ0/K U/sT1KRshHVm3wHcGJJqgsAKxRya8ev2Aq4fkc7jS+vBh1UBNLH8Vrs2wPF9pV6jtUxV v8iYPxhooHW2Rw7ErcdcXkRXUORmAz16Vr0mw= X-Google-DKIM-Signature: v=1; a=rsa-sha256; c=relaxed/relaxed; d=1e100.net; s=20230601; t=1761434680; x=1762039480; h=cc:to:from:subject:message-id:date:x-gm-message-state:from:to:cc :subject:date:message-id:reply-to; bh=2eGvpH6C3gJSoHC4GwecZDD/b6m7VNSW8BwGHruvZAE=; b=n9ddwzKZc3cw919dTf1WMd+JSMPw5IshqHdHZfhuwiyrNkvZQK3WNbURDMf1O4WI0s EXVynopOTddud/b/eyyHypL3/xYpog1qa/coVo4rhVRb8ZGtsn5hDtvRS94I5ckLv7lb Gxp5wrc2D2xcY3SdQ0PCgFc7m+znWTDX3mqN/SyZPmrmpP8PE4w+P3+7HyoB4HOTLL0h pSdyFWxZE3LTk76Fhwy/8E59qLppUdP/08BAlm6LdpzB/nLrcVPCDRz2HRgIZD/asKSI 5puVAoFSB/k0y/IUE2jNGuQLjJT/zkJQ/TG+eX2T663afibmc/ILvyFC6XIAfdKPiOc/ qzPg== X-Gm-Message-State: AOJu0Yxy6zswZ3wkKT/ZEBygu0TMpzeTjxTkG6JGBNbzdIg2cEZm+DyS BIWqIV1Jd+VGgxmBWVbouHa6eWRhtPCjwO7QWIBQ5Rz8qlW86DKJ2sm5L7nvbhpuvFq7sFAZTOv yB18WFtXRJFoy1l0OuAOjFNCKaFJZ/epAASMr X-Gm-Gg: ASbGncvJerMXfHrqOjDkD5PzSGs7g4Vlro+dvioxiipKtICiCc3N0rx60UHB8gmOp+u OLrPUFidAx1My4nLKiDn7m6sCQunojGqzxR2G2dDIG0fyw4X31hjbjmXznuIafSWFm3bmzwLXGM V2IJhuFlaBDvsu90bGDoCUtWG5AbBp+8ZqslT2zNs4AvgBpHsAGkQS3VxMUkKU1vYBOvpapTKts z6CM8r9x6HK4AzCokvxWBqoI3Iv51Lf+GH/jkWJE9hGmEWuWc7zQ37E4N2ZM4UzVIdEJLHlM2Yl Idb1DNebElOKdnHT5g4Cpd1/tzgsf3fSu7Ff9nCQ5v+IQv4ouacsB8+994sKkuqgqV1/J4/O1m9 1Mhsi5PqYRrw+ErpwtrQLeUlxetjpRh0= X-Google-Smtp-Source: AGHT+IHgKMro4A340Z9y70zl09hclkHp5Q1aQyPZxVDQBSYgGxc9reIB6qeDcsPrtV+5RCuEYwD9V1PHnp9p X-Received: by 2002:a05:6a20:a10b:b0:32b:70aa:a1d9 with SMTP id adf61e73a8af0-33dead52beemr9482838637.33.1761434680328; Sat, 25 Oct 2025 16:24:40 -0700 (PDT) Received: from postal.iol.unh.edu (postal.iol.unh.edu. [132.177.123.84]) by smtp-relay.gmail.com with ESMTPS id 41be03b00d2f7-b712c59cff9sm226947a12.6.2025.10.25.16.24.40 (version=TLS1_2 cipher=ECDHE-ECDSA-AES128-GCM-SHA256 bits=128/128); Sat, 25 Oct 2025 16:24:40 -0700 (PDT) X-Relaying-Domain: iol.unh.edu Date: Sat, 25 Oct 2025 16:24:40 -0700 (PDT) Message-ID: <68fd5c38.630a0220.248047.ba06SMTPIN_ADDED_MISSING@mx.google.com> Received: from [172.21.0.2] (unknown [172.18.0.240]) by postal.iol.unh.edu (Postfix) with ESMTP id 5956460003F4; Sat, 25 Oct 2025 19:24:39 -0400 (EDT) Subject: |SUCCESS| [GIT MASTER] 3b43ce3f4a54468e7ef65760c2fd7b4d6ee6d9fc From: dpdklab@iol.unh.edu To: Test Report Cc: dpdk-test-reports@iol.unh.edu, Xueming Li , Christian Ehrhardt , Kevin Traynor , Luca Boccassi Content-Type: text/plain X-BeenThere: test-report@dpdk.org X-Mailman-Version: 2.1.29 Precedence: list List-Id: automatic DPDK test reports List-Unsubscribe: , List-Archive: List-Post: List-Help: List-Subscribe: , Errors-To: test-report-bounces@dpdk.org _Testing PASS_ Branch: tags/v22.11 3b43ce3f4a54468e7ef65760c2fd7b4d6ee6d9fc --> testing pass Upstream job id: Generic-DPDK-Compile-Meson#437805 Test environment and result as below: +-------------------------------+--------------------+-------------------------+----------------------+ | Environment | dpdk_meson_compile | dpdk_llvm_clang_compile | dpdk_mingw64_compile | +===============================+====================+=========================+======================+ | Ubuntu 20.04 | PASS | SKIPPED | SKIPPED | +-------------------------------+--------------------+-------------------------+----------------------+ | FreeBSD 14.2 | PASS | SKIPPED | SKIPPED | +-------------------------------+--------------------+-------------------------+----------------------+ | CentOS Stream 9 | PASS | SKIPPED | SKIPPED | +-------------------------------+--------------------+-------------------------+----------------------+ | CentOS Stream 10 | PASS | SKIPPED | SKIPPED | +-------------------------------+--------------------+-------------------------+----------------------+ | Debian GNU/Linux 12 | PASS | SKIPPED | SKIPPED | +-------------------------------+--------------------+-------------------------+----------------------+ | Fedora Linux 42 | PASS | SKIPPED | SKIPPED | +-------------------------------+--------------------+-------------------------+----------------------+ | openSUSE Leap 15.6 | PASS | SKIPPED | SKIPPED | +-------------------------------+--------------------+-------------------------+----------------------+ | Red Hat Enterprise Linux 8.10 | PASS | SKIPPED | SKIPPED | +-------------------------------+--------------------+-------------------------+----------------------+ | Red Hat Enterprise Linux 9.5 | PASS | SKIPPED | SKIPPED | +-------------------------------+--------------------+-------------------------+----------------------+ | Ubuntu 22.04 | PASS | SKIPPED | SKIPPED | +-------------------------------+--------------------+-------------------------+----------------------+ | Ubuntu 24.04 | PASS | SKIPPED | SKIPPED | +-------------------------------+--------------------+-------------------------+----------------------+ | Windows Server 2022 | SKIPPED | PASS | PASS | +-------------------------------+--------------------+-------------------------+----------------------+ Ubuntu 20.04 Kernel: 4.19 Compiler: gcc gcc (Ubuntu 9.4.0-1ubuntu1~20.04.2) 9.4.0 FreeBSD 14.2 Kernel: 14.2-RELEASE Compiler: clang 18.1.6 CentOS Stream 9 Kernel: 5.15 Compiler: gcc gcc (GCC) 11.5.0 20240719 (Red Hat 11.5.0-11) CentOS Stream 10 Kernel: 5.15 Compiler: gcc gcc (GCC) 14.2.1 20250110 (Red Hat 14.2.1-8) Debian GNU/Linux 12 Kernel: 5.15 Compiler: gcc gcc (Debian 12.2.0-14+deb12u1) 12.2.0 Fedora Linux 42 Kernel: 5.15 Compiler: clang gcc (GCC) 15.2.1 20250808 (Red Hat 15.2.1-1) openSUSE Leap 15.6 Kernel: 5.15 Compiler: gcc gcc (SUSE Linux) 7.5.0 Red Hat Enterprise Linux 8.10 Kernel: 5.15 Compiler: gcc gcc (GCC) 8.5.0 20210514 (Red Hat 8.5.0-22) Red Hat Enterprise Linux 9.5 Kernel: 5.15 Compiler: gcc gcc (GCC) 11.5.0 20240719 (Red Hat 11.5.0-2) Ubuntu 22.04 Kernel: 5.15 Compiler: gcc gcc (Ubuntu 11.4.0-1ubuntu1~22.04) 11.4.0 Ubuntu 24.04 Kernel: 5.15 Compiler: gcc gcc (Ubuntu 13.3.0-6ubuntu2~24.04) 13.3.0 Windows Server 2022 Kernel: 10.0.20348.2031 Compiler: clang 15.0.7, gcc 14.1.0 (MinGW), and MSVC VS 19.39.33521 To view detailed results, visit: https://lab.dpdk.org/results/dashboard/tarballs/35342/ UNH-IOL DPDK Community Lab To manage your email subscriptions, visit: https://lab.dpdk.org/results/dashboard/preferences/subscriptions/