From mboxrd@z Thu Jan 1 00:00:00 1970 Return-Path: Received: from mails.dpdk.org (mails.dpdk.org [217.70.189.124]) by inbox.dpdk.org (Postfix) with ESMTP id 7F87748979 for ; Sun, 26 Oct 2025 01:57:07 +0200 (CEST) Received: from mails.dpdk.org (localhost [127.0.0.1]) by mails.dpdk.org (Postfix) with ESMTP id 57C7B4003C; Sun, 26 Oct 2025 01:57:07 +0200 (CEST) Received: from mail-ot1-f100.google.com (mail-ot1-f100.google.com [209.85.210.100]) by mails.dpdk.org (Postfix) with ESMTP id 02AA44003C for ; Sun, 26 Oct 2025 01:57:05 +0200 (CEST) Received: by mail-ot1-f100.google.com with SMTP id 46e09a7af769-7c5338b1d10so475398a34.0 for ; Sat, 25 Oct 2025 16:57:05 -0700 (PDT) DKIM-Signature: v=1; a=rsa-sha256; c=relaxed/relaxed; d=iol.unh.edu; s=unh-iol; t=1761436625; x=1762041425; darn=dpdk.org; h=cc:to:from:subject:message-id:date:from:to:cc:subject:date :message-id:reply-to; bh=Gw47AAqu9psRM0LXFuWiu0kTFLLyH/xE8/hDwxnbclY=; b=BmKn8wzGDXgmLtiM/c1MNRAk1fWbxVL0wwkJCMxDFyZ4TsZm8911gWo0FcQWI4IUDH Wb/pfmJz41tdtl+/G/llBXnE2IoYFsQOBQ90C4g2Xc28rdqtDWCjqywf8vE8m0VL4K+Z 9CF15hgQdtFBC24yo4AM+rGeZQrpB5asjIbMo= X-Google-DKIM-Signature: v=1; a=rsa-sha256; c=relaxed/relaxed; d=1e100.net; s=20230601; t=1761436625; x=1762041425; h=cc:to:from:subject:message-id:date:x-gm-message-state:from:to:cc :subject:date:message-id:reply-to; bh=Gw47AAqu9psRM0LXFuWiu0kTFLLyH/xE8/hDwxnbclY=; b=QZbkGzuna6zXIGVpSCdx0Dz72Wu2Y4F+OdtAuWxvFosIEkNlRBPAmFFkNqp9TIvmN9 86/YMDGgRTLOfqsZvBNTXYn+/5SYwA80y7itFzpyIVAIw0nZSVKiIAXy5SJgEDUC8NPJ Q8dI3tArkIxZe1wl5+e3LLE2FTApbEc0quoaT05l7KU/JM2g3CuygXiGXIYxEtrODZ8x GNea5AVVJ6ZP1j9mNKYg7gayDb4hZSutKha7efeTvYxeUYdBrkwMd3TE9bm44CxpOUhB xu6Q0bUwFxblNDsrxAeUtywdTYrVcuOem6URnxhf6nv0xAyKN65WQtW8cYVgk7dl1QtZ 6qaQ== X-Gm-Message-State: AOJu0YwhMCBNHZv/OOT3jpu6d/ohZ/2asLsLvtgUqYcWQs1NAlwcTVQP 0gaoP6cn3wwLQLzey0FrI7/3xGiQCMJmpzr+puDYQ134but0TBD5Mq8cdPpLhdDeFQTEToGYSjE oaohumx02QON6OYSkHh8uxH7iYCHk2nEe0VyFcIkyC1IQK711/eH4 X-Gm-Gg: ASbGncv8zAW0BfUHjcSW3Vf6qLNFFp5DOGUxqZyR3bhpwLsDGttCIDWQpfCRtYqpW57 /0/7rv495xku2kVechqba9cvRM05AggWS0VdkXBdpE8EnXVKZ92aOE6MAXbVx/w8kIegsqbrcfh xNK3a8plN2zzN3Sx5xgFoXMb7snxUFWrfinr8V32UUcRQqD1StXF/Es501iO784ihakhjcVcbFx sRiirWbYEkjdWbbSLC/C1lknFhzRyehZkAqJC+dTDWQnU8rrtT1p4qHpbw2kP/yGWOmeQ29GGKf UtmUnjSFGoLjN2IPWiquo+d6jHccCyjnwx1NXEoY2XVy4pKr6ZExqilKnWIzDLtz00tb91JHZJL YuMqojT8d X-Google-Smtp-Source: AGHT+IFVIwZO6ak+RgII3mRnRxcu2ApM2i9tBjuCjmJLuBJab56Yzr8/9a7JnxExqSqiynkObgZRWgAIFNLd X-Received: by 2002:a05:6830:a92:b0:7b5:38a0:a3d0 with SMTP id 46e09a7af769-7c27c9c4fc5mr17782822a34.5.1761436625026; Sat, 25 Oct 2025 16:57:05 -0700 (PDT) Received: from postal.iol.unh.edu (postal.iol.unh.edu. [2606:4100:3880:1234::84]) by smtp-relay.gmail.com with ESMTPS id 46e09a7af769-7c530116f4esm256050a34.1.2025.10.25.16.57.04 (version=TLS1_2 cipher=ECDHE-ECDSA-AES128-GCM-SHA256 bits=128/128); Sat, 25 Oct 2025 16:57:05 -0700 (PDT) X-Relaying-Domain: iol.unh.edu Date: Sat, 25 Oct 2025 16:57:05 -0700 (PDT) Message-ID: <68fd63d1.050a0220.39d3fa.c4b4SMTPIN_ADDED_MISSING@mx.google.com> Received: from [172.21.0.2] (unknown [172.18.0.240]) by postal.iol.unh.edu (Postfix) with ESMTP id 7FEBC60003F4; Sat, 25 Oct 2025 19:57:04 -0400 (EDT) Subject: |SUCCESS| [GIT MASTER] 3b43ce3f4a54468e7ef65760c2fd7b4d6ee6d9fc From: dpdklab@iol.unh.edu To: Test Report Cc: dpdk-test-reports@iol.unh.edu, Xueming Li , Christian Ehrhardt , Kevin Traynor , Luca Boccassi Content-Type: text/plain X-BeenThere: test-report@dpdk.org X-Mailman-Version: 2.1.29 Precedence: list List-Id: automatic DPDK test reports List-Unsubscribe: , List-Archive: List-Post: List-Help: List-Subscribe: , Errors-To: test-report-bounces@dpdk.org _Testing PASS_ Branch: tags/v22.11 3b43ce3f4a54468e7ef65760c2fd7b4d6ee6d9fc --> testing pass Upstream job id: Generic-Unit-Test-DPDK#385297 Test environment and result as below: +-----------------+------------------------------+--------------+---------------------------+----------------+ | Environment | cryptodev_sw_snow3g_autotest | lpm_autotest | cryptodev_sw_zuc_autotest | dpdk_unit_test | +=================+==============================+==============+===========================+================+ | Debian 12 (arm) | PASS | SKIPPED | PASS | SKIPPED | +-----------------+------------------------------+--------------+---------------------------+----------------+ | Ubuntu 20.04 | SKIPPED | PASS | SKIPPED | SKIPPED | +-----------------+------------------------------+--------------+---------------------------+----------------+ | Ubuntu 22.04 | SKIPPED | SKIPPED | SKIPPED | PASS | +-----------------+------------------------------+--------------+---------------------------+----------------+ Debian 12 (arm) Kernel: Depends on container host Compiler: gcc (Debian 12.2.0-14) 12.2.0 Ubuntu 20.04 Kernel: 5.4 Compiler: gcc gcc (Ubuntu 9.4.0-1ubuntu1~20.04.2) 9.4.0 Ubuntu 22.04 Kernel: 5.15 Compiler: gcc gcc (Ubuntu 11.4.0-1ubuntu1~22.04.2) 11.4.0 To view detailed results, visit: https://lab.dpdk.org/results/dashboard/tarballs/35342/ UNH-IOL DPDK Community Lab To manage your email subscriptions, visit: https://lab.dpdk.org/results/dashboard/preferences/subscriptions/