From mboxrd@z Thu Jan 1 00:00:00 1970 Return-Path: Received: from mails.dpdk.org (mails.dpdk.org [217.70.189.124]) by inbox.dpdk.org (Postfix) with ESMTP id E3907489D7 for ; Sun, 26 Oct 2025 02:12:34 +0200 (CEST) Received: from mails.dpdk.org (localhost [127.0.0.1]) by mails.dpdk.org (Postfix) with ESMTP id C0D324003C; Sun, 26 Oct 2025 02:12:34 +0200 (CEST) Received: from mail-qv1-f98.google.com (mail-qv1-f98.google.com [209.85.219.98]) by mails.dpdk.org (Postfix) with ESMTP id 1BDE14003C for ; Sun, 26 Oct 2025 02:12:33 +0200 (CEST) Received: by mail-qv1-f98.google.com with SMTP id 6a1803df08f44-87be45cba29so30497506d6.2 for ; Sat, 25 Oct 2025 17:12:33 -0700 (PDT) DKIM-Signature: v=1; a=rsa-sha256; c=relaxed/relaxed; d=iol.unh.edu; s=unh-iol; t=1761437552; x=1762042352; darn=dpdk.org; h=references:in-reply-to:cc:to:from:subject:message-id:date:from:to :cc:subject:date:message-id:reply-to; bh=jEijIPjNoOzxd8IaRkx3slwcKMXaAK8qfYzEaWW2ugA=; b=NVr40N2ptsXTtBJ86uTgBZW11qSy282mHeeCWv/E520UPBGm4VbEZ0R0whzlQbZegi w5qqD5KiKyqFJu8rO+Sqe4Li0mWivCX3XHjrKPSVuwIH3UPMJsZTs31AM3X1cukyJ3Dp BwzmAQYpAWX6vs/DhW4G/UV20B0SO+UZlw/4M= X-Google-DKIM-Signature: v=1; a=rsa-sha256; c=relaxed/relaxed; d=1e100.net; s=20230601; t=1761437552; x=1762042352; h=references:in-reply-to:cc:to:from:subject:message-id:date :x-gm-message-state:from:to:cc:subject:date:message-id:reply-to; bh=jEijIPjNoOzxd8IaRkx3slwcKMXaAK8qfYzEaWW2ugA=; b=k4HnwEcHDaK4C7NBALr3ly4clFA+D8QD1doXnA4f1JkPIymW30IoJpXUir9VZ8EnB1 Uii73aPVpLIkCjMCo2+dP1Qn2QbNbeaMnq+L19yy2X+6QkxU60ysmTOWUXWHPt7nG36I IA/wlaN3tg/96+DtawA6gVlSy1fsSF/tXWLe8RFQIFUuu8U2VOwea1c2146cpKhUR276 PXK08gvpWJxT4N9unnEvl0nxzMJ/VNp+yzwaUCYB4sHy9nbwWfkXNfaL99Hs4k56ZrbM V/T2KpGE0JJF/MkA3E+7Ted2ZuaXmsZkPXelOHAp5xiPhrF9RbZbghVbwXKcZxI+thez CQvg== X-Gm-Message-State: AOJu0Yw1sLDMedJSi21Jjq219ZNz1WGmILZc85MUU0y8dY82aGaLOsi2 zZ/TiHkLI5FyxtEbSX+3ydmLnd74ptOA+d/vlbGTKMqYU3g5TDkXeuHooT3OU6yG/9cdJ+5tec6 kwBmSS4VW3DUfhY3KvxDWC77Tb/DcELWhby78bhSmLi4qjhsdQsy4hWXAzn6L X-Gm-Gg: ASbGnctCpatyKnybeed1w+8R6SdZwsYIjPl0axPcLCcKLB4aIX8ncC5CiMNVKGVLB/9 NMWqqkZbLwF/lbcaPEKukO4FCyNW8pSj/KAtsQTflMNT1Nq7rpw/tUSndDexhMBPMP91u40IVur bxCKnSrGNdXv7jVBr12C7DmtIRzobT7QHQzbC6B2dzkSlZnh+Ra1soyamVjFqkFIayYU8K4qzff lXmg4PsBp3zWjFa9vk0RoZeQkixYOzQ+3QZF/FpY6PgwcvNPWS50I6wGl77BmU0jn+XnjakXQDZ SYF6AR4VtfU/8MNhXHM3vgbUg15xU+54O82T/XYdB+9AICMP3UNZ639lMAtz01+jyeqcQzewReJ wxSpCxLFm X-Google-Smtp-Source: AGHT+IEurkWbEkxtA6OHXY2E/mb62DBd30tjjJ5lglTRY+Kn4Dz+Via/Tx6XYWlerjN5lHW3UMeXg6PdyI6t X-Received: by 2002:ad4:5ae4:0:b0:875:a069:8839 with SMTP id 6a1803df08f44-87c2061da1dmr413802476d6.41.1761437552487; Sat, 25 Oct 2025 17:12:32 -0700 (PDT) Received: from postal.iol.unh.edu (postal.iol.unh.edu. [2606:4100:3880:1234::84]) by smtp-relay.gmail.com with ESMTPS id 6a1803df08f44-87fc48dc74esm3419576d6.2.2025.10.25.17.12.32 (version=TLS1_2 cipher=ECDHE-ECDSA-AES128-GCM-SHA256 bits=128/128); Sat, 25 Oct 2025 17:12:32 -0700 (PDT) X-Relaying-Domain: iol.unh.edu Date: Sat, 25 Oct 2025 17:12:32 -0700 (PDT) Message-ID: <68fd6770.050a0220.c59a7.130eSMTPIN_ADDED_MISSING@mx.google.com> Received: from [172.21.0.4] (unknown [172.18.0.240]) by postal.iol.unh.edu (Postfix) with ESMTP id 37ECA6051830; Sat, 25 Oct 2025 20:12:32 -0400 (EDT) Subject: |SUCCESS| pw158094 [PATCH] app/compress-perf: fix coverity issue From: dpdklab@iol.unh.edu To: Test Report Cc: dpdk-test-reports@iol.unh.edu, Akhil Goyal In-Reply-To: <20251024184745.1698409-1-svaze@qti.qualcomm.com> References: <20251024184745.1698409-1-svaze@qti.qualcomm.com> Content-Type: text/plain X-BeenThere: test-report@dpdk.org X-Mailman-Version: 2.1.29 Precedence: list List-Id: automatic DPDK test reports List-Unsubscribe: , List-Archive: List-Post: List-Help: List-Subscribe: , Errors-To: test-report-bounces@dpdk.org Test-Label: iol-compile-arm64-testing Test-Status: SUCCESS http://dpdk.org/patch/158094 _Testing PASS_ Submitter: Sameer Vaze Date: Friday, October 24 2025 18:47:45 DPDK git baseline: Repo:dpdk-next-crypto Branch: master CommitID:6edcec237e31fcdb848cca6c151ee7a5bf057c28 158094 --> testing pass Upstream job id: Generic-DPDK-Compile-Meson#437656 Test environment and result as below: +------------------------------+--------------------+ | Environment | dpdk_meson_compile | +==============================+====================+ | Ubuntu 20.04 | PASS | +------------------------------+--------------------+ | Red Hat Enterprise Linux 9.5 | PASS | +------------------------------+--------------------+ | Debian GNU/Linux 12 | PASS | +------------------------------+--------------------+ | Fedora Linux 42 | PASS | +------------------------------+--------------------+ | Ubuntu 22.04 | PASS | +------------------------------+--------------------+ | Ubuntu 24.04 | PASS | +------------------------------+--------------------+ | CentOS Stream 9 | PASS | +------------------------------+--------------------+ | CentOS Stream 10 | PASS | +------------------------------+--------------------+ Ubuntu 20.04 Kernel: 5.15 Compiler: clang gcc (Ubuntu 9.4.0-1ubuntu1~20.04.2) 9.4.0 Red Hat Enterprise Linux 9.5 Kernel: 5.4 Compiler: gcc gcc (GCC) 11.5.0 20240719 (Red Hat 11.5.0-2) Debian GNU/Linux 12 Kernel: 5.4 Compiler: gcc gcc (Debian 12.2.0-14+deb12u1) 12.2.0 Fedora Linux 42 Kernel: 5.4 Compiler: gcc gcc (GCC) 15.2.1 20250808 (Red Hat 15.2.1-1) Ubuntu 22.04 Kernel: 5.4 Compiler: gcc gcc (Ubuntu 11.4.0-1ubuntu1~22.04) 11.4.0 Ubuntu 24.04 Kernel: 5.4 Compiler: gcc gcc (Ubuntu 13.3.0-6ubuntu2~24.04) 13.3.0 CentOS Stream 9 Kernel: 5.4 Compiler: gcc gcc (GCC) 11.5.0 20240719 (Red Hat 11.5.0-11) CentOS Stream 10 Kernel: 5.4 Compiler: gcc gcc (GCC) 14.2.1 20250110 (Red Hat 14.2.1-8) To view detailed results, visit: https://lab.dpdk.org/results/dashboard/patchsets/34377/ UNH-IOL DPDK Community Lab To manage your email subscriptions, visit: https://lab.dpdk.org/results/dashboard/preferences/subscriptions/