From mboxrd@z Thu Jan 1 00:00:00 1970 Return-Path: Received: from mails.dpdk.org (mails.dpdk.org [217.70.189.124]) by inbox.dpdk.org (Postfix) with ESMTP id F0B28489D7 for ; Sun, 26 Oct 2025 02:13:33 +0200 (CEST) Received: from mails.dpdk.org (localhost [127.0.0.1]) by mails.dpdk.org (Postfix) with ESMTP id E92C54028B; Sun, 26 Oct 2025 02:13:33 +0200 (CEST) Received: from mail-yx1-f97.google.com (mail-yx1-f97.google.com [74.125.224.97]) by mails.dpdk.org (Postfix) with ESMTP id 39FE44003C for ; Sun, 26 Oct 2025 02:13:32 +0200 (CEST) Received: by mail-yx1-f97.google.com with SMTP id 956f58d0204a3-63e35e48a25so3603729d50.1 for ; Sat, 25 Oct 2025 17:13:32 -0700 (PDT) DKIM-Signature: v=1; a=rsa-sha256; c=relaxed/relaxed; d=iol.unh.edu; s=unh-iol; t=1761437611; x=1762042411; darn=dpdk.org; h=references:in-reply-to:cc:to:from:subject:message-id:date:from:to :cc:subject:date:message-id:reply-to; bh=V6LOS7bLliRychRzZG6n1Rb1vOhq9w7VIx1UIkk34Ic=; b=UcEsyBIlERSXIACCaHn4Wez7rNCuUoew+MBC+FYXGo4dTc6okFj3f7xx19e/UFHCif kQIH0UW+uwO2akRpXC1mTdYg/BPwVqNS/3dc0j0O953PxvtklaIGUmwW0F/mmzZVANo5 O1R1VD1DbexJv4IZtw7plNvUpf55NiO2g7E7o= X-Google-DKIM-Signature: v=1; a=rsa-sha256; c=relaxed/relaxed; d=1e100.net; s=20230601; t=1761437611; x=1762042411; h=references:in-reply-to:cc:to:from:subject:message-id:date :x-gm-message-state:from:to:cc:subject:date:message-id:reply-to; bh=V6LOS7bLliRychRzZG6n1Rb1vOhq9w7VIx1UIkk34Ic=; b=JbZ7Yk7DoAzCmvrQQp+CJmkaSw3YfVZbjkCBuJ1BjK6ggByYLAJ457cf99L8KboiMu TomAXXZs648tPKgv3hqta2fpUBSm4p3hcKqvFvGBKm/VAruwwtNxIwQYMu2Y5j+3yywU MbMGQFTpxM+gtNvkZxMZtP+fzhSQKJCnmgjaRfN/lS0ti5Qb0JHddSZnYmNnVuFD+ldw bsby5gMF3dvVZj9F/il+vAdpGeDvLkZOwwp0189R3zYVI6tM621jKtDcCRZoezLiRhBf Joqh2tXetBv9TTxXj0mdtgrc4lGwDf9U80XL6J1fL0gZ9VozLbdkK07UXcQr6fu2VJ0f +yBQ== X-Gm-Message-State: AOJu0Yze+eFa2jBI86Ie0GdFPDI5BFLdlBtIgO5s9Ft9Ldagve3Ot5hh 3zgNwLj7oNPHlwEvFcKHK213onx292dGpjvAETpfVt29UvOQut2DtBXpPbVwdJWI7Ph1d9wPGx+ 79fEv47Fzrgnjj+SKKlmdgfeHXvVcd8/U+29Xm0EwdP2bNFgenewN1suPv4uv X-Gm-Gg: ASbGnct4BPq00GYhbQ8A5Szc6bJSh/sAmey8LhsDhQOo/ssNCU9q9ecymZnoqE6RtCW 3qdSzK00dVMwIqC2q4+Yus/dYXopUi0Q52tAuuVa87g5XSlxfpyP3rbXwexPx3mI17LM9teZpli mOtV1NApgfR8XOW0ZKVdtteVWTEVOfcZBM9c/UyIWq0iyzhMlzWe0ry+kujsDVMxDz6RMZBBMHT ypc4o/8WTKYzsIVnNkF1NfWR/RoIKDbErSPnO+Rnzl6IQTnsFscxC1ZruhQyXmWGmHuSovOKYfj cPxkYKJL3EEGlWKjYKR7aELvwNX/CYj4/JI51C0pIFis/EJ+YFpMaLA6aT3zTlBDJwIpPdxguf8 P4UyGC68e X-Google-Smtp-Source: AGHT+IFeGQ14HDyukPp7jw8S6rz2BDENmJ7xLCtlxhb3VTQtZNk731wd118fg0nxoOftvLYlzhWfSCUvdUqn X-Received: by 2002:a05:690e:4083:b0:636:15d5:aae5 with SMTP id 956f58d0204a3-63f434f5fafmr5815519d50.10.1761437611558; Sat, 25 Oct 2025 17:13:31 -0700 (PDT) Received: from postal.iol.unh.edu (postal.iol.unh.edu. [2606:4100:3880:1234::84]) by smtp-relay.gmail.com with ESMTPS id 956f58d0204a3-63f4c471471sm257172d50.14.2025.10.25.17.13.31 (version=TLS1_2 cipher=ECDHE-ECDSA-AES128-GCM-SHA256 bits=128/128); Sat, 25 Oct 2025 17:13:31 -0700 (PDT) X-Relaying-Domain: iol.unh.edu Date: Sat, 25 Oct 2025 17:13:31 -0700 (PDT) Message-ID: <68fd67ab.530a0220.3bfbf6.c280SMTPIN_ADDED_MISSING@mx.google.com> Received: from [172.21.0.2] (unknown [172.18.0.240]) by postal.iol.unh.edu (Postfix) with ESMTP id 3FF836051830; Sat, 25 Oct 2025 20:13:31 -0400 (EDT) Subject: |SUCCESS| pw158089-158090 [PATCH] [v3,2/2] dts: add QinQ test suite From: dpdklab@iol.unh.edu To: Test Report Cc: dpdk-test-reports@iol.unh.edu In-Reply-To: <20251024181606.604135-2-dmarx@iol.unh.edu> References: <20251024181606.604135-2-dmarx@iol.unh.edu> Content-Type: text/plain X-BeenThere: test-report@dpdk.org X-Mailman-Version: 2.1.29 Precedence: list List-Id: automatic DPDK test reports List-Unsubscribe: , List-Archive: List-Post: List-Help: List-Subscribe: , Errors-To: test-report-bounces@dpdk.org Test-Label: iol-compile-arm64-testing Test-Status: SUCCESS http://dpdk.org/patch/158090 _Testing PASS_ Submitter: Dean Marx Date: Friday, October 24 2025 18:16:06 DPDK git baseline: Repo:dpdk-next-dts Branch: master CommitID:c1abcee5a9656fb4890b733e6051aa604c60f146 158089-158090 --> testing pass Upstream job id: Generic-DPDK-Compile-Meson#437635 Test environment and result as below: +------------------------------+--------------------+ | Environment | dpdk_meson_compile | +==============================+====================+ | Fedora Linux 42 | PASS | +------------------------------+--------------------+ | Red Hat Enterprise Linux 9.5 | PASS | +------------------------------+--------------------+ | Ubuntu 20.04 | PASS | +------------------------------+--------------------+ | Debian GNU/Linux 12 | PASS | +------------------------------+--------------------+ | Ubuntu 22.04 | PASS | +------------------------------+--------------------+ | Ubuntu 24.04 | PASS | +------------------------------+--------------------+ | CentOS Stream 9 | PASS | +------------------------------+--------------------+ | CentOS Stream 10 | PASS | +------------------------------+--------------------+ Fedora Linux 42 Kernel: 5.4 Compiler: clang gcc (GCC) 15.2.1 20250808 (Red Hat 15.2.1-1) Red Hat Enterprise Linux 9.5 Kernel: 5.4 Compiler: gcc gcc (GCC) 11.5.0 20240719 (Red Hat 11.5.0-2) Ubuntu 20.04 Kernel: 5.15 Compiler: aarch64-linux-gnu-gcc gcc (Ubuntu 9.4.0-1ubuntu1~20.04.2) 9.4.0 Debian GNU/Linux 12 Kernel: 5.4 Compiler: gcc gcc (Debian 12.2.0-14+deb12u1) 12.2.0 Ubuntu 22.04 Kernel: 5.4 Compiler: gcc gcc (Ubuntu 11.4.0-1ubuntu1~22.04) 11.4.0 Ubuntu 24.04 Kernel: 5.4 Compiler: gcc gcc (Ubuntu 13.3.0-6ubuntu2~24.04) 13.3.0 CentOS Stream 9 Kernel: 5.4 Compiler: gcc gcc (GCC) 11.5.0 20240719 (Red Hat 11.5.0-11) CentOS Stream 10 Kernel: 5.4 Compiler: gcc gcc (GCC) 14.2.1 20250110 (Red Hat 14.2.1-8) To view detailed results, visit: https://lab.dpdk.org/results/dashboard/patchsets/34375/ UNH-IOL DPDK Community Lab To manage your email subscriptions, visit: https://lab.dpdk.org/results/dashboard/preferences/subscriptions/