From mboxrd@z Thu Jan 1 00:00:00 1970 Return-Path: Received: from mails.dpdk.org (mails.dpdk.org [217.70.189.124]) by inbox.dpdk.org (Postfix) with ESMTP id AB39B489D7 for ; Sun, 26 Oct 2025 02:38:39 +0200 (CEST) Received: from mails.dpdk.org (localhost [127.0.0.1]) by mails.dpdk.org (Postfix) with ESMTP id 812AA4003C; Sun, 26 Oct 2025 02:38:39 +0200 (CEST) Received: from mail-pf1-f228.google.com (mail-pf1-f228.google.com [209.85.210.228]) by mails.dpdk.org (Postfix) with ESMTP id 4DD734003C for ; Sun, 26 Oct 2025 02:38:38 +0200 (CEST) Received: by mail-pf1-f228.google.com with SMTP id d2e1a72fcca58-793021f348fso2858513b3a.1 for ; Sat, 25 Oct 2025 17:38:38 -0700 (PDT) DKIM-Signature: v=1; a=rsa-sha256; c=relaxed/relaxed; d=iol.unh.edu; s=unh-iol; t=1761439117; x=1762043917; darn=dpdk.org; h=cc:to:from:subject:message-id:date:from:to:cc:subject:date :message-id:reply-to; bh=Ny/Awb3M0X3N4UzQByhVUpvCBY4LZ9aHCed9f9K95t8=; b=Q1WJDstE/tsbY7IJx0PIOcFUoWeR6q/HlwUodg63u0ENpUWXhg4lbmllRJciRCuQAA CxWPkkcGyxeASWWBHD97BKs06kv8iKFT3wLVn7/zrlgm/cBNS4srfNhXjHjo7ryIwKt4 GNmdyCD7G2AckGfqutwjaaoODvoV43VR6k0jM= X-Google-DKIM-Signature: v=1; a=rsa-sha256; c=relaxed/relaxed; d=1e100.net; s=20230601; t=1761439117; x=1762043917; h=cc:to:from:subject:message-id:date:x-gm-message-state:from:to:cc :subject:date:message-id:reply-to; bh=Ny/Awb3M0X3N4UzQByhVUpvCBY4LZ9aHCed9f9K95t8=; b=m9JMEFCldc07j+HDTpB6ePk3FYtl/CHWzYNY6JuMH38sa4bVm/9S50VGwhzREr68w3 P9f3G9fmhE5kCfQXR1sYf0EjVQy1LG1PpigGnPaTZKuPHysiLLKC9LG2rAeQsA1TYMqA LB2ZfkPpJdIkLGfrPx1wM0P/CukhFfJxPbcc9MEBnq/FWII1c52TM/s+DKaqiIxVbGI5 ab8rBOWanRT++hJR9rkk7NzmoPruXHb6mhrJ1GMfqdYYiBe3EFbKviBjYmTVVYrqgYBE 5y1IIhM2ZXi0P79vS63Ft4VWf6p6hbPyA3lNJJDFDOoQKDjZtsa2uUVJecbAAGyp3z0S zP6g== X-Gm-Message-State: AOJu0YyG2gKGWcsenOH8EszIy+9bbkS2uHOcfkl3uSKdm9symfF9J097 Y2eyCFtStzrLJC3MIqrgzvD8HiudXvP5vnlxBtbMsSMcJMmF9i+etOoXbgJX31KLzG/P749xGt+ h7O3j9mf3RwaYNdUc7zI1H91+49aq+MnDFTe0hxisb8p6 X-Gm-Gg: ASbGncsoeVRg0LyQ5jRGFFdEDxDIu8nvVQM3mbdgUb2Q7kDoJsli9rhUIgat2SEYCyO Oo+RRwHI4QG3hvKMfeD7d019YfP6qlNmptpfiAOar05KeZDTunYABeJFgljshuTUfF57NhMBzgJ GPOpPyLgwUOE4CT83EHX5a4sT/JSwVp2O//J6FspB76PDGdZGLk8lyd0pmgO5kRf7d2fCfC1OOH GXgLN4d1Mf4uFOpovYHvYZRdaUCAo2daN9wbjjcptjpHpcwRVnNkLiVl20UA7lnLlMy2UQbLx7A QyvV+g95nHSaF9jr2CwIT8JXfLIQZV3SHu13DKF7RHAMMdjEAXYGTKAagIxoT+cp5e/qA8GKBSU 0aadBKEVpkoiDIoFabVRS63k2QOEC77c= X-Google-Smtp-Source: AGHT+IFVYbpSAHMRmPTtSrtnDryPHpqaEAfYit4cUBOlZ5SDVWmQlMFUfh0655WG2UmNmbC2TeoLqNnexojL X-Received: by 2002:a17:902:f706:b0:269:6e73:b90a with SMTP id d9443c01a7336-290c9ca6b11mr387223325ad.15.1761439117392; Sat, 25 Oct 2025 17:38:37 -0700 (PDT) Received: from postal.iol.unh.edu (postal.iol.unh.edu. [132.177.123.84]) by smtp-relay.gmail.com with ESMTPS id d9443c01a7336-29498d274d7sm3377055ad.34.2025.10.25.17.38.37 (version=TLS1_2 cipher=ECDHE-ECDSA-AES128-GCM-SHA256 bits=128/128); Sat, 25 Oct 2025 17:38:37 -0700 (PDT) X-Relaying-Domain: iol.unh.edu Date: Sat, 25 Oct 2025 17:38:37 -0700 (PDT) Message-ID: <68fd6d8d.170a0220.257c2.000eSMTPIN_ADDED_MISSING@mx.google.com> Received: from [172.21.0.4] (unknown [172.18.0.240]) by postal.iol.unh.edu (Postfix) with ESMTP id 86BC06051830; Sat, 25 Oct 2025 20:38:36 -0400 (EDT) Subject: |SUCCESS| [GIT MASTER] 39b54f2dcf44ad1f91eabc7080cd5dea763607fd From: dpdklab@iol.unh.edu To: Test Report Cc: dpdk-test-reports@iol.unh.edu Content-Type: text/plain X-BeenThere: test-report@dpdk.org X-Mailman-Version: 2.1.29 Precedence: list List-Id: automatic DPDK test reports List-Unsubscribe: , List-Archive: List-Post: List-Help: List-Subscribe: , Errors-To: test-report-bounces@dpdk.org _Testing PASS_ Branch: dpdk 39b54f2dcf44ad1f91eabc7080cd5dea763607fd --> testing pass Upstream job id: Windows-Compile-DPDK-Native#31900 Test environment and result as below: +---------------------+--------------------+-------------------------+-------------------+----------------------+ | Environment | dpdk_meson_compile | dpdk_llvm_clang_compile | dpdk_msvc_compile | dpdk_mingw64_compile | +=====================+====================+=========================+===================+======================+ | Ubuntu 20.04 | PASS | SKIPPED | SKIPPED | SKIPPED | +---------------------+--------------------+-------------------------+-------------------+----------------------+ | FreeBSD 14.2 | PASS | SKIPPED | SKIPPED | SKIPPED | +---------------------+--------------------+-------------------------+-------------------+----------------------+ | Windows Server 2022 | SKIPPED | PASS | PASS | PASS | +---------------------+--------------------+-------------------------+-------------------+----------------------+ Ubuntu 20.04 Kernel: 4.19 Compiler: gcc gcc (Ubuntu 9.4.0-1ubuntu1~20.04.2) 9.4.0 FreeBSD 14.2 Kernel: 14.2-RELEASE Compiler: clang 18.1.6 Windows Server 2022 Kernel: 10.0.20348.2031 Compiler: clang 15.0.7, gcc 14.1.0 (MinGW), and MSVC VS 19.39.33521 To view detailed results, visit: https://lab.dpdk.org/results/dashboard/tarballs/35346/ UNH-IOL DPDK Community Lab To manage your email subscriptions, visit: https://lab.dpdk.org/results/dashboard/preferences/subscriptions/