From mboxrd@z Thu Jan 1 00:00:00 1970 Return-Path: Received: from mails.dpdk.org (mails.dpdk.org [217.70.189.124]) by inbox.dpdk.org (Postfix) with ESMTP id C541D489D8 for ; Sun, 26 Oct 2025 02:03:00 +0100 (CET) Received: from mails.dpdk.org (localhost [127.0.0.1]) by mails.dpdk.org (Postfix) with ESMTP id 9ADA04003C; Sun, 26 Oct 2025 02:03:00 +0100 (CET) Received: from mail-qv1-f98.google.com (mail-qv1-f98.google.com [209.85.219.98]) by mails.dpdk.org (Postfix) with ESMTP id 0E06D4003C for ; Sun, 26 Oct 2025 02:03:00 +0100 (CET) Received: by mail-qv1-f98.google.com with SMTP id 6a1803df08f44-87c237eca60so27181846d6.1 for ; Sat, 25 Oct 2025 18:02:59 -0700 (PDT) DKIM-Signature: v=1; a=rsa-sha256; c=relaxed/relaxed; d=iol.unh.edu; s=unh-iol; t=1761440579; x=1762045379; darn=dpdk.org; h=cc:to:from:subject:message-id:date:from:to:cc:subject:date :message-id:reply-to; bh=MwZVPbEGiaNzKSvMwjVmHbilNNtBKmOtODfHP98rsM8=; b=CuPkEDJ401Ib0/USZmajYuyDi5g2wDyG3e3GzlPfYJwmM3Uf6HzWVeSAIS69y5DaH0 liYth7x9P6QZLrArw74FYolioad7EuIVPnLERHkG1CUFPcgUHegwhEuLTr2Te8r63JEB mxbGK1xoGiBczlo2zKoH3ZdEG8+G9L043wvyk= X-Google-DKIM-Signature: v=1; a=rsa-sha256; c=relaxed/relaxed; d=1e100.net; s=20230601; t=1761440579; x=1762045379; h=cc:to:from:subject:message-id:date:x-gm-message-state:from:to:cc :subject:date:message-id:reply-to; bh=MwZVPbEGiaNzKSvMwjVmHbilNNtBKmOtODfHP98rsM8=; b=c8XT4j4odSLWvok+6L01drqFnkzOdKDp4+mZNoZDxcJXz1LYmRlga1F1hTi3Co51Gz 2shQoFZzpY2cfZbOakjY5otYZ6IIva3vrNFn80DBLHe+xJW3YJBB5iyUB53nFCivB9JW ufShvjtN+tvhnSJ7rmV61M3gUf6rws6+ouGAch0f85hILfBjO9E947rv1S3bIwOc+2Hl frhNTcHhllygKJm6RLlJnUXQ/GjSGV1pT15WyUhzKt5DJ0RWggTUiOfr6TCvVVFr5GwK ZoPuUCzO/S8uvTHhiRfhFAQsZr8mWpkVBEaTuWi6maPtdy1MNVw4esFJGVKtcaxmZglI aiIA== X-Gm-Message-State: AOJu0YxrfXJfAtb+bNbb1RJvFcZER+XxZTcttQEc/JHEufiJvReD6CbV sCei0+kvbMuwhg1SAuZ/mELpcCR69rJUw1IIba+uGu3zHeWlHU7yeROfTCJbaMAi8HgbofmO9AU xrQGoDe0cvIhBVaPQ+WRIDB2iqQnjUy6SubL+iC4yJPlJIclgGUqU X-Gm-Gg: ASbGncvuoSML68W0PLApbsr9NGIJL6SFdYPpFiLWqMwVXdQudxJAtKm/DDUa176zd/8 78SS4eq1JBDipkhpvdO0F2UP5Q/9gaDKxltF48JM3GM9wzSO2xnqp3xL51j3bt/mzJajekZSyRg 4n97UQYMUmGIBcpinh5KBWrDCcxux7BVoFpSiyDwBfdU7FQ/kpvF0M5C5lOQw3/4qc6X0ULv3zB nIogisgfmKZ/a/83J2mE+NdvS8JY3YWbaFcSxvUEgCpx1RFegKm5knoUwaZ+DlNWN/T1e5WvL2J AitusFx2zz7lOKQloyZY+uXTIPUT6cIRd+onbRt2/FLNaSDGiXRqp7ZgHEdr/kfq/sqnuKpuKdN Cokxhg7Eh X-Google-Smtp-Source: AGHT+IG/EUqE8VYsvlk7/UaA5dzr/HKTlYsd0aQV6g8nDE+wnd002oWfucQ0ZDE2XAZD+VjdFW6FtGe928pH X-Received: by 2002:a05:6214:caa:b0:767:cad6:42a6 with SMTP id 6a1803df08f44-87fb6360dd7mr99693826d6.6.1761440579414; Sat, 25 Oct 2025 18:02:59 -0700 (PDT) Received: from postal.iol.unh.edu (postal.iol.unh.edu. [2606:4100:3880:1234::84]) by smtp-relay.gmail.com with ESMTPS id 6a1803df08f44-87fc494949csm3164206d6.15.2025.10.25.18.02.59 (version=TLS1_2 cipher=ECDHE-ECDSA-AES128-GCM-SHA256 bits=128/128); Sat, 25 Oct 2025 18:02:59 -0700 (PDT) X-Relaying-Domain: iol.unh.edu Date: Sat, 25 Oct 2025 18:02:59 -0700 (PDT) Message-ID: <68fd7343.050a0220.2eb64b.ec52SMTPIN_ADDED_MISSING@mx.google.com> Received: from [172.21.0.2] (unknown [172.18.0.240]) by postal.iol.unh.edu (Postfix) with ESMTP id 212406051830; Sat, 25 Oct 2025 21:02:59 -0400 (EDT) Subject: |SUCCESS| [GIT MASTER] b287e404643aeab5bb5db084c142789df187844e From: dpdklab@iol.unh.edu To: Test Report Cc: dpdk-test-reports@iol.unh.edu, Xueming Li , Christian Ehrhardt , Kevin Traynor , Luca Boccassi Content-Type: text/plain X-BeenThere: test-report@dpdk.org X-Mailman-Version: 2.1.29 Precedence: list List-Id: automatic DPDK test reports List-Unsubscribe: , List-Archive: List-Post: List-Help: List-Subscribe: , Errors-To: test-report-bounces@dpdk.org _Testing PASS_ Branch: tags/v24.11 b287e404643aeab5bb5db084c142789df187844e --> testing pass Upstream job id: Generic-DPDK-Compile-Meson#437833 Test environment and result as below: +-------------------------------+-------------------+--------------------+-------------------------+----------------------+-------------------+------------------+ | Environment | dpdk_msvc_compile | dpdk_meson_compile | dpdk_llvm_clang_compile | dpdk_mingw64_compile | dpdk_compile_spdk | dpdk_compile_ovs | +===============================+===================+====================+=========================+======================+===================+==================+ | Windows Server 2022 | PASS | SKIPPED | PASS | PASS | SKIPPED | SKIPPED | +-------------------------------+-------------------+--------------------+-------------------------+----------------------+-------------------+------------------+ | FreeBSD 14.2 | SKIPPED | PASS | SKIPPED | SKIPPED | SKIPPED | SKIPPED | +-------------------------------+-------------------+--------------------+-------------------------+----------------------+-------------------+------------------+ | Ubuntu 20.04 | SKIPPED | PASS | SKIPPED | SKIPPED | SKIPPED | SKIPPED | +-------------------------------+-------------------+--------------------+-------------------------+----------------------+-------------------+------------------+ | CentOS Stream 9 | SKIPPED | PASS | SKIPPED | SKIPPED | PASS | SKIPPED | +-------------------------------+-------------------+--------------------+-------------------------+----------------------+-------------------+------------------+ | CentOS Stream 10 | SKIPPED | PASS | SKIPPED | SKIPPED | SKIPPED | SKIPPED | +-------------------------------+-------------------+--------------------+-------------------------+----------------------+-------------------+------------------+ | Debian GNU/Linux 12 | SKIPPED | PASS | SKIPPED | SKIPPED | PASS | SKIPPED | +-------------------------------+-------------------+--------------------+-------------------------+----------------------+-------------------+------------------+ | Fedora Linux 42 | SKIPPED | PASS | SKIPPED | SKIPPED | PASS | PASS | +-------------------------------+-------------------+--------------------+-------------------------+----------------------+-------------------+------------------+ | openSUSE Leap 15.6 | SKIPPED | PASS | SKIPPED | SKIPPED | SKIPPED | SKIPPED | +-------------------------------+-------------------+--------------------+-------------------------+----------------------+-------------------+------------------+ | Red Hat Enterprise Linux 8.10 | SKIPPED | PASS | SKIPPED | SKIPPED | SKIPPED | SKIPPED | +-------------------------------+-------------------+--------------------+-------------------------+----------------------+-------------------+------------------+ | Red Hat Enterprise Linux 9.5 | SKIPPED | PASS | SKIPPED | SKIPPED | SKIPPED | SKIPPED | +-------------------------------+-------------------+--------------------+-------------------------+----------------------+-------------------+------------------+ | Ubuntu 22.04 | SKIPPED | PASS | SKIPPED | SKIPPED | PASS | SKIPPED | +-------------------------------+-------------------+--------------------+-------------------------+----------------------+-------------------+------------------+ | Ubuntu 24.04 | SKIPPED | PASS | SKIPPED | SKIPPED | PASS | PASS | +-------------------------------+-------------------+--------------------+-------------------------+----------------------+-------------------+------------------+ | Alpine Linux 3.22.0 | SKIPPED | PASS | SKIPPED | SKIPPED | SKIPPED | SKIPPED | +-------------------------------+-------------------+--------------------+-------------------------+----------------------+-------------------+------------------+ Windows Server 2022 Kernel: 10.0.20348.2031 Compiler: clang 15.0.7, gcc 14.1.0 (MinGW), and MSVC VS 19.39.33521 FreeBSD 14.2 Kernel: 14.2-RELEASE Compiler: clang 18.1.6 Ubuntu 20.04 Kernel: 4.19 Compiler: gcc gcc (Ubuntu 9.4.0-1ubuntu1~20.04.2) 9.4.0 CentOS Stream 9 Kernel: 5.15 Compiler: gcc gcc (GCC) 11.5.0 20240719 (Red Hat 11.5.0-11) CentOS Stream 10 Kernel: 5.15 Compiler: gcc gcc (GCC) 14.2.1 20250110 (Red Hat 14.2.1-8) Debian GNU/Linux 12 Kernel: 5.15 Compiler: gcc gcc (Debian 12.2.0-14+deb12u1) 12.2.0 Fedora Linux 42 Kernel: 5.15 Compiler: clang gcc (GCC) 15.2.1 20250808 (Red Hat 15.2.1-1) openSUSE Leap 15.6 Kernel: 5.15 Compiler: gcc gcc (SUSE Linux) 7.5.0 Red Hat Enterprise Linux 8.10 Kernel: 5.15 Compiler: gcc gcc (GCC) 8.5.0 20210514 (Red Hat 8.5.0-22) Red Hat Enterprise Linux 9.5 Kernel: 5.15 Compiler: gcc gcc (GCC) 11.5.0 20240719 (Red Hat 11.5.0-2) Ubuntu 22.04 Kernel: 5.15 Compiler: gcc gcc (Ubuntu 11.4.0-1ubuntu1~22.04) 11.4.0 Ubuntu 24.04 Kernel: 5.15 Compiler: gcc gcc (Ubuntu 13.3.0-6ubuntu2~24.04) 13.3.0 Alpine Linux 3.22.0 Kernel: 5.15 Compiler: gcc gcc (Alpine 14.2.0) 14.2.0 To view detailed results, visit: https://lab.dpdk.org/results/dashboard/tarballs/35344/ UNH-IOL DPDK Community Lab To manage your email subscriptions, visit: https://lab.dpdk.org/results/dashboard/preferences/subscriptions/