From mboxrd@z Thu Jan 1 00:00:00 1970 Return-Path: Received: from mails.dpdk.org (mails.dpdk.org [217.70.189.124]) by inbox.dpdk.org (Postfix) with ESMTP id 7EDC6489D8 for ; Sun, 26 Oct 2025 02:34:05 +0100 (CET) Received: from mails.dpdk.org (localhost [127.0.0.1]) by mails.dpdk.org (Postfix) with ESMTP id 572954003C; Sun, 26 Oct 2025 02:34:05 +0100 (CET) Received: from mail-pg1-f226.google.com (mail-pg1-f226.google.com [209.85.215.226]) by mails.dpdk.org (Postfix) with ESMTP id 0D27E4003C for ; Sun, 26 Oct 2025 02:34:04 +0100 (CET) Received: by mail-pg1-f226.google.com with SMTP id 41be03b00d2f7-b6cee846998so2265309a12.1 for ; Sat, 25 Oct 2025 18:34:03 -0700 (PDT) DKIM-Signature: v=1; a=rsa-sha256; c=relaxed/relaxed; d=iol.unh.edu; s=unh-iol; t=1761442443; x=1762047243; darn=dpdk.org; h=references:in-reply-to:cc:to:from:subject:message-id:date:from:to :cc:subject:date:message-id:reply-to; bh=ZgJqXF1VEwrm6mKNAj4ftzaarSZU/SeA78iHQ9/ahmk=; b=XpkmwxtZnSWFf7B/OjiHKb/MLYleUVb8AOsVBIQrpFT0feg96Q/yIM80svUDIrR/d2 oN1XG1XjKk9Afw0bHJ1BXeQL9Yb7lQQRC7dK/Im5xM5NrK1Bwb9CL3D0V1B3PLfH2LuN 0rt7qwL7oDBbMaQrcuxyvMW05vvgBJTEA2ZHw= X-Google-DKIM-Signature: v=1; a=rsa-sha256; c=relaxed/relaxed; d=1e100.net; s=20230601; t=1761442443; x=1762047243; h=references:in-reply-to:cc:to:from:subject:message-id:date :x-gm-message-state:from:to:cc:subject:date:message-id:reply-to; bh=ZgJqXF1VEwrm6mKNAj4ftzaarSZU/SeA78iHQ9/ahmk=; b=jWp7y8gqPHCieGOM4ampg6c6ZkJcD+Ol+0M9Iljv/HU1/jhyAi/gkGhJIdbXD1Gx+c JRHHMebPagMWshvqBYM6j4ZntUae4bR4VraZNdwIJPt26Q5wg1QI3yMwIE3VzAsqxFhP EbNDH4DcM7CQCj7OM4T678T1A/MBFkKH/UH0CyPl9wqUDuV6oyLlLb6UUzs9j3GKigB7 yQe4dqbePqfgn6Mo0ELRDIV1otGncntrbUhRmFFw9wpBD6de048bl6UDpJd6jbkBHUQm iwaaJpc6VC+9FK0+XT/ZeAjZoRcrM4yqIbUwsuNhsfr7YITrhfF9MW9seuHFJW4Gv7j6 ELlQ== X-Gm-Message-State: AOJu0YwMDt6x0badgFI4+lE5e8V4Cs2EUIeT31UJRC+eDndfUeQAQa/q xfTMb85NTCXbjO93v/h/lzTU0U+ZolENBV6IuXbzaqTupap7HMsHpyi7A711+JdSElaLnNRV3W7 k7ZVvGRJoNMwrFhpEBrv3yOX0El44i9LFtsxGg6PWd3+ga6XXZqtjDcit0QNi X-Gm-Gg: ASbGnctLDdNkZUa6wW17kCO70NhZP+CuiKj10ha5cV5EkHYq4oZodArNqqiHM1m14vh SOpmn7ZVx7kxXY+hDR6z4WyPEAJXrT3ehEqd8cAaCuDh4DnbKCXMvpPLeN/+kEbRj5hNcTj0BsP lqKImF43+Zkv/9ogFpMcnztwapux0Lboz5Cyn9LfnqTBHy17ZUE3oMlx7ia1gjgg7J0ophpVYbg nELlbx7L95Tcfy5FzWD88BHEnhhH/T/G9Ex5q2GUAIAsU2yEykFYKNMLgW1Olfab1Y7rupoPUf0 qNRm5ftMKN33CXVs66k25Al5GojQ+OkWdTvTWhts/hxU6e0TGBy5pyRnRn6lcaKMLndsKiDs9Lr pdfsKrSgn X-Google-Smtp-Source: AGHT+IG4Djb+QvMNxYg1bAYt78wo9i31tlEuvvaXdLQXwjV13Kku+HTqXYanCQkPVoY1SwCSrrfD8JETq+pe X-Received: by 2002:a17:903:46cd:b0:28e:7fd3:57f2 with SMTP id d9443c01a7336-290cb65ca5emr420697675ad.49.1761442443119; Sat, 25 Oct 2025 18:34:03 -0700 (PDT) Received: from postal.iol.unh.edu (postal.iol.unh.edu. [2606:4100:3880:1234::84]) by smtp-relay.gmail.com with ESMTPS id d9443c01a7336-29498d098c6sm3233215ad.19.2025.10.25.18.34.03 (version=TLS1_2 cipher=ECDHE-ECDSA-AES128-GCM-SHA256 bits=128/128); Sat, 25 Oct 2025 18:34:03 -0700 (PDT) X-Relaying-Domain: iol.unh.edu Date: Sat, 25 Oct 2025 18:34:03 -0700 (PDT) Message-ID: <68fd7a8b.170a0220.10090f.ef3dSMTPIN_ADDED_MISSING@mx.google.com> Received: from [172.21.0.2] (unknown [172.18.0.240]) by postal.iol.unh.edu (Postfix) with ESMTP id 60B486051835; Sat, 25 Oct 2025 21:34:02 -0400 (EDT) Subject: |WARNING| pw158111-158112 [PATCH] [2/2] ethdev: support hide zero wh From: dpdklab@iol.unh.edu To: Test Report Cc: dpdk-test-reports@iol.unh.edu, Stephen Hemminger In-Reply-To: <20251025094239.4915-3-fengchengwen@huawei.com> References: <20251025094239.4915-3-fengchengwen@huawei.com> Content-Type: text/plain X-BeenThere: test-report@dpdk.org X-Mailman-Version: 2.1.29 Precedence: list List-Id: automatic DPDK test reports List-Unsubscribe: , List-Archive: List-Post: List-Help: List-Subscribe: , Errors-To: test-report-bounces@dpdk.org Test-Label: iol-compile-amd64-testing Test-Status: WARNING http://dpdk.org/patch/158112 _Testing issues_ Submitter: Chengwen Feng Date: Saturday, October 25 2025 09:42:39 DPDK git baseline: Repo:dpdk-next-net Branch: master CommitID:9021d763e846b75743f0a596e4b2995713e6cd4c 158111-158112 --> testing issues Upstream job id: Generic-DPDK-Compile-Meson#437869 Test environment and result as below: +---------------------+--------------------+-------------------------+-------------------+----------------------+-------------------+------------------+ | Environment | dpdk_meson_compile | dpdk_llvm_clang_compile | dpdk_msvc_compile | dpdk_mingw64_compile | dpdk_compile_spdk | dpdk_compile_ovs | +=====================+====================+=========================+===================+======================+===================+==================+ | Ubuntu 20.04 | PASS | SKIPPED | SKIPPED | SKIPPED | SKIPPED | SKIPPED | +---------------------+--------------------+-------------------------+-------------------+----------------------+-------------------+------------------+ | FreeBSD 14.2 | PASS | SKIPPED | SKIPPED | SKIPPED | SKIPPED | SKIPPED | +---------------------+--------------------+-------------------------+-------------------+----------------------+-------------------+------------------+ | CentOS Stream 9 | PASS | SKIPPED | SKIPPED | SKIPPED | WARN | SKIPPED | +---------------------+--------------------+-------------------------+-------------------+----------------------+-------------------+------------------+ | CentOS Stream 10 | PASS | SKIPPED | SKIPPED | SKIPPED | SKIPPED | SKIPPED | +---------------------+--------------------+-------------------------+-------------------+----------------------+-------------------+------------------+ | Debian GNU/Linux 12 | PEND | SKIPPED | SKIPPED | SKIPPED | PEND | SKIPPED | +---------------------+--------------------+-------------------------+-------------------+----------------------+-------------------+------------------+ | Fedora Linux 42 | PEND | SKIPPED | SKIPPED | SKIPPED | PEND | PEND | +---------------------+--------------------+-------------------------+-------------------+----------------------+-------------------+------------------+ | Windows Server 2022 | SKIPPED | PASS | PASS | PASS | SKIPPED | SKIPPED | +---------------------+--------------------+-------------------------+-------------------+----------------------+-------------------+------------------+ ==== 20 line log output for CentOS Stream 9 (dpdk_compile_spdk): ==== --- Failed to get log output --- ==== End log output ==== Ubuntu 20.04 Kernel: 4.19 Compiler: gcc gcc (Ubuntu 9.4.0-1ubuntu1~20.04.2) 9.4.0 FreeBSD 14.2 Kernel: 14.2-RELEASE Compiler: clang 18.1.6 CentOS Stream 9 Kernel: 5.15 Compiler: gcc gcc (GCC) 11.5.0 20240719 (Red Hat 11.5.0-11) CentOS Stream 10 Kernel: 5.15 Compiler: gcc gcc (GCC) 14.2.1 20250110 (Red Hat 14.2.1-8) Debian GNU/Linux 12 Kernel: 5.15 Compiler: gcc gcc (Debian 12.2.0-14+deb12u1) 12.2.0 Fedora Linux 42 Kernel: 5.15 Compiler: clang gcc (GCC) 15.2.1 20250808 (Red Hat 15.2.1-1) Windows Server 2022 Kernel: 10.0.20348.2031 Compiler: clang 15.0.7, gcc 14.1.0 (MinGW), and MSVC VS 19.39.33521 To view detailed results, visit: https://lab.dpdk.org/results/dashboard/patchsets/34386/ UNH-IOL DPDK Community Lab To manage your email subscriptions, visit: https://lab.dpdk.org/results/dashboard/preferences/subscriptions/