From mboxrd@z Thu Jan 1 00:00:00 1970 Return-Path: Received: from mails.dpdk.org (mails.dpdk.org [217.70.189.124]) by inbox.dpdk.org (Postfix) with ESMTP id 9D648489D8 for ; Sun, 26 Oct 2025 03:14:01 +0100 (CET) Received: from mails.dpdk.org (localhost [127.0.0.1]) by mails.dpdk.org (Postfix) with ESMTP id 767174003C; Sun, 26 Oct 2025 03:14:01 +0100 (CET) Received: from mail-qv1-f100.google.com (mail-qv1-f100.google.com [209.85.219.100]) by mails.dpdk.org (Postfix) with ESMTP id A8EF84003C for ; Sun, 26 Oct 2025 03:14:00 +0100 (CET) Received: by mail-qv1-f100.google.com with SMTP id 6a1803df08f44-78e4056623fso35849466d6.2 for ; Sat, 25 Oct 2025 19:14:00 -0700 (PDT) DKIM-Signature: v=1; a=rsa-sha256; c=relaxed/relaxed; d=iol.unh.edu; s=unh-iol; t=1761444840; x=1762049640; darn=dpdk.org; h=references:in-reply-to:cc:to:from:subject:message-id:date:from:to :cc:subject:date:message-id:reply-to; bh=MIOK8nNOIalrWA1g9wJLL62v7Ph94KZ3lTSQloClQBE=; b=Xib6Lt0pU6wtkFjNJ11HDcXi7kiVjvXrnXIrKzeR82Y2GdaqskfcnLu3O+Th2nlreA ta+agDN4vzN5IwWdcaTSAPzawpeGA0Whx7tzmqGRNw3NPJZ3j+528b2BKzIXqZmOjPhN gaebgiNWY3yDrzK//Xgqv8arbV2BbF2tA11Bk= X-Google-DKIM-Signature: v=1; a=rsa-sha256; c=relaxed/relaxed; d=1e100.net; s=20230601; t=1761444840; x=1762049640; h=references:in-reply-to:cc:to:from:subject:message-id:date :x-gm-message-state:from:to:cc:subject:date:message-id:reply-to; bh=MIOK8nNOIalrWA1g9wJLL62v7Ph94KZ3lTSQloClQBE=; b=u3XzB1J/+/kb4IpAZVAT3KPLvvlOqrsrqTcBhqtso8uc9SJswc8+WjliSwnfzj9CHq YuKqgSZhUzGyO4Ar5pxGdkinrJf/CdNweW7PVxHDRoTS8+QseLH3c4hKfu7rueTxLeup 2LEqlxEw/tTov2UfVuNPJ2kn66a7H8vl8HAWVe2vCc/p9oJHJbBD3mePKjtERQsGxZDQ I/eYqGKDyFXtZcX9Q3Ztv3+fbVmmtg/3Tz2ROzH05iCSM9tUYBF66pH8sG9qpybrvtFm 2gnI8d+eSDigUMw+k8Jaqf0LJ7MjnEPzE4RsaAPso+jaI8cV6CkqKQGE82AnNKaFbQHP L1VQ== X-Gm-Message-State: AOJu0YxNl3v9cTxQgoWabeSsyHQbUIe0mlOfZfcjmGuHXsK/yWx10+u3 sB0cxosmYc9eMXPBkDFv5CuVgaQyij2n4AGbwQ7aAQfvZCiJB/d5BK1l/MucJU6f6U8ShMpq6Bv A0c8MsVnmGODnibfR6bxeyTSp602QgUcmsEMHrosqOibc X-Gm-Gg: ASbGncsQe+yVbvTE2okzvVvrzbshdS66Z1GBH6iEUW+ctxaDdQcweczvbVQYNC/mNsd ihnrv6FmQTt0GL9FpzOzteDRnu81slptQiq1Ckk0ASFpYb92U2BMd6tT0hFB89v5h4RUc5pKMtd fzktsu5mC0bhYV2Md6yKuDAGpV1qne4+nQl/b1DMaj7vA8D3m00i91IuDIfCB4eSkwbx4cdS/Ku F6jecuzl/lTxKI3NqGGcYLdqroN/P5jN0ayLz425CvLiQQDelG1KURsczNkc7MlXR0L9ZzAIRew v29h2Fra+JQ7w6563YSpBUllUMUBx9bw9/EqD00Ri/9IZZgRqOt0cS2zK8WsyYpglk42w2/d8jD KWlPr+su94rdKDOOmDyVA38InGychhqQ= X-Google-Smtp-Source: AGHT+IEW1Ba4UMcE0O8nirz1uFWIuI6UIeftE9J4dDrEjzzcF8gwX+Anj0xcjHsKNv1e7aXem9rkwQhkKXDn X-Received: by 2002:a05:6214:2307:b0:879:d13a:109e with SMTP id 6a1803df08f44-87c206436f2mr454259356d6.58.1761444839915; Sat, 25 Oct 2025 19:13:59 -0700 (PDT) Received: from postal.iol.unh.edu (postal.iol.unh.edu. [132.177.123.84]) by smtp-relay.gmail.com with ESMTPS id 6a1803df08f44-87fc49817bfsm3477146d6.23.2025.10.25.19.13.59 (version=TLS1_2 cipher=ECDHE-ECDSA-AES128-GCM-SHA256 bits=128/128); Sat, 25 Oct 2025 19:13:59 -0700 (PDT) X-Relaying-Domain: iol.unh.edu Date: Sat, 25 Oct 2025 19:13:59 -0700 (PDT) Message-ID: <68fd83e7.050a0220.6c38.059eSMTPIN_ADDED_MISSING@mx.google.com> Received: from [172.21.0.2] (unknown [172.18.0.240]) by postal.iol.unh.edu (Postfix) with ESMTP id 9B61C6051830; Sat, 25 Oct 2025 22:13:59 -0400 (EDT) Subject: |WARNING| pw158111-158112 [PATCH] [2/2] ethdev: support hide zero wh From: dpdklab@iol.unh.edu To: Test Report Cc: dpdk-test-reports@iol.unh.edu, Stephen Hemminger In-Reply-To: <20251025094239.4915-3-fengchengwen@huawei.com> References: <20251025094239.4915-3-fengchengwen@huawei.com> Content-Type: text/plain X-BeenThere: test-report@dpdk.org X-Mailman-Version: 2.1.29 Precedence: list List-Id: automatic DPDK test reports List-Unsubscribe: , List-Archive: List-Post: List-Help: List-Subscribe: , Errors-To: test-report-bounces@dpdk.org Test-Label: iol-compile-amd64-testing Test-Status: WARNING http://dpdk.org/patch/158112 _Testing issues_ Submitter: Chengwen Feng Date: Saturday, October 25 2025 09:42:39 DPDK git baseline: Repo:dpdk-next-net Branch: master CommitID:9021d763e846b75743f0a596e4b2995713e6cd4c 158111-158112 --> testing issues Upstream job id: Generic-DPDK-Compile-Meson#437881 Test environment and result as below: +-------------------------------+--------------------+-------------------------+-------------------+----------------------+-------------------+------------------+ | Environment | dpdk_meson_compile | dpdk_llvm_clang_compile | dpdk_msvc_compile | dpdk_mingw64_compile | dpdk_compile_spdk | dpdk_compile_ovs | +===============================+====================+=========================+===================+======================+===================+==================+ | Ubuntu 20.04 | PASS | SKIPPED | SKIPPED | SKIPPED | SKIPPED | SKIPPED | +-------------------------------+--------------------+-------------------------+-------------------+----------------------+-------------------+------------------+ | FreeBSD 14.2 | PASS | SKIPPED | SKIPPED | SKIPPED | SKIPPED | SKIPPED | +-------------------------------+--------------------+-------------------------+-------------------+----------------------+-------------------+------------------+ | CentOS Stream 9 | PASS | SKIPPED | SKIPPED | SKIPPED | WARN | SKIPPED | +-------------------------------+--------------------+-------------------------+-------------------+----------------------+-------------------+------------------+ | CentOS Stream 10 | PASS | SKIPPED | SKIPPED | SKIPPED | SKIPPED | SKIPPED | +-------------------------------+--------------------+-------------------------+-------------------+----------------------+-------------------+------------------+ | Debian GNU/Linux 12 | PASS | SKIPPED | SKIPPED | SKIPPED | WARN | SKIPPED | +-------------------------------+--------------------+-------------------------+-------------------+----------------------+-------------------+------------------+ | Fedora Linux 42 | PASS | SKIPPED | SKIPPED | SKIPPED | WARN | PASS | +-------------------------------+--------------------+-------------------------+-------------------+----------------------+-------------------+------------------+ | openSUSE Leap 15.6 | PASS | SKIPPED | SKIPPED | SKIPPED | SKIPPED | SKIPPED | +-------------------------------+--------------------+-------------------------+-------------------+----------------------+-------------------+------------------+ | Red Hat Enterprise Linux 8.10 | PASS | SKIPPED | SKIPPED | SKIPPED | SKIPPED | SKIPPED | +-------------------------------+--------------------+-------------------------+-------------------+----------------------+-------------------+------------------+ | Red Hat Enterprise Linux 9.5 | PASS | SKIPPED | SKIPPED | SKIPPED | SKIPPED | SKIPPED | +-------------------------------+--------------------+-------------------------+-------------------+----------------------+-------------------+------------------+ | Ubuntu 22.04 | PASS | SKIPPED | SKIPPED | SKIPPED | WARN | SKIPPED | +-------------------------------+--------------------+-------------------------+-------------------+----------------------+-------------------+------------------+ | Ubuntu 24.04 | PASS | SKIPPED | SKIPPED | SKIPPED | WARN | PASS | +-------------------------------+--------------------+-------------------------+-------------------+----------------------+-------------------+------------------+ | Alpine Linux 3.22.0 | PASS | SKIPPED | SKIPPED | SKIPPED | SKIPPED | SKIPPED | +-------------------------------+--------------------+-------------------------+-------------------+----------------------+-------------------+------------------+ | Windows Server 2022 | SKIPPED | PASS | PASS | PASS | SKIPPED | SKIPPED | +-------------------------------+--------------------+-------------------------+-------------------+----------------------+-------------------+------------------+ ==== 20 line log output for Ubuntu 24.04 (dpdk_compile_spdk): ==== --- Failed to get log output --- ==== End log output ==== Ubuntu 20.04 Kernel: 4.19 Compiler: gcc gcc (Ubuntu 9.4.0-1ubuntu1~20.04.2) 9.4.0 FreeBSD 14.2 Kernel: 14.2-RELEASE Compiler: clang 18.1.6 CentOS Stream 9 Kernel: 5.15 Compiler: gcc gcc (GCC) 11.5.0 20240719 (Red Hat 11.5.0-11) CentOS Stream 10 Kernel: 5.15 Compiler: gcc gcc (GCC) 14.2.1 20250110 (Red Hat 14.2.1-8) Debian GNU/Linux 12 Kernel: 5.15 Compiler: gcc gcc (Debian 12.2.0-14+deb12u1) 12.2.0 Fedora Linux 42 Kernel: 5.15 Compiler: clang gcc (GCC) 15.2.1 20250808 (Red Hat 15.2.1-1) openSUSE Leap 15.6 Kernel: 5.15 Compiler: gcc gcc (SUSE Linux) 7.5.0 Red Hat Enterprise Linux 8.10 Kernel: 5.15 Compiler: gcc gcc (GCC) 8.5.0 20210514 (Red Hat 8.5.0-22) Red Hat Enterprise Linux 9.5 Kernel: 5.15 Compiler: gcc gcc (GCC) 11.5.0 20240719 (Red Hat 11.5.0-2) Ubuntu 22.04 Kernel: 5.15 Compiler: gcc gcc (Ubuntu 11.4.0-1ubuntu1~22.04) 11.4.0 Ubuntu 24.04 Kernel: 5.15 Compiler: gcc gcc (Ubuntu 13.3.0-6ubuntu2~24.04) 13.3.0 Alpine Linux 3.22.0 Kernel: 5.15 Compiler: gcc gcc (Alpine 14.2.0) 14.2.0 Windows Server 2022 Kernel: 10.0.20348.2031 Compiler: clang 15.0.7, gcc 14.1.0 (MinGW), and MSVC VS 19.39.33521 To view detailed results, visit: https://lab.dpdk.org/results/dashboard/patchsets/34386/ UNH-IOL DPDK Community Lab To manage your email subscriptions, visit: https://lab.dpdk.org/results/dashboard/preferences/subscriptions/