From mboxrd@z Thu Jan 1 00:00:00 1970 Return-Path: Received: from mails.dpdk.org (mails.dpdk.org [217.70.189.124]) by inbox.dpdk.org (Postfix) with ESMTP id CF346489D8 for ; Sun, 26 Oct 2025 03:25:46 +0100 (CET) Received: from mails.dpdk.org (localhost [127.0.0.1]) by mails.dpdk.org (Postfix) with ESMTP id 8A2994003C; Sun, 26 Oct 2025 03:25:46 +0100 (CET) Received: from mail-pl1-f226.google.com (mail-pl1-f226.google.com [209.85.214.226]) by mails.dpdk.org (Postfix) with ESMTP id D175B4003C for ; Sun, 26 Oct 2025 03:25:44 +0100 (CET) Received: by mail-pl1-f226.google.com with SMTP id d9443c01a7336-29490944023so17576975ad.3 for ; Sat, 25 Oct 2025 19:25:44 -0700 (PDT) DKIM-Signature: v=1; a=rsa-sha256; c=relaxed/relaxed; d=iol.unh.edu; s=unh-iol; t=1761445544; x=1762050344; darn=dpdk.org; h=references:in-reply-to:cc:to:from:subject:message-id:date:from:to :cc:subject:date:message-id:reply-to; bh=SGeADy4QGIYSbQaasFhY6Ay5UniTyIFBN/zPXPIy114=; b=JJs7m73zrmN3OdCqx4jPklhCtttyKQ045iWCpa8jltlXNFwqWzEsopyKpWJHLEOUwp fydSzvYIm0EtO+xAlLiV0PZ89YnrHUqKqcqJ8ZshROquODQTCIj370eWccSabyLB1IZl 6U+lGIWmG1KJTaZf/py+Bn9s9EZUUvoxxxZZE= X-Google-DKIM-Signature: v=1; a=rsa-sha256; c=relaxed/relaxed; d=1e100.net; s=20230601; t=1761445544; x=1762050344; h=references:in-reply-to:cc:to:from:subject:message-id:date :x-gm-message-state:from:to:cc:subject:date:message-id:reply-to; bh=SGeADy4QGIYSbQaasFhY6Ay5UniTyIFBN/zPXPIy114=; b=fiMHzHDjLeHPFlwkeGGn+lpBKLB/xpLIpXrdefRj7SX9H+leW4yJboJcZQIe6dvKge QLs5H2Sps75J0IIQvPIZtuT5iC78GY2+NXQ54qsnJCysNNQVAvB0Qv1rrQQiNiGniEap h2Eqk5v/sVHF94B83kLgDBVJ8HKusf2nyQs7sp/x2PxTS/M65NHXJqpTmh3KzfTzuFYm yyyX4m8BovOceDJle6Nx4bRViYO1xA4tkXnYTyjfI5myblnNO31+CrUFn+wlJlUy5AKV DXXsxaVLr73CbxREQvXXsEo0RJvDMGQ7wNFQ/N1mM7IBablM0nEudgprdqaA0aU48Qi3 boXg== X-Gm-Message-State: AOJu0YzjYKVMVVY3vdEcZGTEgPQQU0NR2mz82ewK1su8MmbY3vHTgNWA 6Rtfhwx+UoLDGUNBJ8rSKm915ybVnPRmkCr7P7lHUtdmVFa0Wqxiwu69J/dIBVj+T09NTrFXjId PRMe0nK/txo2XskaX6D9j/6jRQKVKeolZ+0pmEHtDlGIE X-Gm-Gg: ASbGnctkX808ccO6W36/SY/O6l7cRa40cK7pcpw9j9LasXGEgvoPPh92ShZJDsym16p +9zLspEXtWCiaMByzChTnkEIYAX5HUH1BJJv5nJtDvvG//ZfqaPUhDg1/Cquy0nbFTLasKxdKPP PdygmSsEat+8/fEVCZEi5ukQixSypqGrykX5iXIPDOS1WrxhcB+VnI/hsH2YfpuSd6tCYNBbdv+ N6Z+LR+O9zFB+Q1FX6TmJwhzQAHh1T8Q8DjuPxkt549FxaO2PbotbAkI7r3q22z7vWI52gW74+b 1ZPQUk3rUsPdBYVR/P1NLxM61oYjg4K+bDXDo1QMSybjppVDVV9x/WqsqXRJlKuvGafjc1WFkvo pLB5N/M3v71nMCO/9XH3QL1rsYjaq/q4= X-Google-Smtp-Source: AGHT+IH4KVrnjjljRVjre8k4Ih3WN9Fva+XoXxX9I/qQiizYXtszMYKnWQsAz3QAXlk7MveqmzEJAaeQ7qcb X-Received: by 2002:a17:903:2381:b0:266:cb8c:523 with SMTP id d9443c01a7336-290cc9be17amr412709085ad.48.1761445543915; Sat, 25 Oct 2025 19:25:43 -0700 (PDT) Received: from postal.iol.unh.edu (postal.iol.unh.edu. [132.177.123.84]) by smtp-relay.gmail.com with ESMTPS id d9443c01a7336-29498e4118bsm3314275ad.53.2025.10.25.19.25.43 (version=TLS1_2 cipher=ECDHE-ECDSA-AES128-GCM-SHA256 bits=128/128); Sat, 25 Oct 2025 19:25:43 -0700 (PDT) X-Relaying-Domain: iol.unh.edu Date: Sat, 25 Oct 2025 19:25:43 -0700 (PDT) Message-ID: <68fd86a7.170a0220.1fd4ab.f82eSMTPIN_ADDED_MISSING@mx.google.com> Received: from [172.21.0.3] (unknown [172.18.0.240]) by postal.iol.unh.edu (Postfix) with ESMTP id 29D456051830; Sat, 25 Oct 2025 22:25:43 -0400 (EDT) Subject: |SUCCESS| pw158099 [PATCH] app/compress-perf: fix coverity issue From: dpdklab@iol.unh.edu To: Test Report Cc: dpdk-test-reports@iol.unh.edu, Akhil Goyal In-Reply-To: <20251024191125.1728953-1-svaze@qti.qualcomm.com> References: <20251024191125.1728953-1-svaze@qti.qualcomm.com> Content-Type: text/plain X-BeenThere: test-report@dpdk.org X-Mailman-Version: 2.1.29 Precedence: list List-Id: automatic DPDK test reports List-Unsubscribe: , List-Archive: List-Post: List-Help: List-Subscribe: , Errors-To: test-report-bounces@dpdk.org Test-Label: iol-compile-arm64-testing Test-Status: SUCCESS http://dpdk.org/patch/158099 _Testing PASS_ Submitter: Sameer Vaze Date: Friday, October 24 2025 19:11:25 DPDK git baseline: Repo:dpdk-next-crypto Branch: master CommitID:6edcec237e31fcdb848cca6c151ee7a5bf057c28 158099 --> testing pass Upstream job id: Generic-DPDK-Compile-Meson#437703 Test environment and result as below: +------------------------------+--------------------+ | Environment | dpdk_meson_compile | +==============================+====================+ | Red Hat Enterprise Linux 9.5 | PASS | +------------------------------+--------------------+ | Ubuntu 20.04 | PASS | +------------------------------+--------------------+ | Debian GNU/Linux 12 | PASS | +------------------------------+--------------------+ | Fedora Linux 42 | PASS | +------------------------------+--------------------+ | Ubuntu 22.04 | PASS | +------------------------------+--------------------+ | Ubuntu 24.04 | PASS | +------------------------------+--------------------+ | CentOS Stream 9 | PASS | +------------------------------+--------------------+ | CentOS Stream 10 | PASS | +------------------------------+--------------------+ Red Hat Enterprise Linux 9.5 Kernel: 5.4 Compiler: gcc gcc (GCC) 11.5.0 20240719 (Red Hat 11.5.0-2) Ubuntu 20.04 Kernel: 5.15 Compiler: aarch64-linux-gnu-gcc gcc (Ubuntu 9.4.0-1ubuntu1~20.04.2) 9.4.0 Debian GNU/Linux 12 Kernel: 5.4 Compiler: gcc gcc (Debian 12.2.0-14+deb12u1) 12.2.0 Fedora Linux 42 Kernel: 5.4 Compiler: gcc gcc (GCC) 15.2.1 20250808 (Red Hat 15.2.1-1) Ubuntu 22.04 Kernel: 5.4 Compiler: gcc gcc (Ubuntu 11.4.0-1ubuntu1~22.04) 11.4.0 Ubuntu 24.04 Kernel: 5.4 Compiler: gcc gcc (Ubuntu 13.3.0-6ubuntu2~24.04) 13.3.0 CentOS Stream 9 Kernel: 5.4 Compiler: gcc gcc (GCC) 11.5.0 20240719 (Red Hat 11.5.0-11) CentOS Stream 10 Kernel: 5.4 Compiler: gcc gcc (GCC) 14.2.1 20250110 (Red Hat 14.2.1-8) To view detailed results, visit: https://lab.dpdk.org/results/dashboard/patchsets/34380/ UNH-IOL DPDK Community Lab To manage your email subscriptions, visit: https://lab.dpdk.org/results/dashboard/preferences/subscriptions/