From mboxrd@z Thu Jan 1 00:00:00 1970 Return-Path: Received: from mails.dpdk.org (mails.dpdk.org [217.70.189.124]) by inbox.dpdk.org (Postfix) with ESMTP id 00A9F489D9 for ; Sun, 26 Oct 2025 04:08:02 +0100 (CET) Received: from mails.dpdk.org (localhost [127.0.0.1]) by mails.dpdk.org (Postfix) with ESMTP id CCB544003C; Sun, 26 Oct 2025 04:08:02 +0100 (CET) Received: from mail-pf1-f225.google.com (mail-pf1-f225.google.com [209.85.210.225]) by mails.dpdk.org (Postfix) with ESMTP id BF92E40151 for ; Sun, 26 Oct 2025 04:08:01 +0100 (CET) Received: by mail-pf1-f225.google.com with SMTP id d2e1a72fcca58-78118e163e5so3934913b3a.0 for ; Sat, 25 Oct 2025 20:08:01 -0700 (PDT) DKIM-Signature: v=1; a=rsa-sha256; c=relaxed/relaxed; d=iol.unh.edu; s=unh-iol; t=1761448081; x=1762052881; darn=dpdk.org; h=references:in-reply-to:cc:to:from:subject:message-id:date:from:to :cc:subject:date:message-id:reply-to; bh=rSHD7gn3DSZvO8fC7piaQA06+UCvBGQ6NZ8OkTiD+KU=; b=h5lZWKMliR+rlZOk3oJUqFK/CYcBN4F57yNlmVgqqCvjxBaZtQ8JfMRweCVFTps2lv GX4/W22TbRfWEqXoy+3IWb8icxDcbOXdql3t0EtGQGuMaIscoUKN6mRVOKjtq2F3t9dP +toUJd9TNtej5NeNfwzJfP2KFdA3HOsWPV2l4= X-Google-DKIM-Signature: v=1; a=rsa-sha256; c=relaxed/relaxed; d=1e100.net; s=20230601; t=1761448081; x=1762052881; h=references:in-reply-to:cc:to:from:subject:message-id:date :x-gm-message-state:from:to:cc:subject:date:message-id:reply-to; bh=rSHD7gn3DSZvO8fC7piaQA06+UCvBGQ6NZ8OkTiD+KU=; b=iYHYLzvz9XMAhl+3FTblxdWon8Jq76wCBTOWRo5yqjoqfm7JcpwHUYcXTIoQAuc4Hd ++deyuleH9VmH8awklMQ+oFPTKBc9Kzlv4WjnLyOqCHswioKsR+jpGe1KhSTXGnjSG9U hdUX7r9864Gd8bAAa/E9pIYu17jT4X6sQiyUryxPv8ja7H66LMr6YmmEtFvtC+hHslcn MEsqwDS9gnLPV4FD/+RtFbSsmzvsNBJ8WEcmBnPbwiEf8Ktcq4tuSl4QMGwVkYgFrUGJ DSzPT9oY1a0FzgUMxYFKPlcfXIceinZGUDyIouzRl0m8aniLvo3QuJxm2IHKd8CMrsaH un5Q== X-Gm-Message-State: AOJu0YxzyVitSP0gGt14e67ARZyYDOWsS1wxUs+Bu4YjmllZ770EiX/d 5CFQoYEanKlHL/MLoJzLlK/ovX3JsUfEjZErIGFzO8M0qWXiPgKzquyOT3F9XCpHVuhekuc9BT7 v1OT8KHG3Ug1EPrG13Mj0IhiM528ZT1g+OyxMeOwpVaKXvhKZ1mBtG2k22zXk X-Gm-Gg: ASbGncuWIVetk6v9h0Wz8Y3v5/R7rRicYaYqHywbCoF3C3jG87otpzucfiu5omP9ryd rneLgJjYt+9vPXymCArF71Q+xvFYXybbQuaCOGpTl3FO5WNYkXXOqpNO+cDE9YWecqzaJvkmJ0U UO+JRoOYljvGHrAOvP5JSW8dTOJL0XIU9lsky844sm4VYOWLss9SPOjFCGBG+C+WlIN4KoegCzf KO1H8eWTfyvGvqJa88iY6NSPeG0Ybj995BpHsFFD4YfCWdIylIx0EjKWNHOHUHN9P3m4USJ5xsT xxpG9sM1bxvCGGVL0tpQh7gqqn+fk8sezeb4pwHYekWDOnoo0bnlQoyERP6/M9HNeLKmCgSMJSF xEdFx2I4S X-Google-Smtp-Source: AGHT+IELW3fu22eidw+N5DlzWwKuh2EmD+906iTkGSdB1GkiMhOhp0laM39usQeZ6A0G+s8C6qt1cOT+FhAK X-Received: by 2002:a05:6a21:4508:b0:331:fcd9:b3c1 with SMTP id adf61e73a8af0-33db48e8382mr10712680637.18.1761448080852; Sat, 25 Oct 2025 20:08:00 -0700 (PDT) Received: from postal.iol.unh.edu (postal.iol.unh.edu. [2606:4100:3880:1234::84]) by smtp-relay.gmail.com with ESMTPS id 41be03b00d2f7-b712fa6b464sm217309a12.13.2025.10.25.20.08.00 (version=TLS1_2 cipher=ECDHE-ECDSA-AES128-GCM-SHA256 bits=128/128); Sat, 25 Oct 2025 20:08:00 -0700 (PDT) X-Relaying-Domain: iol.unh.edu Date: Sat, 25 Oct 2025 20:08:00 -0700 (PDT) Message-ID: <68fd9090.050a0220.210393.ad76SMTPIN_ADDED_MISSING@mx.google.com> Received: from [172.21.0.2] (unknown [172.18.0.240]) by postal.iol.unh.edu (Postfix) with ESMTP id 17A9A60003F4; Sat, 25 Oct 2025 23:08:00 -0400 (EDT) Subject: |SUCCESS| pw158095-158097 [PATCH] [v4,3/3] dts: add virtio forwardin From: dpdklab@iol.unh.edu To: Test Report Cc: dpdk-test-reports@iol.unh.edu In-Reply-To: <20251024185056.607160-3-dmarx@iol.unh.edu> References: <20251024185056.607160-3-dmarx@iol.unh.edu> Content-Type: text/plain X-BeenThere: test-report@dpdk.org X-Mailman-Version: 2.1.29 Precedence: list List-Id: automatic DPDK test reports List-Unsubscribe: , List-Archive: List-Post: List-Help: List-Subscribe: , Errors-To: test-report-bounces@dpdk.org Test-Label: iol-compile-arm64-testing Test-Status: SUCCESS http://dpdk.org/patch/158097 _Testing PASS_ Submitter: Dean Marx Date: Friday, October 24 2025 18:50:55 DPDK git baseline: Repo:dpdk-next-dts Branch: master CommitID:c1abcee5a9656fb4890b733e6051aa604c60f146 158095-158097 --> testing pass Upstream job id: Generic-DPDK-Compile-Meson#437677 Test environment and result as below: +------------------------------+--------------------+ | Environment | dpdk_meson_compile | +==============================+====================+ | Red Hat Enterprise Linux 9.5 | PASS | +------------------------------+--------------------+ | Ubuntu 20.04 | PASS | +------------------------------+--------------------+ | Debian GNU/Linux 12 | PASS | +------------------------------+--------------------+ | Fedora Linux 42 | PASS | +------------------------------+--------------------+ | Ubuntu 22.04 | PASS | +------------------------------+--------------------+ | Ubuntu 24.04 | PASS | +------------------------------+--------------------+ | CentOS Stream 9 | PASS | +------------------------------+--------------------+ | CentOS Stream 10 | PASS | +------------------------------+--------------------+ Red Hat Enterprise Linux 9.5 Kernel: 5.4 Compiler: gcc gcc (GCC) 11.5.0 20240719 (Red Hat 11.5.0-2) Ubuntu 20.04 Kernel: 5.15 Compiler: aarch64-linux-gnu-gcc gcc (Ubuntu 9.4.0-1ubuntu1~20.04.2) 9.4.0 Debian GNU/Linux 12 Kernel: 5.4 Compiler: gcc gcc (Debian 12.2.0-14+deb12u1) 12.2.0 Fedora Linux 42 Kernel: 5.4 Compiler: gcc gcc (GCC) 15.2.1 20250808 (Red Hat 15.2.1-1) Ubuntu 22.04 Kernel: 5.4 Compiler: gcc gcc (Ubuntu 11.4.0-1ubuntu1~22.04) 11.4.0 Ubuntu 24.04 Kernel: 5.4 Compiler: gcc gcc (Ubuntu 13.3.0-6ubuntu2~24.04) 13.3.0 CentOS Stream 9 Kernel: 5.4 Compiler: gcc gcc (GCC) 11.5.0 20240719 (Red Hat 11.5.0-11) CentOS Stream 10 Kernel: 5.4 Compiler: gcc gcc (GCC) 14.2.1 20250110 (Red Hat 14.2.1-8) To view detailed results, visit: https://lab.dpdk.org/results/dashboard/patchsets/34379/ UNH-IOL DPDK Community Lab To manage your email subscriptions, visit: https://lab.dpdk.org/results/dashboard/preferences/subscriptions/