From mboxrd@z Thu Jan 1 00:00:00 1970 Return-Path: Received: from mails.dpdk.org (mails.dpdk.org [217.70.189.124]) by inbox.dpdk.org (Postfix) with ESMTP id 86C21489D9 for ; Sun, 26 Oct 2025 04:27:29 +0100 (CET) Received: from mails.dpdk.org (localhost [127.0.0.1]) by mails.dpdk.org (Postfix) with ESMTP id 601C04003C; Sun, 26 Oct 2025 04:27:29 +0100 (CET) Received: from mail-io1-f98.google.com (mail-io1-f98.google.com [209.85.166.98]) by mails.dpdk.org (Postfix) with ESMTP id 2B9084003C for ; Sun, 26 Oct 2025 04:27:28 +0100 (CET) Received: by mail-io1-f98.google.com with SMTP id ca18e2360f4ac-92b92e4b078so150882239f.0 for ; Sat, 25 Oct 2025 20:27:28 -0700 (PDT) DKIM-Signature: v=1; a=rsa-sha256; c=relaxed/relaxed; d=iol.unh.edu; s=unh-iol; t=1761449247; x=1762054047; darn=dpdk.org; h=cc:to:from:subject:message-id:date:from:to:cc:subject:date :message-id:reply-to; bh=+n8PsRY+mn563YHid6cojPM6eNtoTPJ62w5uhecul38=; b=J8jqxy94Y2lEyM1gsJQo0IsACmRYhJZwPpmv6jJlrh2chc99bX2oJDnPtl4Lto13s4 JMLK/xhO2VHsWbctTInzGCL3u5LxvSX4Om3crdSE1tn8zYQy03yu36MsX5CyLfF0mbjt D23wO5JfGXLpv0iblc31lUKhTvQ0gDkW5+7bQ= X-Google-DKIM-Signature: v=1; a=rsa-sha256; c=relaxed/relaxed; d=1e100.net; s=20230601; t=1761449247; x=1762054047; h=cc:to:from:subject:message-id:date:x-gm-message-state:from:to:cc :subject:date:message-id:reply-to; bh=+n8PsRY+mn563YHid6cojPM6eNtoTPJ62w5uhecul38=; b=Y67njueUKMmqJebYeTbw5AGcuTCDJRPD6SYADmisPLogIy53YYA9U5skf+GHZMg0oW BOD7Ag4WSu2BAix4hfYkp8O4U4q9+ByRAJKnVvXtQbwIfPXDU8BiIF6rhAkNWNlexi2O IIOG0quiKjTYNC+w4HOM4sUgZa1180Cd1ueanhupUz7pkzbnl8a0Yps+tQIelPbBa7I2 JL0DwKalAQxUaeeYH4ZTlr3KcbExi4ZHAcl7sZA3pk2LLe7uSofimfSjpJtkbdQSF1bB Cl8ZTyIYt3523m5cbBCIY6t5wKZGe4XOgLb7cV9KvPCRHMVwbfTaPXWZVUEMBN7e3zZD lVbw== X-Gm-Message-State: AOJu0YxkQnKICUPJHZzNdo6BwGtb2qXs2uEnDdhTtITMLF8w7XMqLB5Z D/4xZSrMUIr3iasBcsVbtCRbGeIPf1jQAGlUwpRNcG49MZQwcEG2+D2fs5ddat59ZlAL2KAVmtD y7U2P1nUSdfj3DnaINO6Cgdhl41nq0SM7F0jV/zC1dqfZITSoOaDs X-Gm-Gg: ASbGnct9CIKbN7dZ1hIZdXWEIiPvO35tXQnq7oxQpf8p/yXF/3+bUv7XjZ1M7a/f1mX AgjNmIajUTVx9urQd0YESYzQLLSOwZOGDF0bnnLe+RyQ8i82x2owV3Dk5yZqCS563SXhdCjC0wh kRw3a38EOqzMA616SuuuUdodDEJbAxGLfoeigVXv/7wKOvduS3/6hnTmsgjIF0ThsF2qSc1EYey eMXBJKGrwqtaCHBs1Ca0n4pJDLe459Vh0Y9F1hi3zRl+vXCAL7CGxVoCgL36uPwohETMAc8fEY7 IgyhhJM1n+zbFjaSGXBtJ+b9Gw1cJxOUUhAXmFFCUZ7Y/O0y2rke/u8nvqdyblrX1UMNfLR8YhE 00g9BPw/A X-Google-Smtp-Source: AGHT+IGh/RTXIDScD3CaoxoavcpUgmNrKgTHANTe3/N9n/yPm8yhKcMlPQq+vHPtdIl8FcZRJPv0nxY/c9un X-Received: by 2002:a05:6e02:1d9d:b0:42f:95a1:2e8 with SMTP id e9e14a558f8ab-430c52d5786mr429729895ab.24.1761449247262; Sat, 25 Oct 2025 20:27:27 -0700 (PDT) Received: from postal.iol.unh.edu (postal.iol.unh.edu. [2606:4100:3880:1234::84]) by smtp-relay.gmail.com with ESMTPS id e9e14a558f8ab-431f688c957sm3470375ab.22.2025.10.25.20.27.27 (version=TLS1_2 cipher=ECDHE-ECDSA-AES128-GCM-SHA256 bits=128/128); Sat, 25 Oct 2025 20:27:27 -0700 (PDT) X-Relaying-Domain: iol.unh.edu Date: Sat, 25 Oct 2025 20:27:27 -0700 (PDT) Message-ID: <68fd951f.050a0220.261cce.0917SMTPIN_ADDED_MISSING@mx.google.com> Received: from [172.21.0.2] (unknown [172.18.0.240]) by postal.iol.unh.edu (Postfix) with ESMTP id C30406051830; Sat, 25 Oct 2025 23:27:26 -0400 (EDT) Subject: |SUCCESS| [GIT MASTER] b287e404643aeab5bb5db084c142789df187844e From: dpdklab@iol.unh.edu To: Test Report Cc: dpdk-test-reports@iol.unh.edu, Xueming Li , Christian Ehrhardt , Kevin Traynor , Luca Boccassi Content-Type: text/plain X-BeenThere: test-report@dpdk.org X-Mailman-Version: 2.1.29 Precedence: list List-Id: automatic DPDK test reports List-Unsubscribe: , List-Archive: List-Post: List-Help: List-Subscribe: , Errors-To: test-report-bounces@dpdk.org _Testing PASS_ Branch: tags/v24.11 b287e404643aeab5bb5db084c142789df187844e --> testing pass Upstream job id: Generic-Unit-Test-DPDK#385332 Test environment and result as below: +------------------------------+------------------------------+---------------------------+--------------+----------------+ | Environment | cryptodev_sw_snow3g_autotest | cryptodev_sw_zuc_autotest | lpm_autotest | dpdk_unit_test | +==============================+==============================+===========================+==============+================+ | Debian 12 (arm) | PASS | PASS | SKIPPED | SKIPPED | +------------------------------+------------------------------+---------------------------+--------------+----------------+ | Ubuntu 20.04 | SKIPPED | SKIPPED | PASS | PASS | +------------------------------+------------------------------+---------------------------+--------------+----------------+ | Fedora Linux 40 | SKIPPED | SKIPPED | SKIPPED | PASS | +------------------------------+------------------------------+---------------------------+--------------+----------------+ | CentOS Stream 10 | SKIPPED | SKIPPED | SKIPPED | PASS | +------------------------------+------------------------------+---------------------------+--------------+----------------+ | CentOS Stream 9 | SKIPPED | SKIPPED | SKIPPED | PASS | +------------------------------+------------------------------+---------------------------+--------------+----------------+ | Red Hat Enterprise Linux 9.5 | SKIPPED | SKIPPED | SKIPPED | PASS | +------------------------------+------------------------------+---------------------------+--------------+----------------+ | Debian GNU/Linux 12 | SKIPPED | SKIPPED | SKIPPED | PASS | +------------------------------+------------------------------+---------------------------+--------------+----------------+ | Fedora Linux 42 | SKIPPED | SKIPPED | SKIPPED | PASS | +------------------------------+------------------------------+---------------------------+--------------+----------------+ | Fedora Linux 41 | SKIPPED | SKIPPED | SKIPPED | PASS | +------------------------------+------------------------------+---------------------------+--------------+----------------+ | Ubuntu 22.04 | SKIPPED | SKIPPED | SKIPPED | PASS | +------------------------------+------------------------------+---------------------------+--------------+----------------+ | Ubuntu 24.04 | SKIPPED | SKIPPED | SKIPPED | PASS | +------------------------------+------------------------------+---------------------------+--------------+----------------+ Debian 12 (arm) Kernel: Depends on container host Compiler: gcc (Debian 12.2.0-14) 12.2.0 Ubuntu 20.04 Kernel: 5.4 Compiler: gcc gcc (Ubuntu 9.4.0-1ubuntu1~20.04.2) 9.4.0 Fedora Linux 40 Kernel: 5.4 Compiler: gcc gcc (GCC) 14.2.1 20240912 (Red Hat 14.2.1-3) CentOS Stream 10 Kernel: 5.4 Compiler: gcc gcc (GCC) 14.2.1 20250110 (Red Hat 14.2.1-8) CentOS Stream 9 Kernel: 5.4 Compiler: gcc gcc (GCC) 11.5.0 20240719 (Red Hat 11.5.0-11) Red Hat Enterprise Linux 9.5 Kernel: 5.4 Compiler: gcc gcc (GCC) 11.5.0 20240719 (Red Hat 11.5.0-2) Debian GNU/Linux 12 Kernel: 5.4 Compiler: gcc gcc (Debian 12.2.0-14+deb12u1) 12.2.0 Fedora Linux 42 Kernel: 5.4 Compiler: clang gcc (GCC) 15.2.1 20250808 (Red Hat 15.2.1-1) Fedora Linux 41 Kernel: 5.4 Compiler: gcc gcc (GCC) 14.3.1 20250523 (Red Hat 14.3.1-1) Ubuntu 22.04 Kernel: 5.4 Compiler: gcc gcc (Ubuntu 11.4.0-1ubuntu1~22.04) 11.4.0 Ubuntu 24.04 Kernel: 5.4 Compiler: gcc gcc (Ubuntu 13.3.0-6ubuntu2~24.04) 13.3.0 To view detailed results, visit: https://lab.dpdk.org/results/dashboard/tarballs/35344/ UNH-IOL DPDK Community Lab To manage your email subscriptions, visit: https://lab.dpdk.org/results/dashboard/preferences/subscriptions/