From mboxrd@z Thu Jan 1 00:00:00 1970 Return-Path: Received: from mails.dpdk.org (mails.dpdk.org [217.70.189.124]) by inbox.dpdk.org (Postfix) with ESMTP id B92AB489D9 for ; Sun, 26 Oct 2025 04:53:51 +0100 (CET) Received: from mails.dpdk.org (localhost [127.0.0.1]) by mails.dpdk.org (Postfix) with ESMTP id 91CB44003C; Sun, 26 Oct 2025 04:53:51 +0100 (CET) Received: from mail-qv1-f97.google.com (mail-qv1-f97.google.com [209.85.219.97]) by mails.dpdk.org (Postfix) with ESMTP id 6E91F4003C for ; Sun, 26 Oct 2025 04:53:49 +0100 (CET) Received: by mail-qv1-f97.google.com with SMTP id 6a1803df08f44-8738c6fdbe8so37490956d6.1 for ; Sat, 25 Oct 2025 20:53:49 -0700 (PDT) DKIM-Signature: v=1; a=rsa-sha256; c=relaxed/relaxed; d=iol.unh.edu; s=unh-iol; t=1761450829; x=1762055629; darn=dpdk.org; h=cc:to:from:subject:message-id:date:from:to:cc:subject:date :message-id:reply-to; bh=07KZnNUX51FNwVcWqkCK0nXp3GSRLDEas/0Vadij/Y4=; b=jOzuj1YRMFBxj6+qq9hr/P4vu2OaDoJbV582lZgUfNHeNuUaU562oSZRKKWM1csIHa dLRdcwtr2qy5jRpMKQuYI3qXdcb2mzdQeZN+cnzj/TgpbhuW8HkJAB1fdjUSQF0CxMT4 l7b9p5QIoFEl6s/2fA1tR9+6sh6nBYJOjQ6hM= X-Google-DKIM-Signature: v=1; a=rsa-sha256; c=relaxed/relaxed; d=1e100.net; s=20230601; t=1761450829; x=1762055629; h=cc:to:from:subject:message-id:date:x-gm-message-state:from:to:cc :subject:date:message-id:reply-to; bh=07KZnNUX51FNwVcWqkCK0nXp3GSRLDEas/0Vadij/Y4=; b=Rat3xVSRZ21C8RL3IsAOs9A4rQo4Gq0/UoNakWuRX8Oh0NFjONrb8fuzAlWIhqX7EI ES8iAJxwHV0AB1LpnIQi8YoeFM6vEDpPhFBs69rCWBk/5o96cxxGLLEJtrBwq9qJ0MFm 1KPtdCJW/L5F6Pyeww9nED650Cu/bUZoYrViP/rS0CEOLCeWH54YUsE3dEjR1xcf60aA v4wNzBxPWl6VWxfijeUN8aqOJbun7QTBexoA3qzcgP4ga0ywyhsUo8roWCr7cmXqQZ7L KsAq18g2+1NqIs494HFz6lWZdgZU8+konfrDi/gS+BkdXDEkTor7yCSuJ8F7VcrGHpbE SN8A== X-Gm-Message-State: AOJu0Yw9X9/CmYxZWG2+aiPUT/7S8emh2ynjE5aiPpw+kl0qFygsS2a1 NtVsUXtXmU1nznugivZoxHB4Uro4EpSTI7SNqVutnsSdwXltx0tyidyWmPPfcLgelpiX0sXLYZU 7yxLoo8lPEmqeQyb55Uim3cz31/gK/zfHp7gEkCsYC+VXWelLtAKS38JL3j5P X-Gm-Gg: ASbGncsvsGnK7TrxGh3qVtTt5HdpZCiJhYu1RjdppPzBPKIaBTHjzwKWMJcDtp7lUok ACB8uzhzwQP2xz1jaGSgYDV+56LFx23S5fn3R2E5OQILnfDWEmaYgt7pQMgTRqmHJU9J1rEupdc B8MhGopVpm1Fv66MrU/AmnBnw4w7Sk74CaQQnQ3zJKOfqdhkhMd8LeF7NzWn+RcpEGiyjYrybVO i2EUq/HWYoPNONcdxdY1C9WoIO2UolVK6G1aZXp5A90YfuD9xoq1CzsyQMvR7IgjO6uXJSnkH1b audwo0ACWS5sIsBhyl7VgG3Je+pgjUAEzkDdqCyVdjVA1Qay0tR+xegNYzJhcXXiDTbEd/5LMum JVkklV+WT X-Google-Smtp-Source: AGHT+IGLC+hQyeqkLGnaLr1uMdkUoEvt+J/ZRBRB9rknFdPsW48kPW4VDvY0MRH2vjKuaTyLvaLQwJY1a2G1 X-Received: by 2002:a05:6214:da9:b0:87c:7ab:c7fa with SMTP id 6a1803df08f44-87fb5c2ef19mr91389616d6.1.1761450828712; Sat, 25 Oct 2025 20:53:48 -0700 (PDT) Received: from postal.iol.unh.edu (postal.iol.unh.edu. [2606:4100:3880:1234::84]) by smtp-relay.gmail.com with ESMTPS id 6a1803df08f44-87fc48dc74esm3872636d6.2.2025.10.25.20.53.48 (version=TLS1_2 cipher=ECDHE-ECDSA-AES128-GCM-SHA256 bits=128/128); Sat, 25 Oct 2025 20:53:48 -0700 (PDT) X-Relaying-Domain: iol.unh.edu Date: Sat, 25 Oct 2025 20:53:48 -0700 (PDT) Message-ID: <68fd9b4c.050a0220.c59a7.34f0SMTPIN_ADDED_MISSING@mx.google.com> Received: from [172.21.0.3] (unknown [172.18.0.240]) by postal.iol.unh.edu (Postfix) with ESMTP id 6724660003F4; Sat, 25 Oct 2025 23:53:48 -0400 (EDT) Subject: |WARNING| [GIT MASTER] 39b54f2dcf44ad1f91eabc7080cd5dea763607fd From: dpdklab@iol.unh.edu To: Test Report Cc: dpdk-test-reports@iol.unh.edu Content-Type: text/plain X-BeenThere: test-report@dpdk.org X-Mailman-Version: 2.1.29 Precedence: list List-Id: automatic DPDK test reports List-Unsubscribe: , List-Archive: List-Post: List-Help: List-Subscribe: , Errors-To: test-report-bounces@dpdk.org _Testing issues_ Branch: dpdk 39b54f2dcf44ad1f91eabc7080cd5dea763607fd --> testing issues Upstream job id: Generic-DPDK-Compile-Meson#437896 Test environment and result as below: +---------------------+--------------------+-------------------------+-------------------+----------------------+-------------------+ | Environment | dpdk_meson_compile | dpdk_llvm_clang_compile | dpdk_msvc_compile | dpdk_mingw64_compile | dpdk_compile_spdk | +=====================+====================+=========================+===================+======================+===================+ | Ubuntu 20.04 | PASS | SKIPPED | SKIPPED | SKIPPED | SKIPPED | +---------------------+--------------------+-------------------------+-------------------+----------------------+-------------------+ | FreeBSD 14.2 | PASS | SKIPPED | SKIPPED | SKIPPED | SKIPPED | +---------------------+--------------------+-------------------------+-------------------+----------------------+-------------------+ | CentOS Stream 9 | PASS | SKIPPED | SKIPPED | SKIPPED | WARN | +---------------------+--------------------+-------------------------+-------------------+----------------------+-------------------+ | Windows Server 2022 | SKIPPED | PASS | PASS | PASS | SKIPPED | +---------------------+--------------------+-------------------------+-------------------+----------------------+-------------------+ ==== 20 line log output for CentOS Stream 9 (dpdk_compile_spdk): ==== --- Failed to get log output --- ==== End log output ==== Ubuntu 20.04 Kernel: 4.19 Compiler: gcc gcc (Ubuntu 9.4.0-1ubuntu1~20.04.2) 9.4.0 FreeBSD 14.2 Kernel: 14.2-RELEASE Compiler: clang 18.1.6 CentOS Stream 9 Kernel: 5.15 Compiler: gcc gcc (GCC) 11.5.0 20240719 (Red Hat 11.5.0-11) Windows Server 2022 Kernel: 10.0.20348.2031 Compiler: clang 15.0.7, gcc 14.1.0 (MinGW), and MSVC VS 19.39.33521 To view detailed results, visit: https://lab.dpdk.org/results/dashboard/tarballs/35346/ UNH-IOL DPDK Community Lab To manage your email subscriptions, visit: https://lab.dpdk.org/results/dashboard/preferences/subscriptions/