From mboxrd@z Thu Jan 1 00:00:00 1970 Return-Path: Received: from mails.dpdk.org (mails.dpdk.org [217.70.189.124]) by inbox.dpdk.org (Postfix) with ESMTP id DA817489D9 for ; Sun, 26 Oct 2025 05:27:03 +0100 (CET) Received: from mails.dpdk.org (localhost [127.0.0.1]) by mails.dpdk.org (Postfix) with ESMTP id D3C834003C; Sun, 26 Oct 2025 05:27:03 +0100 (CET) Received: from mail-oa1-f100.google.com (mail-oa1-f100.google.com [209.85.160.100]) by mails.dpdk.org (Postfix) with ESMTP id 5A1144003C for ; Sun, 26 Oct 2025 05:27:02 +0100 (CET) Received: by mail-oa1-f100.google.com with SMTP id 586e51a60fabf-3c9c379af8aso2401080fac.1 for ; Sat, 25 Oct 2025 21:27:02 -0700 (PDT) DKIM-Signature: v=1; a=rsa-sha256; c=relaxed/relaxed; d=iol.unh.edu; s=unh-iol; t=1761452821; x=1762057621; darn=dpdk.org; h=cc:to:from:subject:message-id:date:from:to:cc:subject:date :message-id:reply-to; bh=Q05k02HBGa7Wr0MO1RpCUSs9wZCD62RewNhwikOsFcI=; b=LF+tLqPfmxUCVQs7DV7zylUa+huDn0kFBcM5VMjYRpk7T/g5IiWP8inEVOnp+L4l9F GYkw3xqbIT82z5CN7rjaGM+S2+OXa5mnZ+3APWqxq7NDfTi8r/2PSjVOLhYtGcnWin76 iz63fzBFtDodl8wVTFP9CFtf+vZ3UiyJ0IZH8= X-Google-DKIM-Signature: v=1; a=rsa-sha256; c=relaxed/relaxed; d=1e100.net; s=20230601; t=1761452821; x=1762057621; h=cc:to:from:subject:message-id:date:x-gm-message-state:from:to:cc :subject:date:message-id:reply-to; bh=Q05k02HBGa7Wr0MO1RpCUSs9wZCD62RewNhwikOsFcI=; b=GWwlJCVZEWsVRk73U7iKndeJuC4VLV41poG9KiCmhDWVV6ArX8wuy4TSmNFyEndlQZ kQRqaoPUcPpPofamR8hEpjObSHTwcd65MlE5BLe3whfteW8y/gYdXUDm6iTcp62JO/ZD 0qlZq+ti2NO5s3fD/Z8Ej+TteDLJ5+eFKL/E7P4WPHaiJQs1bq2ZpyDOmz7jjnd3XsDh 24xamJGr/cekr8D1/zmUSuXNK+wdYfWds6Ek2Gx+t8T+lFiQZiPQ/bkwx3yNkCN9jEFa aD40e8deVzEyS29A8zLmXpJMkWRcTU5r+CnCc583+Guh3qekTPOQD4j2WXBQUaV5qvIl c1bw== X-Gm-Message-State: AOJu0Yxj5BOUHqvwO163c9pMb1d6jW6tFbDEY8XzGL9U2crU/hk0uwlg VcOPwmkAeePmaVfjN4BYeEjBIbTFUVfxYGAggOnqyijOD4CRvcmsrfIcps7PvWTxwaR8tb3vvaw tWVU88aXPw44l7Ejhf2DMtLiC5lVjH4B16HfNEtft6pSdDaHEMcsc X-Gm-Gg: ASbGnct1X7RA+CXp1vPTNJ1nGKY/tBQlk4XNDorfzR9/anCyNYnHcAe2BifPxEze7rv fH/2DsWed7n5xLn4MHJxfQr8Qe63ZCo18uhcRK9+7VZWJeeKSg8gstV4/YxKx3ozYxFtKwrXpE4 Y/iujeQL/jWZm24RrqGT7oBAqsago9fYEizw9wlybr8NxNW8gsInxu02I6QEemQJs+kGEFtkld0 BtKxpUsS1ELF/HhFjkjN59RXxryWikCy0+KA+mMgSl86MHz9M6TXt7ArgNjGso+VBeBm88dJspm JyTq+7MzhnyPpxvBM2wmr7C8St3SvzblVPSs95O+vNuPuzyd25EQb9f/6xW7neTTQDIvXYO7H7f ZeITdhB51 X-Google-Smtp-Source: AGHT+IHjAz2i2GjGUkpWaf0fOR2NLbRr75fYsQz9BwxsBW679zx8IDjZ6Id3qbRv2tWDJ+KTgrG8vX/aY0z7 X-Received: by 2002:a05:6871:60e:b0:3d2:b76d:dc0f with SMTP id 586e51a60fabf-3d2b76ddef1mr910262fac.7.1761452821601; Sat, 25 Oct 2025 21:27:01 -0700 (PDT) Received: from postal.iol.unh.edu (postal.iol.unh.edu. [2606:4100:3880:1234::84]) by smtp-relay.gmail.com with ESMTPS id 586e51a60fabf-3d1e21f22c8sm338725fac.1.2025.10.25.21.27.01 (version=TLS1_2 cipher=ECDHE-ECDSA-AES128-GCM-SHA256 bits=128/128); Sat, 25 Oct 2025 21:27:01 -0700 (PDT) X-Relaying-Domain: iol.unh.edu Date: Sat, 25 Oct 2025 21:27:01 -0700 (PDT) Message-ID: <68fda315.050a0220.1fb12.0b89SMTPIN_ADDED_MISSING@mx.google.com> Received: from [172.21.0.2] (unknown [172.18.0.240]) by postal.iol.unh.edu (Postfix) with ESMTP id 211B86051830; Sun, 26 Oct 2025 00:27:01 -0400 (EDT) Subject: |SUCCESS| [GIT MASTER] 3b43ce3f4a54468e7ef65760c2fd7b4d6ee6d9fc From: dpdklab@iol.unh.edu To: Test Report Cc: dpdk-test-reports@iol.unh.edu, Xueming Li , Christian Ehrhardt , Kevin Traynor , Luca Boccassi Content-Type: text/plain X-BeenThere: test-report@dpdk.org X-Mailman-Version: 2.1.29 Precedence: list List-Id: automatic DPDK test reports List-Unsubscribe: , List-Archive: List-Post: List-Help: List-Subscribe: , Errors-To: test-report-bounces@dpdk.org _Testing PASS_ Branch: tags/v22.11 3b43ce3f4a54468e7ef65760c2fd7b4d6ee6d9fc --> testing pass Upstream job id: Generic-VM-DPDK-Compile-Meson#39267 Test environment and result as below: +---------------------+--------------------+-------------------------+----------------------+ | Environment | dpdk_meson_compile | dpdk_llvm_clang_compile | dpdk_mingw64_compile | +=====================+====================+=========================+======================+ | Ubuntu 20.04 | PASS | SKIPPED | SKIPPED | +---------------------+--------------------+-------------------------+----------------------+ | FreeBSD 14.2 | PASS | SKIPPED | SKIPPED | +---------------------+--------------------+-------------------------+----------------------+ | Windows Server 2022 | SKIPPED | PASS | PASS | +---------------------+--------------------+-------------------------+----------------------+ Ubuntu 20.04 Kernel: 4.19 Compiler: gcc gcc (Ubuntu 9.4.0-1ubuntu1~20.04.2) 9.4.0 FreeBSD 14.2 Kernel: 14.2-RELEASE Compiler: clang 18.1.6 Windows Server 2022 Kernel: 10.0.20348.2031 Compiler: clang 15.0.7, gcc 14.1.0 (MinGW), and MSVC VS 19.39.33521 To view detailed results, visit: https://lab.dpdk.org/results/dashboard/tarballs/35347/ UNH-IOL DPDK Community Lab To manage your email subscriptions, visit: https://lab.dpdk.org/results/dashboard/preferences/subscriptions/