From mboxrd@z Thu Jan 1 00:00:00 1970 Return-Path: Received: from mails.dpdk.org (mails.dpdk.org [217.70.189.124]) by inbox.dpdk.org (Postfix) with ESMTP id 0DE87489D9 for ; Sun, 26 Oct 2025 05:27:20 +0100 (CET) Received: from mails.dpdk.org (localhost [127.0.0.1]) by mails.dpdk.org (Postfix) with ESMTP id 008064028B; Sun, 26 Oct 2025 05:27:20 +0100 (CET) Received: from mail-pj1-f99.google.com (mail-pj1-f99.google.com [209.85.216.99]) by mails.dpdk.org (Postfix) with ESMTP id 97B694003C for ; Sun, 26 Oct 2025 05:27:11 +0100 (CET) Received: by mail-pj1-f99.google.com with SMTP id 98e67ed59e1d1-33f9aec69b6so4877397a91.1 for ; Sat, 25 Oct 2025 21:27:11 -0700 (PDT) DKIM-Signature: v=1; a=rsa-sha256; c=relaxed/relaxed; d=iol.unh.edu; s=unh-iol; t=1761452831; x=1762057631; darn=dpdk.org; h=cc:to:from:subject:message-id:date:from:to:cc:subject:date :message-id:reply-to; bh=SdZ3Gd63AhXCTrZCxNNJNP6fSiziWyM8V5NvDhb4jr8=; b=NFopZd6ODcDibsziHRi1EyBdEkkyYUIaZKHjUADGTlmTfVTapDlD0aDhHftcrcIi91 f/hlovFRA7Zcp/9gnoFfcyMPpEQHmJkZVKJfSqtJVsCd9R0HxgtAcar3UUz/+Qqx2HPG 8dpfLJStnt6MjcN8rNOe4/pbe+I+ZIR/r5oQE= X-Google-DKIM-Signature: v=1; a=rsa-sha256; c=relaxed/relaxed; d=1e100.net; s=20230601; t=1761452831; x=1762057631; h=cc:to:from:subject:message-id:date:x-gm-message-state:from:to:cc :subject:date:message-id:reply-to; bh=SdZ3Gd63AhXCTrZCxNNJNP6fSiziWyM8V5NvDhb4jr8=; b=Aw6d0HqADpJ3Yv4usJ8Ol4cX6k72cwNErM8jAWf5OViBkbMrWrAdNAg9PC4vFIP4qP X/fSzg0Hm42ynS1qHMCQDugSsWLiMhtyN1qyJBddM7W1JrYMqZKtXzXV3BhkXvxHRfPY kZc2OaUoO3DnzbpcvyO0G/V8OpALafFxJ4XkXByUHTtkPc1SUP7vCnYbaexII8sR5QDD bTbxnQlfEmm7eGTvYSN5QSjbytbX5RQzV1+j5JLuP0bBXJrXke4XrOzm7ESUdfx7qOz+ fdWauodvMxAz5jSQ5xV5tt4Yu9CQ8FmhtnHOJUdqsNgLMcAubDfRC6fcni0UTCEk3/8U hGfg== X-Gm-Message-State: AOJu0YwfqkjuVOCO2rhzUHg4hZKwLNxt8LAmuyjEat4wa1M8R/mHsJ2p 2IZutSt43PT9Pa15cV1yySnTOAJ1/ENxwU9Tr6KWTxDAVMcoOS/TtwLI3TlWe7SN5lD7Yu9e2Xy 2iBx34zFdN2vdXfRR04XvWePyJvIjFVOnczWfQ1JfXMVLlnj+YCtJ X-Gm-Gg: ASbGnctQs4h/pviE5RJJjr/bLS1AffTnoKb8QKgmb57M3+LMY7LepisPvGJyPWwa/qq ViRnLuNsQaPFaX+2CkjV49b9t2w/naTrcWcH1QbZXJPbxaZ+W0BFdw6Ki2QB6xOayMvmO6RsCuV bBOrLTaiWLc5UOvTiAvdvNHe6LAraaHJHG5C0HPueUnwx6f2y+mMWwRBV6W/+pPYhDhxu1EKCVF WauJrojVRtXpBddEjLnECRAaQlcRDMASxSEKpVdutYNx7bSfq1JuinS4nTDCU5JQCufiZWAdoFD KNumsH7S/x9oeIMyp3mbBmsgLrkx3qrENERVAcpj2GKIvrqfvRY+w8Rf1lQdhgFroqcMUGKuSgN iodTXUqQM X-Google-Smtp-Source: AGHT+IGgEByvacIuKHHv6QKxWa6ZEJ+dWNqS2NhlQLtfWZMSiV28t3MEHx75sjh8NvaHEeh9I7mQjeE9tDet X-Received: by 2002:a17:90a:ec8b:b0:330:6d5e:f174 with SMTP id 98e67ed59e1d1-33bcf8ec602mr42485000a91.20.1761452830816; Sat, 25 Oct 2025 21:27:10 -0700 (PDT) Received: from postal.iol.unh.edu (postal.iol.unh.edu. [2606:4100:3880:1234::84]) by smtp-relay.gmail.com with ESMTPS id 98e67ed59e1d1-33fed7c42c2sm381638a91.2.2025.10.25.21.27.10 (version=TLS1_2 cipher=ECDHE-ECDSA-AES128-GCM-SHA256 bits=128/128); Sat, 25 Oct 2025 21:27:10 -0700 (PDT) X-Relaying-Domain: iol.unh.edu Date: Sat, 25 Oct 2025 21:27:10 -0700 (PDT) Message-ID: <68fda31e.170a0220.33e446.1a14SMTPIN_ADDED_MISSING@mx.google.com> Received: from [172.21.0.2] (unknown [172.18.0.240]) by postal.iol.unh.edu (Postfix) with ESMTP id EF3BD6051830; Sun, 26 Oct 2025 00:27:09 -0400 (EDT) Subject: |SUCCESS| [GIT MASTER] b287e404643aeab5bb5db084c142789df187844e From: dpdklab@iol.unh.edu To: Test Report Cc: dpdk-test-reports@iol.unh.edu, Xueming Li , Christian Ehrhardt , Kevin Traynor , Luca Boccassi Content-Type: text/plain X-BeenThere: test-report@dpdk.org X-Mailman-Version: 2.1.29 Precedence: list List-Id: automatic DPDK test reports List-Unsubscribe: , List-Archive: List-Post: List-Help: List-Subscribe: , Errors-To: test-report-bounces@dpdk.org _Testing PASS_ Branch: tags/v24.11 b287e404643aeab5bb5db084c142789df187844e --> testing pass Upstream job id: Generic-VM-DPDK-Compile-Meson#39271 Test environment and result as below: +---------------------+--------------------+-------------------+-------------------------+----------------------+ | Environment | dpdk_meson_compile | dpdk_msvc_compile | dpdk_llvm_clang_compile | dpdk_mingw64_compile | +=====================+====================+===================+=========================+======================+ | Ubuntu 20.04 | PASS | SKIPPED | SKIPPED | SKIPPED | +---------------------+--------------------+-------------------+-------------------------+----------------------+ | FreeBSD 14.2 | PASS | SKIPPED | SKIPPED | SKIPPED | +---------------------+--------------------+-------------------+-------------------------+----------------------+ | Windows Server 2022 | SKIPPED | PASS | PASS | PASS | +---------------------+--------------------+-------------------+-------------------------+----------------------+ Ubuntu 20.04 Kernel: 4.19 Compiler: gcc gcc (Ubuntu 9.4.0-1ubuntu1~20.04.2) 9.4.0 FreeBSD 14.2 Kernel: 14.2-RELEASE Compiler: clang 18.1.6 Windows Server 2022 Kernel: 10.0.20348.2031 Compiler: clang 15.0.7, gcc 14.1.0 (MinGW), and MSVC VS 19.39.33521 To view detailed results, visit: https://lab.dpdk.org/results/dashboard/tarballs/35349/ UNH-IOL DPDK Community Lab To manage your email subscriptions, visit: https://lab.dpdk.org/results/dashboard/preferences/subscriptions/