From mboxrd@z Thu Jan 1 00:00:00 1970 Return-Path: Received: from mails.dpdk.org (mails.dpdk.org [217.70.189.124]) by inbox.dpdk.org (Postfix) with ESMTP id 41DFE489D9 for ; Sun, 26 Oct 2025 05:59:38 +0100 (CET) Received: from mails.dpdk.org (localhost [127.0.0.1]) by mails.dpdk.org (Postfix) with ESMTP id 1C7B34003C; Sun, 26 Oct 2025 05:59:38 +0100 (CET) Received: from mail-qv1-f99.google.com (mail-qv1-f99.google.com [209.85.219.99]) by mails.dpdk.org (Postfix) with ESMTP id 76B034003C for ; Sun, 26 Oct 2025 05:59:37 +0100 (CET) Received: by mail-qv1-f99.google.com with SMTP id 6a1803df08f44-87d8fa51993so41294686d6.1 for ; Sat, 25 Oct 2025 21:59:37 -0700 (PDT) DKIM-Signature: v=1; a=rsa-sha256; c=relaxed/relaxed; d=iol.unh.edu; s=unh-iol; t=1761454777; x=1762059577; darn=dpdk.org; h=references:in-reply-to:cc:to:from:subject:message-id:date:from:to :cc:subject:date:message-id:reply-to; bh=EAzV0Xo1A9+uMGURJwQdPsJ7IhicQX6hlF8S3TWcp6w=; b=StEm1ODqqqK5Sbir/yFyofOyNYajN5lIriudkdV2JYLK0a0EM2tK9vw5yRaoyS7yVc SbPcO92kmHkn3Z28TlOY6oqMiU1ymwlZgBsTxQLH6zk9/eBp2uZ4mjPQs+EJ5U/amAdh vQY/4/ZB1DpF167IMjedSoVmwlMBn1J6ZYhWw= X-Google-DKIM-Signature: v=1; a=rsa-sha256; c=relaxed/relaxed; d=1e100.net; s=20230601; t=1761454777; x=1762059577; h=references:in-reply-to:cc:to:from:subject:message-id:date :x-gm-message-state:from:to:cc:subject:date:message-id:reply-to; bh=EAzV0Xo1A9+uMGURJwQdPsJ7IhicQX6hlF8S3TWcp6w=; b=ju7HhjxqOYGBhc8WqgBTCpsNWnU9G+I4TuNabFwcYfixV3gFSL8qE53zoWqTLaDh59 h3iPqncWsPrPxmV3qRBCF3jcf+jmOrCdxbW/E/oMi5qZTX7w+mjCSCehPBNsRYo8N+TA n4S5xU4uEM6/LwB7y2FIYOnsR7WNeYP4ocxIhpFbtEDUcfKvIbBj369VbwG05Z+ceGMW BPd7JGfnwvAlsZJ9T3j20C1NDDcLCQlQ5sxflv6y1z3237jVHvK5L4bkMNfW6gYIJWOg T6yRgmh3w6b/rTV0Ax84UGTLfhhp8QqdCw68O7yXjGq4AznipTIit6UMa/THfLZp+eFG Diqg== X-Gm-Message-State: AOJu0Yz0zbPnztsdAQXKC1xnqVRzOVB2jKlOheez7iaOmLweCLEz6+s2 B0dY278F+XhnTYCcmwbC+rie9QYNdTYX0mrLckBm5lCBzVvJ2PgzMOlrCVvkhRY+wXp1J5Hd2lP W9ztstB4/fGlNUdKJ/KhJmvU1OtA/391ZXJFIUx+VXR8G X-Gm-Gg: ASbGncuvRxicvysWEy3ei0XL+Hh+5rOB/xErhcFUCNwTbezkleoL8AZO1j5VUAo6C+X pt7QQ3SeMYBAxWM+Q/PgtM2ZeQ0Ltm8rSTWRnyrKD1V8iONuR8zuT839lpkBh0oLGeZk1r/zhV4 CnQY2bE/selxA/Qyyj3ItssQq1fVhdJw2H73k7auo+yaHAQD5RtwtRvUdSh7pXkk/YbBlu2y0fZ Ih4WRMm1XqY9LpKpH1NNTHEbWbcekhhSQOKEKHLVBWgLa5cOiHN7loDgt9xcst7qgNgSSrUDQ27 YwLly1vfR07dLT61Sg7jNuV7pfRdLLptrKfqYrINuYm9LRhatAKekkG6g+4mZv1xRbtY1OAFbY7 IlCzhm6geNNDfsfZ9tSn4qDyO53/efN8= X-Google-Smtp-Source: AGHT+IGjIqz4KJxWG6M69FhQLrF1AvnAz0VuxviiKR6VqUmOPlJr+s4uzj5rxwDBQwejKrlzIxsG6kCm89qk X-Received: by 2002:a05:6214:2122:b0:87d:cad9:ccba with SMTP id 6a1803df08f44-87dcad9ccf3mr389630276d6.14.1761454776786; Sat, 25 Oct 2025 21:59:36 -0700 (PDT) Received: from postal.iol.unh.edu (postal.iol.unh.edu. [132.177.123.84]) by smtp-relay.gmail.com with ESMTPS id 6a1803df08f44-87fc48dbc14sm3924936d6.6.2025.10.25.21.59.36 (version=TLS1_2 cipher=ECDHE-ECDSA-AES128-GCM-SHA256 bits=128/128); Sat, 25 Oct 2025 21:59:36 -0700 (PDT) X-Relaying-Domain: iol.unh.edu Date: Sat, 25 Oct 2025 21:59:36 -0700 (PDT) Message-ID: <68fdaab8.050a0220.298b87.29f0SMTPIN_ADDED_MISSING@mx.google.com> Received: from [172.21.0.2] (unknown [172.18.0.240]) by postal.iol.unh.edu (Postfix) with ESMTP id 8F6D16051830; Sun, 26 Oct 2025 00:59:36 -0400 (EDT) Subject: |SUCCESS| pw158100-158107 [PATCH] [v5,8/8] doc: update documentation From: dpdklab@iol.unh.edu To: Test Report Cc: dpdk-test-reports@iol.unh.edu In-Reply-To: <20251024215456.282171-9-stephen@networkplumber.org> References: <20251024215456.282171-9-stephen@networkplumber.org> Content-Type: text/plain X-BeenThere: test-report@dpdk.org X-Mailman-Version: 2.1.29 Precedence: list List-Id: automatic DPDK test reports List-Unsubscribe: , List-Archive: List-Post: List-Help: List-Subscribe: , Errors-To: test-report-bounces@dpdk.org Test-Label: iol-compile-arm64-testing Test-Status: SUCCESS http://dpdk.org/patch/158107 _Testing PASS_ Submitter: Stephen Hemminger Date: Friday, October 24 2025 21:54:03 DPDK git baseline: Repo:dpdk Branch: master CommitID:90f838a042f3e1bd663aca16bcdfc4dcd14b47d5 158100-158107 --> testing pass Upstream job id: Generic-DPDK-Compile-Meson#437761 Test environment and result as below: +------------------------------+--------------------+ | Environment | dpdk_meson_compile | +==============================+====================+ | Red Hat Enterprise Linux 9.5 | PASS | +------------------------------+--------------------+ | Ubuntu 20.04 | PASS | +------------------------------+--------------------+ | Debian GNU/Linux 12 | PASS | +------------------------------+--------------------+ | Fedora Linux 42 | PASS | +------------------------------+--------------------+ | Ubuntu 22.04 | PASS | +------------------------------+--------------------+ | Ubuntu 24.04 | PASS | +------------------------------+--------------------+ | CentOS Stream 9 | PASS | +------------------------------+--------------------+ | CentOS Stream 10 | PASS | +------------------------------+--------------------+ Red Hat Enterprise Linux 9.5 Kernel: 5.4 Compiler: gcc gcc (GCC) 11.5.0 20240719 (Red Hat 11.5.0-2) Ubuntu 20.04 Kernel: 5.15 Compiler: aarch64-linux-gnu-gcc gcc (Ubuntu 9.4.0-1ubuntu1~20.04.2) 9.4.0 Debian GNU/Linux 12 Kernel: 5.4 Compiler: gcc gcc (Debian 12.2.0-14+deb12u1) 12.2.0 Fedora Linux 42 Kernel: 5.4 Compiler: gcc gcc (GCC) 15.2.1 20250808 (Red Hat 15.2.1-1) Ubuntu 22.04 Kernel: 5.4 Compiler: gcc gcc (Ubuntu 11.4.0-1ubuntu1~22.04) 11.4.0 Ubuntu 24.04 Kernel: 5.4 Compiler: gcc gcc (Ubuntu 13.3.0-6ubuntu2~24.04) 13.3.0 CentOS Stream 9 Kernel: 5.4 Compiler: gcc gcc (GCC) 11.5.0 20240719 (Red Hat 11.5.0-11) CentOS Stream 10 Kernel: 5.4 Compiler: gcc gcc (GCC) 14.2.1 20250110 (Red Hat 14.2.1-8) To view detailed results, visit: https://lab.dpdk.org/results/dashboard/patchsets/34382/ UNH-IOL DPDK Community Lab To manage your email subscriptions, visit: https://lab.dpdk.org/results/dashboard/preferences/subscriptions/