From mboxrd@z Thu Jan 1 00:00:00 1970 Return-Path: Received: from mails.dpdk.org (mails.dpdk.org [217.70.189.124]) by inbox.dpdk.org (Postfix) with ESMTP id D6A6D489DA for ; Sun, 26 Oct 2025 06:07:48 +0100 (CET) Received: from mails.dpdk.org (localhost [127.0.0.1]) by mails.dpdk.org (Postfix) with ESMTP id CDEED4003C; Sun, 26 Oct 2025 06:07:48 +0100 (CET) Received: from mail-pf1-f227.google.com (mail-pf1-f227.google.com [209.85.210.227]) by mails.dpdk.org (Postfix) with ESMTP id 9A9A74003C for ; Sun, 26 Oct 2025 06:07:47 +0100 (CET) Received: by mail-pf1-f227.google.com with SMTP id d2e1a72fcca58-781ea2cee3fso3312255b3a.0 for ; Sat, 25 Oct 2025 22:07:47 -0700 (PDT) DKIM-Signature: v=1; a=rsa-sha256; c=relaxed/relaxed; d=iol.unh.edu; s=unh-iol; t=1761455267; x=1762060067; darn=dpdk.org; h=references:in-reply-to:cc:to:from:subject:message-id:date:from:to :cc:subject:date:message-id:reply-to; bh=J4C1Nwkic8k/IkO9GEJAPca3yAvUWIS0QkJeokCRsoY=; b=F3Nd6wy8K7aJDg+5fI1bSS1243Wj808S141KrhmTkkFU3o8hy/gd+NG3sZcuba4bp9 VYeoWLnd04OwYG6kHe81yoCRV9YUCX3NvBCTorIc59fTiK4LfSkIFrzE6WfzR5pNxNqk PgpDxI9K0wzKdMne4rxC4ogNTeRzX6/ePI6z8= X-Google-DKIM-Signature: v=1; a=rsa-sha256; c=relaxed/relaxed; d=1e100.net; s=20230601; t=1761455267; x=1762060067; h=references:in-reply-to:cc:to:from:subject:message-id:date :x-gm-message-state:from:to:cc:subject:date:message-id:reply-to; bh=J4C1Nwkic8k/IkO9GEJAPca3yAvUWIS0QkJeokCRsoY=; b=vpa/0/F/lBuzIb/gBp4Op7cJlL+/CpvcBUFuBZK83uXxy2GmuBL/w+QXc6p1i+IEx8 KqkkMl8nMAV7DQn6FTGDotr4PmsWnggwKdi7PYztUMsvluADHvVWRXnJ1+48HWTElXlc Z/XjUr+vgIEYs+Bm3MDPXKGF10Ch5BHyjBH/rD0V4Dbg8lCq2rEGh2MLUbf1Cs83fJkX ZKjw28/ODOXuw/UfHncOxViBlJMeK23PaZ6UTS2PEpgYCfnWy6GpmO8WxZJtRCtcKsbK UompTk7z10KBynng77YvmHpprfHfw3MMEvwZkS/PyvPVYIkxkDNumSbbln0pV7XUvsm/ UP+g== X-Gm-Message-State: AOJu0Yz68M1W9SdQNt3Xb1eLPe5KEClLU+yLkvR253k+SVJXfqd4ShYI 1PM7dyLIOvf8mPEPCdLXPLHBfSKbuCeI2ZPDFwY3jUxhYbxiZRQKPQmc9SyMFg/cj02gMfwKdXl I5cYgJTjvhGYzT0sh3V21ukxtyijBTwpkdqcx0NFV5PCk X-Gm-Gg: ASbGnctkWvYd7bU7sqEej4fCsMQESCztKXDLqUH9wTQchRcQwnB1wCf/v/JzFq0PIP/ kSihxnzyXCmb7yLUaGKVwVSmrL9Fz/oiIwU3xw6fNYpfsx4O/cvLEo4tIg6OCzM5aRtNKw/VZkU fKkN2TotSkIPWulX5iHgKxFLSgSH7j300Afy1o0ae2Oel12bpFvp7eoFmx9tUSjyVUk9r0e5w/z adxLcHqs9EmtEmf/QNRWVuVAUU24s6PIYSdApegJFLYpgYM0De/sOA7M0azUIHn5T07HXU1BrAG wf9yVvhjcFi0I8898CSQ8tPQwkAELkUTWUQP4kv7xmhsp7019p0sBRr+rtFxNnIcFL0AoTOBua4 N6ZOJcKdgitNkpi+BFDE3Y4Jxb0JcQ3w= X-Google-Smtp-Source: AGHT+IG+2z54sfzS05gx45R2na29jjPJF8iA/6a4rU8KsVTH8+amT8+EKaDrd0jE9WdTSxIcTLoa5MQo5Mfw X-Received: by 2002:a05:6a20:3d85:b0:334:9b5d:387b with SMTP id adf61e73a8af0-33de9099cd5mr9699493637.1.1761455266713; Sat, 25 Oct 2025 22:07:46 -0700 (PDT) Received: from postal.iol.unh.edu (postal.iol.unh.edu. [132.177.123.84]) by smtp-relay.gmail.com with ESMTPS id 98e67ed59e1d1-33fed7b292csm390453a91.3.2025.10.25.22.07.46 (version=TLS1_2 cipher=ECDHE-ECDSA-AES128-GCM-SHA256 bits=128/128); Sat, 25 Oct 2025 22:07:46 -0700 (PDT) X-Relaying-Domain: iol.unh.edu Date: Sat, 25 Oct 2025 22:07:46 -0700 (PDT) Message-ID: <68fdaca2.170a0220.12fd3a.2510SMTPIN_ADDED_MISSING@mx.google.com> Received: from [172.21.0.2] (unknown [172.18.0.240]) by postal.iol.unh.edu (Postfix) with ESMTP id 0581F6051830; Sun, 26 Oct 2025 01:07:46 -0400 (EDT) Subject: |SUCCESS| pw158108 [PATCH] mbuf: fix build failure if MBUF_HISTORY_D From: dpdklab@iol.unh.edu To: Test Report Cc: dpdk-test-reports@iol.unh.edu In-Reply-To: <20251024222946.323662-1-stephen@networkplumber.org> References: <20251024222946.323662-1-stephen@networkplumber.org> Content-Type: text/plain X-BeenThere: test-report@dpdk.org X-Mailman-Version: 2.1.29 Precedence: list List-Id: automatic DPDK test reports List-Unsubscribe: , List-Archive: List-Post: List-Help: List-Subscribe: , Errors-To: test-report-bounces@dpdk.org Test-Label: iol-compile-arm64-testing Test-Status: SUCCESS http://dpdk.org/patch/158108 _Testing PASS_ Submitter: Stephen Hemminger Date: Friday, October 24 2025 22:29:46 DPDK git baseline: Repo:dpdk Branch: master CommitID:90f838a042f3e1bd663aca16bcdfc4dcd14b47d5 158108 --> testing pass Upstream job id: Generic-DPDK-Compile-Meson#437788 Test environment and result as below: +------------------------------+--------------------+ | Environment | dpdk_meson_compile | +==============================+====================+ | Red Hat Enterprise Linux 9.5 | PASS | +------------------------------+--------------------+ | Ubuntu 20.04 | PASS | +------------------------------+--------------------+ | Debian GNU/Linux 12 | PASS | +------------------------------+--------------------+ | Fedora Linux 42 | PASS | +------------------------------+--------------------+ | Ubuntu 22.04 | PASS | +------------------------------+--------------------+ | Ubuntu 24.04 | PASS | +------------------------------+--------------------+ | CentOS Stream 9 | PASS | +------------------------------+--------------------+ | CentOS Stream 10 | PASS | +------------------------------+--------------------+ Red Hat Enterprise Linux 9.5 Kernel: 5.4 Compiler: gcc gcc (GCC) 11.5.0 20240719 (Red Hat 11.5.0-2) Ubuntu 20.04 Kernel: 5.15 Compiler: aarch64-linux-gnu-gcc gcc (Ubuntu 9.4.0-1ubuntu1~20.04.2) 9.4.0 Debian GNU/Linux 12 Kernel: 5.4 Compiler: gcc gcc (Debian 12.2.0-14+deb12u1) 12.2.0 Fedora Linux 42 Kernel: 5.4 Compiler: gcc gcc (GCC) 15.2.1 20250808 (Red Hat 15.2.1-1) Ubuntu 22.04 Kernel: 5.4 Compiler: gcc gcc (Ubuntu 11.4.0-1ubuntu1~22.04) 11.4.0 Ubuntu 24.04 Kernel: 5.4 Compiler: gcc gcc (Ubuntu 13.3.0-6ubuntu2~24.04) 13.3.0 CentOS Stream 9 Kernel: 5.4 Compiler: gcc gcc (GCC) 11.5.0 20240719 (Red Hat 11.5.0-11) CentOS Stream 10 Kernel: 5.4 Compiler: gcc gcc (GCC) 14.2.1 20250110 (Red Hat 14.2.1-8) To view detailed results, visit: https://lab.dpdk.org/results/dashboard/patchsets/34383/ UNH-IOL DPDK Community Lab To manage your email subscriptions, visit: https://lab.dpdk.org/results/dashboard/preferences/subscriptions/