From mboxrd@z Thu Jan 1 00:00:00 1970 Return-Path: Received: from mails.dpdk.org (mails.dpdk.org [217.70.189.124]) by inbox.dpdk.org (Postfix) with ESMTP id B0A58489DA for ; Sun, 26 Oct 2025 06:15:11 +0100 (CET) Received: from mails.dpdk.org (localhost [127.0.0.1]) by mails.dpdk.org (Postfix) with ESMTP id 86D344003C; Sun, 26 Oct 2025 06:15:11 +0100 (CET) Received: from mail-pl1-f225.google.com (mail-pl1-f225.google.com [209.85.214.225]) by mails.dpdk.org (Postfix) with ESMTP id DFBCD4003C for ; Sun, 26 Oct 2025 06:15:10 +0100 (CET) Received: by mail-pl1-f225.google.com with SMTP id d9443c01a7336-290a3a4c7ecso38941895ad.0 for ; Sat, 25 Oct 2025 22:15:10 -0700 (PDT) DKIM-Signature: v=1; a=rsa-sha256; c=relaxed/relaxed; d=iol.unh.edu; s=unh-iol; t=1761455710; x=1762060510; darn=dpdk.org; h=cc:to:from:subject:message-id:date:from:to:cc:subject:date :message-id:reply-to; bh=A5vKXPPY+/e+InFybewk0nrygV947Hkm77t8bo9UBxs=; b=E58+I8fO245QDyW0lwHxFkaU4AWhvl9kKKHG5ZO+rGoZzYXlr2XXDqzOOEnlr8q/5L wXJK6Eeg37npNiXhj75Rgjq0p+Ksn678/whiojzn/fdSo4gWV1tgknCAecKXJh9/gcqv p2CmVLn/fgQfpeOim+g8FKqFFjo1qM67PrLAM= X-Google-DKIM-Signature: v=1; a=rsa-sha256; c=relaxed/relaxed; d=1e100.net; s=20230601; t=1761455710; x=1762060510; h=cc:to:from:subject:message-id:date:x-gm-message-state:from:to:cc :subject:date:message-id:reply-to; bh=A5vKXPPY+/e+InFybewk0nrygV947Hkm77t8bo9UBxs=; b=nzy+/8OQsTI2fZ9C+T5JCMO/rouwQ+RBVje05y/DopM0sxXFoxFWlRYZVXeFc+PQza VA/22dMEW6vDGQnyGX2WRbhnjpMfj4WYYFQw0hHkA/DbM66MqSxUwBdCuh++Nd+BxSs4 UEF10Lo2vsw0D/M/yQJZ6otzccAqsQLbI2oMAvd8Wy0HPDjsjneATs9NFnEnApn3Yia0 dwK7VYT+VOHqAygDRXhk8CIiocBw4CWLSgLZAwF244p0WubOFLahf0Nomp0VEMwnNgKL rB0WOvkDmVj4AiuLK3OUJaF5dkdRsiT26WqQM0j8QIsEum21sfVB1xj4yool4Ebx9vaY ZVQA== X-Gm-Message-State: AOJu0YyzE4XERYDfX8SRVomhT6EC8A3Ht31hAOjJ2HvY5gIK9VnEjdsm Gfuqpmp0O1tXUcBEX1NR26dzo1ZJt+VdbG2Z5KRvRVaQcqops+qNbzB8awB0Ey1jyvxyFYOV6Ta R/WOmOrPp8J3emkOKajvrIwRlb+t6/BNaQXaFPtS6/evA34zKCFelOnKmQ9Hg X-Gm-Gg: ASbGnctqDanOMPCN8nzsdHQAbjM3tX5sODwls5sOrcGmlRIE8PRzgwjJZZiLWQ55Awm 7p1NmGhROjwg1bxIbCNLHMIiYSjUz5HExUB+VlXKgncmWF4xxCfTO5/GX7boTlWgvHOT9s/2ibw VqpsBs09MqBtXsHykFHk4TsRvSK6Mu3m12ctEiG03elJx0fqFNVDTW63/UND4Jmi4Xke88ZZMeX /tWlvPVo/PNjiM9zLiRcj196kPE/QXJ0mWduckPcHgdghWUO0WXrbR3/6Z4wF9w3tT6/cKMKCem mgLtuga+0dI5l+viLmoSU31c7I3AOAAm5ofJzvcUbuaADEBEts6uKE0q7N/aFs5A1JE7adENa3M RbWTz+zRT X-Google-Smtp-Source: AGHT+IGh3a4q4ZX+fxjWfMljKTJ7Sqg3QgBQOD34x92oLg2gXUlqo7aUO8dI8PtuRBv4L8PCWChOKeukT0nL X-Received: by 2002:a17:902:dad2:b0:293:e5f:85d7 with SMTP id d9443c01a7336-2930e5f9244mr186717965ad.55.1761455709767; Sat, 25 Oct 2025 22:15:09 -0700 (PDT) Received: from postal.iol.unh.edu (postal.iol.unh.edu. [2606:4100:3880:1234::84]) by smtp-relay.gmail.com with ESMTPS id d9443c01a7336-29498e6e7b0sm3833725ad.13.2025.10.25.22.15.09 (version=TLS1_2 cipher=ECDHE-ECDSA-AES128-GCM-SHA256 bits=128/128); Sat, 25 Oct 2025 22:15:09 -0700 (PDT) X-Relaying-Domain: iol.unh.edu Date: Sat, 25 Oct 2025 22:15:09 -0700 (PDT) Message-ID: <68fdae5d.170a0220.28083c.219dSMTPIN_ADDED_MISSING@mx.google.com> Received: from [172.21.0.2] (unknown [172.18.0.240]) by postal.iol.unh.edu (Postfix) with ESMTP id 096DA6051830; Sun, 26 Oct 2025 01:15:09 -0400 (EDT) Subject: |WARNING| [GIT MASTER] 39b54f2dcf44ad1f91eabc7080cd5dea763607fd From: dpdklab@iol.unh.edu To: Test Report Cc: dpdk-test-reports@iol.unh.edu Content-Type: text/plain X-BeenThere: test-report@dpdk.org X-Mailman-Version: 2.1.29 Precedence: list List-Id: automatic DPDK test reports List-Unsubscribe: , List-Archive: List-Post: List-Help: List-Subscribe: , Errors-To: test-report-bounces@dpdk.org _Testing issues_ Branch: dpdk 39b54f2dcf44ad1f91eabc7080cd5dea763607fd --> testing issues Upstream job id: Generic-DPDK-Compile-Meson#437908 Test environment and result as below: +-------------------------------+--------------------+-------------------------+-------------------+----------------------+-------------------+------------------+ | Environment | dpdk_meson_compile | dpdk_llvm_clang_compile | dpdk_msvc_compile | dpdk_mingw64_compile | dpdk_compile_spdk | dpdk_compile_ovs | +===============================+====================+=========================+===================+======================+===================+==================+ | Ubuntu 20.04 | PASS | SKIPPED | SKIPPED | SKIPPED | SKIPPED | SKIPPED | +-------------------------------+--------------------+-------------------------+-------------------+----------------------+-------------------+------------------+ | FreeBSD 14.2 | PASS | SKIPPED | SKIPPED | SKIPPED | SKIPPED | SKIPPED | +-------------------------------+--------------------+-------------------------+-------------------+----------------------+-------------------+------------------+ | CentOS Stream 9 | PASS | SKIPPED | SKIPPED | SKIPPED | WARN | SKIPPED | +-------------------------------+--------------------+-------------------------+-------------------+----------------------+-------------------+------------------+ | CentOS Stream 10 | PASS | SKIPPED | SKIPPED | SKIPPED | SKIPPED | SKIPPED | +-------------------------------+--------------------+-------------------------+-------------------+----------------------+-------------------+------------------+ | Debian GNU/Linux 12 | PASS | SKIPPED | SKIPPED | SKIPPED | WARN | SKIPPED | +-------------------------------+--------------------+-------------------------+-------------------+----------------------+-------------------+------------------+ | Fedora Linux 42 | PASS | SKIPPED | SKIPPED | SKIPPED | WARN | PASS | +-------------------------------+--------------------+-------------------------+-------------------+----------------------+-------------------+------------------+ | openSUSE Leap 15.6 | PASS | SKIPPED | SKIPPED | SKIPPED | SKIPPED | SKIPPED | +-------------------------------+--------------------+-------------------------+-------------------+----------------------+-------------------+------------------+ | Red Hat Enterprise Linux 8.10 | PASS | SKIPPED | SKIPPED | SKIPPED | SKIPPED | SKIPPED | +-------------------------------+--------------------+-------------------------+-------------------+----------------------+-------------------+------------------+ | Red Hat Enterprise Linux 9.5 | PASS | SKIPPED | SKIPPED | SKIPPED | SKIPPED | SKIPPED | +-------------------------------+--------------------+-------------------------+-------------------+----------------------+-------------------+------------------+ | Ubuntu 24.04 | PASS | SKIPPED | SKIPPED | SKIPPED | WARN | PASS | +-------------------------------+--------------------+-------------------------+-------------------+----------------------+-------------------+------------------+ | Ubuntu 22.04 | PASS | SKIPPED | SKIPPED | SKIPPED | WARN | SKIPPED | +-------------------------------+--------------------+-------------------------+-------------------+----------------------+-------------------+------------------+ | Alpine Linux 3.22.0 | PASS | SKIPPED | SKIPPED | SKIPPED | SKIPPED | SKIPPED | +-------------------------------+--------------------+-------------------------+-------------------+----------------------+-------------------+------------------+ | Arch Linux 20250613.0.365270 | PASS | SKIPPED | SKIPPED | SKIPPED | SKIPPED | SKIPPED | +-------------------------------+--------------------+-------------------------+-------------------+----------------------+-------------------+------------------+ | Windows Server 2022 | SKIPPED | PASS | PASS | PASS | SKIPPED | SKIPPED | +-------------------------------+--------------------+-------------------------+-------------------+----------------------+-------------------+------------------+ ==== 20 line log output for Ubuntu 22.04 (dpdk_compile_spdk): ==== --- Failed to get log output --- ==== End log output ==== Ubuntu 20.04 Kernel: 4.19 Compiler: gcc gcc (Ubuntu 9.4.0-1ubuntu1~20.04.2) 9.4.0 FreeBSD 14.2 Kernel: 14.2-RELEASE Compiler: clang 18.1.6 CentOS Stream 9 Kernel: 5.15 Compiler: gcc gcc (GCC) 11.5.0 20240719 (Red Hat 11.5.0-11) CentOS Stream 10 Kernel: 5.15 Compiler: gcc gcc (GCC) 14.2.1 20250110 (Red Hat 14.2.1-8) Debian GNU/Linux 12 Kernel: 5.15 Compiler: gcc gcc (Debian 12.2.0-14+deb12u1) 12.2.0 Fedora Linux 42 Kernel: 5.15 Compiler: clang gcc (GCC) 15.2.1 20250808 (Red Hat 15.2.1-1) openSUSE Leap 15.6 Kernel: 5.15 Compiler: gcc gcc (SUSE Linux) 7.5.0 Red Hat Enterprise Linux 8.10 Kernel: 5.15 Compiler: gcc gcc (GCC) 8.5.0 20210514 (Red Hat 8.5.0-22) Red Hat Enterprise Linux 9.5 Kernel: 5.15 Compiler: gcc gcc (GCC) 11.5.0 20240719 (Red Hat 11.5.0-2) Ubuntu 24.04 Kernel: 5.15 Compiler: gcc gcc (Ubuntu 13.3.0-6ubuntu2~24.04) 13.3.0 Ubuntu 22.04 Kernel: 5.15 Compiler: gcc gcc (Ubuntu 11.4.0-1ubuntu1~22.04) 11.4.0 Alpine Linux 3.22.0 Kernel: 5.15 Compiler: gcc gcc (Alpine 14.2.0) 14.2.0 Arch Linux 20250613.0.365270 Kernel: 5.15 Compiler: gcc gcc (GCC) 15.1.1 20250425 Windows Server 2022 Kernel: 10.0.20348.2031 Compiler: clang 15.0.7, gcc 14.1.0 (MinGW), and MSVC VS 19.39.33521 To view detailed results, visit: https://lab.dpdk.org/results/dashboard/tarballs/35346/ UNH-IOL DPDK Community Lab To manage your email subscriptions, visit: https://lab.dpdk.org/results/dashboard/preferences/subscriptions/