From mboxrd@z Thu Jan 1 00:00:00 1970 Return-Path: Received: from mails.dpdk.org (mails.dpdk.org [217.70.189.124]) by inbox.dpdk.org (Postfix) with ESMTP id B4B53489DA for ; Sun, 26 Oct 2025 06:57:28 +0100 (CET) Received: from mails.dpdk.org (localhost [127.0.0.1]) by mails.dpdk.org (Postfix) with ESMTP id 936824003C; Sun, 26 Oct 2025 06:57:28 +0100 (CET) Received: from mail-oa1-f97.google.com (mail-oa1-f97.google.com [209.85.160.97]) by mails.dpdk.org (Postfix) with ESMTP id C3E4C4003C for ; Sun, 26 Oct 2025 06:57:27 +0100 (CET) Received: by mail-oa1-f97.google.com with SMTP id 586e51a60fabf-3d238ab4d9fso695767fac.1 for ; Sat, 25 Oct 2025 22:57:27 -0700 (PDT) DKIM-Signature: v=1; a=rsa-sha256; c=relaxed/relaxed; d=iol.unh.edu; s=unh-iol; t=1761458246; x=1762063046; darn=dpdk.org; h=references:in-reply-to:cc:to:from:subject:message-id:date:from:to :cc:subject:date:message-id:reply-to; bh=UI1ySLFgtU4x7Njxf+6lcMIm8MpwHc3wR9eagrxG814=; b=bCXwHtzLj+gXDorrUzDHEpa7LZjQCD16HtD3oPPlzM1w3d7UMOQ7Ce7B2U5rzoRxEt J3j7EGvt9HZ+ZKivwI7nyT8NfszT6I8BH4KjD3EskJ600VnxGaA0WLrIl4wwI8xpDU76 Pwuw06Kc5EC6ZfCeWoQZHBWMcdx2XCW8IsM50= X-Google-DKIM-Signature: v=1; a=rsa-sha256; c=relaxed/relaxed; d=1e100.net; s=20230601; t=1761458246; x=1762063046; h=references:in-reply-to:cc:to:from:subject:message-id:date :x-gm-message-state:from:to:cc:subject:date:message-id:reply-to; bh=UI1ySLFgtU4x7Njxf+6lcMIm8MpwHc3wR9eagrxG814=; b=IyidDh92xbw3oRK/3IMJSrkcihDIRT5Yv83cBDTGHzDa+Wrwkch+wSTuyEaaD6OV8w SdQb42zx+V4MxmIHWft+MwjVT81td5ovh+2roUWDFoybE3lXFg0kDJ+UlTAyDFDf93TD kco+dFUeMywET93R5Mp1bTfIosIuzBT/rUCqv8jkucjJtjnYepU6sVMMfIeg9/uF5nAB 03g+KEcLCVenpHAH6/7PFLlsvjaw1pS8ctP64/tby0x9kG1UFF5EuGrgWk/jwZflsymB yEyncyoGZ0wyHGqo8BEPhrTZI6ioQg3pEwSeVeEJytTNpXYDtTroFUAojDYycCRby4GK BP+g== X-Gm-Message-State: AOJu0Ywxzbz6Qf+e2sBp295w9sgVSnkxXA3OytUWBJmos6wnnU7D+nTL tKdZFRAzGZeN7COq0gwB+ondOlHL+DnVYJRqT+MPweQG03wp7Kur4QYQuBFtYAaAa8cAoOdxtEf uVEpdQAxlzBYFqLeYB3ueCWuy3VKIXJ7iN4ELGY5QFgkM X-Gm-Gg: ASbGncsrGS2ABheDjmTfCkiIzXDK0ZW9hy+nO6mlmXqJvie/IpP0i7xLBhY40e50skZ a392sAI9+9HJbFE0O/O2ENNj5oxKccWcXDScLmLWA5nVp2mFCLaMF6XNkMRGPOwkoXXTRfGw5/o AV+clrxfj4aoNt7mH979G9Y/mCmxNU8xcgWh4Mti7hwyLbVckU2IAdYbw6Pxtx2hETRk/HRHsrX pXUMFCNHESMNu3vpf7AZ+Doh+ST9TfmVaj6fZR+/v//71ES7RzKDnPlG4o8k+vQfDIlAOpjAXMj kJqjEn6Ql/FzfDToD9uDugUIAyGEGh9Kxt3zPGEeOQ35K6WmBMa0dQNOIEDCoWtdbB6EjwmIZbu MpWDIazVQl5KksPW24NHr+Wf1QxCd7LA= X-Google-Smtp-Source: AGHT+IGhgsUhspY62caV3FJUDoFli2pv+lsgPgKJbGw1VI/lxWCg8f+FGb2s+7mY3gkk6xbZlINQDz5blbej X-Received: by 2002:a05:6870:1b05:b0:3d3:22b3:ee25 with SMTP id 586e51a60fabf-3d322b3fdbbmr720395fac.18.1761458246599; Sat, 25 Oct 2025 22:57:26 -0700 (PDT) Received: from postal.iol.unh.edu (postal.iol.unh.edu. [132.177.123.84]) by smtp-relay.gmail.com with ESMTPS id 586e51a60fabf-3d1e280d6adsm324150fac.6.2025.10.25.22.57.26 (version=TLS1_2 cipher=ECDHE-ECDSA-AES128-GCM-SHA256 bits=128/128); Sat, 25 Oct 2025 22:57:26 -0700 (PDT) X-Relaying-Domain: iol.unh.edu Date: Sat, 25 Oct 2025 22:57:26 -0700 (PDT) Message-ID: <68fdb846.050a0220.168c67.f444SMTPIN_ADDED_MISSING@mx.google.com> Received: from [172.21.0.2] (unknown [172.18.0.240]) by postal.iol.unh.edu (Postfix) with ESMTP id 155A76051830; Sun, 26 Oct 2025 01:57:26 -0400 (EDT) Subject: |SUCCESS| pw158098 [PATCH] compressdev: fix coverity issue From: dpdklab@iol.unh.edu To: Test Report Cc: dpdk-test-reports@iol.unh.edu, Akhil Goyal In-Reply-To: <20251024191108.1728811-1-svaze@qti.qualcomm.com> References: <20251024191108.1728811-1-svaze@qti.qualcomm.com> Content-Type: text/plain X-BeenThere: test-report@dpdk.org X-Mailman-Version: 2.1.29 Precedence: list List-Id: automatic DPDK test reports List-Unsubscribe: , List-Archive: List-Post: List-Help: List-Subscribe: , Errors-To: test-report-bounces@dpdk.org Test-Label: iol-compile-arm64-testing Test-Status: SUCCESS http://dpdk.org/patch/158098 _Testing PASS_ Submitter: Sameer Vaze Date: Friday, October 24 2025 19:11:08 DPDK git baseline: Repo:dpdk-next-crypto Branch: master CommitID:6edcec237e31fcdb848cca6c151ee7a5bf057c28 158098 --> testing pass Upstream job id: Generic-DPDK-Compile-Meson#437728 Test environment and result as below: +------------------------------+--------------------+ | Environment | dpdk_meson_compile | +==============================+====================+ | Red Hat Enterprise Linux 9.5 | PASS | +------------------------------+--------------------+ | Ubuntu 20.04 | PASS | +------------------------------+--------------------+ | Debian GNU/Linux 12 | PASS | +------------------------------+--------------------+ | Fedora Linux 42 | PASS | +------------------------------+--------------------+ | Ubuntu 22.04 | PASS | +------------------------------+--------------------+ | Ubuntu 24.04 | PASS | +------------------------------+--------------------+ | CentOS Stream 9 | PASS | +------------------------------+--------------------+ | CentOS Stream 10 | PASS | +------------------------------+--------------------+ Red Hat Enterprise Linux 9.5 Kernel: 5.4 Compiler: gcc gcc (GCC) 11.5.0 20240719 (Red Hat 11.5.0-2) Ubuntu 20.04 Kernel: 5.15 Compiler: aarch64-linux-gnu-gcc gcc (Ubuntu 9.4.0-1ubuntu1~20.04.2) 9.4.0 Debian GNU/Linux 12 Kernel: 5.4 Compiler: gcc gcc (Debian 12.2.0-14+deb12u1) 12.2.0 Fedora Linux 42 Kernel: 5.4 Compiler: gcc gcc (GCC) 15.2.1 20250808 (Red Hat 15.2.1-1) Ubuntu 22.04 Kernel: 5.4 Compiler: gcc gcc (Ubuntu 11.4.0-1ubuntu1~22.04) 11.4.0 Ubuntu 24.04 Kernel: 5.4 Compiler: gcc gcc (Ubuntu 13.3.0-6ubuntu2~24.04) 13.3.0 CentOS Stream 9 Kernel: 5.4 Compiler: gcc gcc (GCC) 11.5.0 20240719 (Red Hat 11.5.0-11) CentOS Stream 10 Kernel: 5.4 Compiler: gcc gcc (GCC) 14.2.1 20250110 (Red Hat 14.2.1-8) To view detailed results, visit: https://lab.dpdk.org/results/dashboard/patchsets/34381/ UNH-IOL DPDK Community Lab To manage your email subscriptions, visit: https://lab.dpdk.org/results/dashboard/preferences/subscriptions/