From mboxrd@z Thu Jan 1 00:00:00 1970 Return-Path: Received: from mails.dpdk.org (mails.dpdk.org [217.70.189.124]) by inbox.dpdk.org (Postfix) with ESMTP id 4A5E6489DA for ; Sun, 26 Oct 2025 07:15:27 +0100 (CET) Received: from mails.dpdk.org (localhost [127.0.0.1]) by mails.dpdk.org (Postfix) with ESMTP id 2C3204003C; Sun, 26 Oct 2025 07:15:27 +0100 (CET) Received: from mail-qt1-f227.google.com (mail-qt1-f227.google.com [209.85.160.227]) by mails.dpdk.org (Postfix) with ESMTP id 8D57B4003C for ; Sun, 26 Oct 2025 07:15:25 +0100 (CET) Received: by mail-qt1-f227.google.com with SMTP id d75a77b69052e-4e3117ea7a2so41106441cf.2 for ; Sat, 25 Oct 2025 23:15:25 -0700 (PDT) DKIM-Signature: v=1; a=rsa-sha256; c=relaxed/relaxed; d=iol.unh.edu; s=unh-iol; t=1761459325; x=1762064125; darn=dpdk.org; h=cc:to:from:subject:message-id:date:from:to:cc:subject:date :message-id:reply-to; bh=BnCbbitI+04Er5qSWRBiIL1QdK74c/qBSLFzsXdKPCw=; b=RkYRcdy7O4G56qpRsEZ18BH2vj5msLWfhgJZFOofuvG60vZ7WVtxVrOy9GDYRwNxON rYOpvw8sSowFmT3xkSf96mzGoQsFS//xx3TM3ZznT6gKA1IVLtCu/Ig3jUb1t+OA0HWY hmwNLOLbaTPBqhMZRqCLdxKS7pDsKXYHaoETE= X-Google-DKIM-Signature: v=1; a=rsa-sha256; c=relaxed/relaxed; d=1e100.net; s=20230601; t=1761459325; x=1762064125; h=cc:to:from:subject:message-id:date:x-gm-message-state:from:to:cc :subject:date:message-id:reply-to; bh=BnCbbitI+04Er5qSWRBiIL1QdK74c/qBSLFzsXdKPCw=; b=SkpxMTLBma7OnpVLiXgjM2anKlCsudOuqmygMt/0iB/3h6G2w322+CYMgoTlSE6rdA QWifMDERCZGhzcc0LqHGtgABX4Si43afM/7l5TP88F6wPVdq7IgEEDrgXfZT8/Q2S0lB UAyPfeGlhMIEAfV7BWav+KPg63tYD0eGETQSCZ1Br+WD8ykIcrsx3lQzrRIEEc6w2ea0 KkoT9/dT3vYuxzVVDy4nWOE/QMjSYR5qr1WD9+OC6zVT8cRAZKeY3zehnnF/KlBRLDxG C3l5Bmv1m4iwpqNM5+CIz14woErAz5TRH4jYeXs3aUcE0WX8r8YIcNIWrlxvt9BFBhrB LITA== X-Gm-Message-State: AOJu0YxiugbGuPkaMBdBscqILKv0vK46mzMsI9BGPVrJv3AC247UUkdX p87Et2KzVu5qfW26j0MalkQEpwvatoa60xodFg4kHpAvl/VfvKbUW4jHiFA6ZbvitV9lt29b8iN S5BYvNLXojeImUOwxGts4z89Ca/JlJoOqHo3Wej0aaquc/IRTCusM X-Gm-Gg: ASbGnctjIyJj2a5jRqS7Cijq3LNv5aQv4KZpdZOpgllfj/aFFWp4P3u3AeXzA6ueWVB RbFWFvBeWZE25N9Dm1B4AbBDOIqWgMylt/5xKksuIdp1k+Ey7nMJHs2lB+QdI0WHno6g29jroxh 3WM2O/KYVOqKp483cMbeJjmHRNcZnsusWX5cfUfPCMmazGuBrvRFCzHWxhYxQ0mTxmvujPj0Xrm 2wflcLStDt0sA+SmzSUF/L8Nk2exIplvLBWTOQ0PpJFfKT4EI44i3DiFvCG8pc7KD40P2ecxZ1V 09Lm1zgFBFVgzfqDTzgndqf5rBTqJ3y3FefWIsId3j/Nm8jorjn/Dc6dwBXec4gSgXZmtEcqwsS rMrUVq6s6 X-Google-Smtp-Source: AGHT+IHuavOrK9UHvA6vyWZw+rvL7HtW0tztJEErx7bmKZ2OtxYjNhaaI2MnIeCo7Nk1aOiRnUragNbkPWhs X-Received: by 2002:a05:622a:40e:b0:4e8:9a7d:90ec with SMTP id d75a77b69052e-4e89d33641dmr447796341cf.42.1761459324798; Sat, 25 Oct 2025 23:15:24 -0700 (PDT) Received: from postal.iol.unh.edu (postal.iol.unh.edu. [2606:4100:3880:1234::84]) by smtp-relay.gmail.com with ESMTPS id 6a1803df08f44-87fc4984e7esm4039956d6.24.2025.10.25.23.15.24 (version=TLS1_2 cipher=ECDHE-ECDSA-AES128-GCM-SHA256 bits=128/128); Sat, 25 Oct 2025 23:15:24 -0700 (PDT) X-Relaying-Domain: iol.unh.edu Date: Sat, 25 Oct 2025 23:15:24 -0700 (PDT) Message-ID: <68fdbc7c.050a0220.3164a3.2f98SMTPIN_ADDED_MISSING@mx.google.com> Received: from [172.21.0.3] (unknown [172.18.0.240]) by postal.iol.unh.edu (Postfix) with ESMTP id 7DB1D6051830; Sun, 26 Oct 2025 02:15:24 -0400 (EDT) Subject: |SUCCESS| [GIT MASTER] b287e404643aeab5bb5db084c142789df187844e From: dpdklab@iol.unh.edu To: Test Report Cc: dpdk-test-reports@iol.unh.edu, Xueming Li , Christian Ehrhardt , Kevin Traynor , Luca Boccassi Content-Type: text/plain X-BeenThere: test-report@dpdk.org X-Mailman-Version: 2.1.29 Precedence: list List-Id: automatic DPDK test reports List-Unsubscribe: , List-Archive: List-Post: List-Help: List-Subscribe: , Errors-To: test-report-bounces@dpdk.org _Testing PASS_ Branch: tags/v24.11 b287e404643aeab5bb5db084c142789df187844e --> testing pass Upstream job id: Generic-Unit-Test-DPDK#385491 Test environment and result as below: +-------------------------------+----------------+ | Environment | dpdk_unit_test | +===============================+================+ | CentOS Stream 9 | PASS | +-------------------------------+----------------+ | Debian GNU/Linux 12 | PASS | +-------------------------------+----------------+ | CentOS Stream 10 | PASS | +-------------------------------+----------------+ | Fedora Linux 40 | PASS | +-------------------------------+----------------+ | Red Hat Enterprise Linux 9.5 | PASS | +-------------------------------+----------------+ | Ubuntu 22.04 | PASS | +-------------------------------+----------------+ | Fedora Linux 42 | PASS | +-------------------------------+----------------+ | Red Hat Enterprise Linux 8.10 | PASS | +-------------------------------+----------------+ | Fedora Linux 41 | PASS | +-------------------------------+----------------+ | Ubuntu 24.04 | PASS | +-------------------------------+----------------+ | Ubuntu 20.04 | PASS | +-------------------------------+----------------+ | Windows Server 2022 | PASS | +-------------------------------+----------------+ CentOS Stream 9 Kernel: 5.15 Compiler: gcc gcc (GCC) 11.5.0 20240719 (Red Hat 11.5.0-11) Debian GNU/Linux 12 Kernel: 5.15 Compiler: gcc gcc (Debian 12.2.0-14+deb12u1) 12.2.0 CentOS Stream 10 Kernel: 5.15 Compiler: gcc gcc (GCC) 14.2.1 20250110 (Red Hat 14.2.1-8) Fedora Linux 40 Kernel: 5.15 Compiler: clang gcc (GCC) 14.2.1 20240912 (Red Hat 14.2.1-3) Red Hat Enterprise Linux 9.5 Kernel: 5.15 Compiler: gcc gcc (GCC) 11.5.0 20240719 (Red Hat 11.5.0-2) Ubuntu 22.04 Kernel: 5.15 Compiler: gcc gcc (Ubuntu 11.4.0-1ubuntu1~22.04) 11.4.0 Fedora Linux 42 Kernel: 5.15 Compiler: clang gcc (GCC) 15.2.1 20250808 (Red Hat 15.2.1-1) Red Hat Enterprise Linux 8.10 Kernel: 5.15 Compiler: gcc gcc (GCC) 8.5.0 20210514 (Red Hat 8.5.0-22) Fedora Linux 41 Kernel: 5.15 Compiler: gcc gcc (GCC) 14.3.1 20250523 (Red Hat 14.3.1-1) Ubuntu 24.04 Kernel: 5.15 Compiler: gcc gcc (Ubuntu 13.3.0-6ubuntu2~24.04) 13.3.0 Ubuntu 20.04 Kernel: 5.15 Compiler: gcc gcc (Ubuntu 9.4.0-1ubuntu1~20.04.2) 9.4.0 Windows Server 2022 Kernel: 10.0.20348.2031 Compiler: clang 15.0.7, gcc 14.1.0 (MinGW), and MSVC VS 19.39.33521 To view detailed results, visit: https://lab.dpdk.org/results/dashboard/tarballs/35349/ UNH-IOL DPDK Community Lab To manage your email subscriptions, visit: https://lab.dpdk.org/results/dashboard/preferences/subscriptions/