From mboxrd@z Thu Jan 1 00:00:00 1970 Return-Path: Received: from mails.dpdk.org (mails.dpdk.org [217.70.189.124]) by inbox.dpdk.org (Postfix) with ESMTP id 09FA9489DA for ; Sun, 26 Oct 2025 07:24:07 +0100 (CET) Received: from mails.dpdk.org (localhost [127.0.0.1]) by mails.dpdk.org (Postfix) with ESMTP id D897E4003C; Sun, 26 Oct 2025 07:24:06 +0100 (CET) Received: from mail-io1-f98.google.com (mail-io1-f98.google.com [209.85.166.98]) by mails.dpdk.org (Postfix) with ESMTP id 701B84003C for ; Sun, 26 Oct 2025 07:24:05 +0100 (CET) Received: by mail-io1-f98.google.com with SMTP id ca18e2360f4ac-943b8b69734so123948339f.3 for ; Sat, 25 Oct 2025 23:24:05 -0700 (PDT) DKIM-Signature: v=1; a=rsa-sha256; c=relaxed/relaxed; d=iol.unh.edu; s=unh-iol; t=1761459845; x=1762064645; darn=dpdk.org; h=cc:to:from:subject:message-id:date:from:to:cc:subject:date :message-id:reply-to; bh=4R0q96xpmdxQ1961OQW3Pqwne8Ss2fV2XURolWCDfew=; b=LraNcO3LO4fShCfI450S9HH7Eoqww8WYFe2Kj604G7O7CDhHWC9E/qMx0wYgVnAiAG 3VMWbvR8pKR9JL3PFyvX930Pzqdfq35c5HDEXToc+fhPlcGade13ycnaZwqKW2ScgElN DrTQPp4mQz8rnesYOD11rwqm92Ft+DzwbTwsY= X-Google-DKIM-Signature: v=1; a=rsa-sha256; c=relaxed/relaxed; d=1e100.net; s=20230601; t=1761459845; x=1762064645; h=cc:to:from:subject:message-id:date:x-gm-message-state:from:to:cc :subject:date:message-id:reply-to; bh=4R0q96xpmdxQ1961OQW3Pqwne8Ss2fV2XURolWCDfew=; b=HlAi+ekYR0b8ruS4Nk23KugjF3k+c7VvcvSpZtOpls9axC8rT3NyB8C3XQrtzJZmY5 CEaTh+b2GP0w1jJOSq+UG8WMKmPN/e+MHC2J6RJsRVO4b+9jYlE59ltO/k/arfD+6OeP EbnUrRXetnnrJliYcgaHAEVkC6SIWOZ6N/eZlZFEDMFq6BoDFbjx5Q31waYl8Us6WMg+ f0OOKgCPgkjStcPWD0BjUbgwdO8KYWNoLsR1gnHF6iu8D5cSuBQQEIgb+wc+Lpan1VZZ heEeuJLp37z9y7hHuAI0dCseIvRj02OXxzMuxHzweDOVp1odurvhkUZSAy0bAoZxsWGd swig== X-Gm-Message-State: AOJu0Yy68Jvhz4b1AQgsTVvhS5lkAiMO+xLqeykW4avzNisi06n0euVP 0BpGA+6szg0he+xdEdVVUZ8O2EnwiG85iVubuII1MPoGD8TEOglm6aBUxwc1+EEqqOBUVzZPsrh sxQNl7gfKv7EbFnf19IK5vFz4kB4ZH45LkKKv X-Gm-Gg: ASbGncsUDwyGwZic7FjuRBQMcUf6v3j7Kj+qloP0z5rXEk78JyU9sjTYjK26sinlEA1 UfCc1/DaiVmTkFifbIKhUX8fMUhLxJcL6N8qeHKe3jcDZsYEQPaChLfXTkltCxmXzLEvxNUeu32 +dubbA8TmMVzcQP+lVIg9tZRin+lcH7jUkcgm49FnpovLAxbUNlCk2FSpuU6rz0DWDaFp1Tg12s XdPM9xnd8IE0iYLaj84DULC0mkHF5i9kdkDRBXsY9jtT38VhIfCVQhFofs+yUaiZsvQn/mK2S4B 3Mr0x721FMJbii69GszRraZuFDqVOLXymQfk3RbO7JKdWTFFfln7U9u3I/tmJV2uFJmAeSR5RCJ gwlVe+T7PZGJ5dLH5uBbXrsoaZBnGwRk= X-Google-Smtp-Source: AGHT+IGuOkBqvPe2y1ogXYIbJym30KgYZk3aCMhpDDCD9ZW9DB4wCGgQsmpLBepJqymvEQmn4vgwTzzRROGv X-Received: by 2002:a05:6602:2d82:b0:943:edb3:ce65 with SMTP id ca18e2360f4ac-943edb3d13cmr512235339f.15.1761459844784; Sat, 25 Oct 2025 23:24:04 -0700 (PDT) Received: from postal.iol.unh.edu (postal.iol.unh.edu. [132.177.123.84]) by smtp-relay.gmail.com with ESMTPS id ca18e2360f4ac-94359f29e47sm24510439f.11.2025.10.25.23.24.04 (version=TLS1_2 cipher=ECDHE-ECDSA-AES128-GCM-SHA256 bits=128/128); Sat, 25 Oct 2025 23:24:04 -0700 (PDT) X-Relaying-Domain: iol.unh.edu Date: Sat, 25 Oct 2025 23:24:04 -0700 (PDT) Message-ID: <68fdbe84.6b0a0220.202138.bd00SMTPIN_ADDED_MISSING@mx.google.com> Received: from [172.21.0.2] (unknown [172.18.0.240]) by postal.iol.unh.edu (Postfix) with ESMTP id 526B86051830; Sun, 26 Oct 2025 02:24:04 -0400 (EDT) Subject: |SUCCESS| [GIT MASTER] 3b43ce3f4a54468e7ef65760c2fd7b4d6ee6d9fc From: dpdklab@iol.unh.edu To: Test Report Cc: dpdk-test-reports@iol.unh.edu, Xueming Li , Christian Ehrhardt , Kevin Traynor , Luca Boccassi Content-Type: text/plain X-BeenThere: test-report@dpdk.org X-Mailman-Version: 2.1.29 Precedence: list List-Id: automatic DPDK test reports List-Unsubscribe: , List-Archive: List-Post: List-Help: List-Subscribe: , Errors-To: test-report-bounces@dpdk.org _Testing PASS_ Branch: tags/v22.11 3b43ce3f4a54468e7ef65760c2fd7b4d6ee6d9fc --> testing pass Upstream job id: Generic-DPDK-Compile-Meson#437819 Test environment and result as below: +------------------------------+--------------------+ | Environment | dpdk_meson_compile | +==============================+====================+ | Ubuntu 24.04 | PASS | +------------------------------+--------------------+ | Red Hat Enterprise Linux 9.5 | PASS | +------------------------------+--------------------+ | Ubuntu 20.04 | PASS | +------------------------------+--------------------+ | Debian GNU/Linux 12 | PASS | +------------------------------+--------------------+ | Fedora Linux 42 | PASS | +------------------------------+--------------------+ | Ubuntu 22.04 | PASS | +------------------------------+--------------------+ | CentOS Stream 9 | PASS | +------------------------------+--------------------+ | CentOS Stream 10 | PASS | +------------------------------+--------------------+ Ubuntu 24.04 Kernel: 5.4 Compiler: gcc gcc (Ubuntu 13.3.0-6ubuntu2~24.04) 13.3.0 Red Hat Enterprise Linux 9.5 Kernel: 5.4 Compiler: gcc gcc (GCC) 11.5.0 20240719 (Red Hat 11.5.0-2) Ubuntu 20.04 Kernel: 5.15 Compiler: aarch64-linux-gnu-gcc gcc (Ubuntu 9.4.0-1ubuntu1~20.04.2) 9.4.0 Debian GNU/Linux 12 Kernel: 5.4 Compiler: gcc gcc (Debian 12.2.0-14+deb12u1) 12.2.0 Fedora Linux 42 Kernel: 5.4 Compiler: gcc gcc (GCC) 15.2.1 20250808 (Red Hat 15.2.1-1) Ubuntu 22.04 Kernel: 5.4 Compiler: gcc gcc (Ubuntu 11.4.0-1ubuntu1~22.04) 11.4.0 CentOS Stream 9 Kernel: 5.4 Compiler: gcc gcc (GCC) 11.5.0 20240719 (Red Hat 11.5.0-11) CentOS Stream 10 Kernel: 5.4 Compiler: gcc gcc (GCC) 14.2.1 20250110 (Red Hat 14.2.1-8) To view detailed results, visit: https://lab.dpdk.org/results/dashboard/tarballs/35342/ UNH-IOL DPDK Community Lab To manage your email subscriptions, visit: https://lab.dpdk.org/results/dashboard/preferences/subscriptions/