From mboxrd@z Thu Jan 1 00:00:00 1970 Return-Path: Received: from mails.dpdk.org (mails.dpdk.org [217.70.189.124]) by inbox.dpdk.org (Postfix) with ESMTP id D8E0B489DA for ; Sun, 26 Oct 2025 07:46:22 +0100 (CET) Received: from mails.dpdk.org (localhost [127.0.0.1]) by mails.dpdk.org (Postfix) with ESMTP id AE51F40151; Sun, 26 Oct 2025 07:46:22 +0100 (CET) Received: from mail-pl1-f228.google.com (mail-pl1-f228.google.com [209.85.214.228]) by mails.dpdk.org (Postfix) with ESMTP id 575514003C for ; Sun, 26 Oct 2025 07:46:21 +0100 (CET) Received: by mail-pl1-f228.google.com with SMTP id d9443c01a7336-26e68904f0eso38297565ad.0 for ; Sat, 25 Oct 2025 23:46:21 -0700 (PDT) DKIM-Signature: v=1; a=rsa-sha256; c=relaxed/relaxed; d=iol.unh.edu; s=unh-iol; t=1761461180; x=1762065980; darn=dpdk.org; h=cc:to:from:subject:message-id:date:from:to:cc:subject:date :message-id:reply-to; bh=RXfIJ7IVEciE70sqqUSXtd2kfaZqH4cTZFHaZPU+fFo=; b=hdo242Hrx+dFxUa/NuerzUB0dAH91LRsOjb9qRrw1kFfAtzziA36SckEqMag+LyQpq +FIwpC0touHC9eAT+3RAyWR6vYd4NT8YADwmZaZidAvCzfVrsOykFH+9uJO7k95UaYjZ znzVBda84ox37AaKIoFgWlwxEEQAWmrRKzMKw= X-Google-DKIM-Signature: v=1; a=rsa-sha256; c=relaxed/relaxed; d=1e100.net; s=20230601; t=1761461180; x=1762065980; h=cc:to:from:subject:message-id:date:x-gm-message-state:from:to:cc :subject:date:message-id:reply-to; bh=RXfIJ7IVEciE70sqqUSXtd2kfaZqH4cTZFHaZPU+fFo=; b=mME3WUceuJFdIJ/6rUaN5TkEgnGlEFPD8f1yBvZ4CbolTL/QrqNJVHu50jiucX2O/E T0tFnvA3p/FbRe1H6EW0GMgIyCnS3HNIiZPuMrUPHzSgJTWw/YNLObqXYGky+WQr8xx2 /6BgukTn83u/X9M9LMHuRfjheI9EQHvBw0hFrvwkCgGM+zxymgIWVoV+EV2W8Y0E+azJ D8gAgzmVYRXo+0mJi+SrJuFGkQtg4yrkahHFSezK7u4f768xQa5GaFIoWMvI2yYUF7j7 YvoPmKszeRFSwHn+QGF6TTsHQi+dKglxt8/w8BMyhLlGhAqL5ssRA0oL+OLu0kLAQjqp 1LIA== X-Gm-Message-State: AOJu0YxjLbBs4Pr4APm9B+H0/h00VfpRwabkG7wFok+NzhrRx3RUlyRz 6J+eGs3dB3JqK2asAtRe4ZAobmLSUhOBLAXCYcESLg7MhcVqxKbylcabsTqPDzTsZP0o4XaBy2B tHzBexJMsxhUpH7whBQW2gT1caz+6y805ZXF+oeeDq3R+xDKs0ZWc X-Gm-Gg: ASbGncuoqEsRB/7TZ+8vO0DUdr/SWG+UehUySZ0EZx5yGJ9468NiAJ7vbJ9BXut/cz8 t8pBrQV2lx+Y9e8CgUkqHDA7bb743hYcxdSSCKoeHZJQsCfr4sWvC1pr0YFdHtRmjmh+UcwBZfE 3kPcUwCMlW1pEGB8nEfHhC/ly2NgAyYCC7A3Ip/05wNLJh6WGPOCIzRkYJeuxjf0uFSQu6mtpQF YtLqdM0P49dxu75jj9uhBOZQun2eFx8LGTHiF8KurVq2B4K+d8FThjYKvndN4Ufx2Ne9JUQdHd0 HTcpy0kWktSBX8Nx1T8b0nYzhTREnVSQJdXjnlkNY6VdvJ8gbVuj+0IiwwSJs6Z4xuVKHHmZycj o433zDTJC X-Google-Smtp-Source: AGHT+IHT3idYGm5eIcpcigM4REKmXf8ztfZWwdKVYjHEeLs+XCZr2W2TOlooNNwTvoucOPBxsbhfsQhlR6Oc X-Received: by 2002:a17:902:f548:b0:25f:fe5f:c927 with SMTP id d9443c01a7336-290ca1214e1mr495101665ad.31.1761461180383; Sat, 25 Oct 2025 23:46:20 -0700 (PDT) Received: from postal.iol.unh.edu (postal.iol.unh.edu. [2606:4100:3880:1234::84]) by smtp-relay.gmail.com with ESMTPS id 41be03b00d2f7-b712772aedbsm276061a12.1.2025.10.25.23.46.20 (version=TLS1_2 cipher=ECDHE-ECDSA-AES128-GCM-SHA256 bits=128/128); Sat, 25 Oct 2025 23:46:20 -0700 (PDT) X-Relaying-Domain: iol.unh.edu Date: Sat, 25 Oct 2025 23:46:20 -0700 (PDT) Message-ID: <68fdc3bc.050a0220.12f2f1.db03SMTPIN_ADDED_MISSING@mx.google.com> Received: from [172.21.0.2] (unknown [172.18.0.240]) by postal.iol.unh.edu (Postfix) with ESMTP id 0AF6360003F4; Sun, 26 Oct 2025 02:46:19 -0400 (EDT) Subject: |SUCCESS| [GIT MASTER] 3b43ce3f4a54468e7ef65760c2fd7b4d6ee6d9fc From: dpdklab@iol.unh.edu To: Test Report Cc: dpdk-test-reports@iol.unh.edu, Xueming Li , Christian Ehrhardt , Kevin Traynor , Luca Boccassi Content-Type: text/plain X-BeenThere: test-report@dpdk.org X-Mailman-Version: 2.1.29 Precedence: list List-Id: automatic DPDK test reports List-Unsubscribe: , List-Archive: List-Post: List-Help: List-Subscribe: , Errors-To: test-report-bounces@dpdk.org _Testing PASS_ Branch: tags/v22.11 3b43ce3f4a54468e7ef65760c2fd7b4d6ee6d9fc --> testing pass Upstream job id: Generic-DPDK-Compile-Meson#437928 Test environment and result as below: +-------------------------------+--------------------+-------------------------+----------------------+ | Environment | dpdk_meson_compile | dpdk_llvm_clang_compile | dpdk_mingw64_compile | +===============================+====================+=========================+======================+ | Ubuntu 20.04 | PASS | SKIPPED | SKIPPED | +-------------------------------+--------------------+-------------------------+----------------------+ | FreeBSD 14.2 | PASS | SKIPPED | SKIPPED | +-------------------------------+--------------------+-------------------------+----------------------+ | CentOS Stream 9 | PASS | SKIPPED | SKIPPED | +-------------------------------+--------------------+-------------------------+----------------------+ | CentOS Stream 10 | PASS | SKIPPED | SKIPPED | +-------------------------------+--------------------+-------------------------+----------------------+ | Debian GNU/Linux 12 | PASS | SKIPPED | SKIPPED | +-------------------------------+--------------------+-------------------------+----------------------+ | Fedora Linux 42 | PASS | SKIPPED | SKIPPED | +-------------------------------+--------------------+-------------------------+----------------------+ | openSUSE Leap 15.6 | PASS | SKIPPED | SKIPPED | +-------------------------------+--------------------+-------------------------+----------------------+ | Red Hat Enterprise Linux 8.10 | PASS | SKIPPED | SKIPPED | +-------------------------------+--------------------+-------------------------+----------------------+ | Red Hat Enterprise Linux 9.5 | PASS | SKIPPED | SKIPPED | +-------------------------------+--------------------+-------------------------+----------------------+ | Ubuntu 22.04 | PASS | SKIPPED | SKIPPED | +-------------------------------+--------------------+-------------------------+----------------------+ | Ubuntu 24.04 | PASS | SKIPPED | SKIPPED | +-------------------------------+--------------------+-------------------------+----------------------+ | Windows Server 2022 | SKIPPED | PASS | PASS | +-------------------------------+--------------------+-------------------------+----------------------+ Ubuntu 20.04 Kernel: 4.19 Compiler: gcc gcc (Ubuntu 9.4.0-1ubuntu1~20.04.2) 9.4.0 FreeBSD 14.2 Kernel: 14.2-RELEASE Compiler: clang 18.1.6 CentOS Stream 9 Kernel: 5.15 Compiler: gcc gcc (GCC) 11.5.0 20240719 (Red Hat 11.5.0-11) CentOS Stream 10 Kernel: 5.15 Compiler: gcc gcc (GCC) 14.2.1 20250110 (Red Hat 14.2.1-8) Debian GNU/Linux 12 Kernel: 5.15 Compiler: gcc gcc (Debian 12.2.0-14+deb12u1) 12.2.0 Fedora Linux 42 Kernel: 5.15 Compiler: clang gcc (GCC) 15.2.1 20250808 (Red Hat 15.2.1-1) openSUSE Leap 15.6 Kernel: 5.15 Compiler: gcc gcc (SUSE Linux) 7.5.0 Red Hat Enterprise Linux 8.10 Kernel: 5.15 Compiler: gcc gcc (GCC) 8.5.0 20210514 (Red Hat 8.5.0-22) Red Hat Enterprise Linux 9.5 Kernel: 5.15 Compiler: gcc gcc (GCC) 11.5.0 20240719 (Red Hat 11.5.0-2) Ubuntu 22.04 Kernel: 5.15 Compiler: gcc gcc (Ubuntu 11.4.0-1ubuntu1~22.04) 11.4.0 Ubuntu 24.04 Kernel: 5.15 Compiler: gcc gcc (Ubuntu 13.3.0-6ubuntu2~24.04) 13.3.0 Windows Server 2022 Kernel: 10.0.20348.2031 Compiler: clang 15.0.7, gcc 14.1.0 (MinGW), and MSVC VS 19.39.33521 To view detailed results, visit: https://lab.dpdk.org/results/dashboard/tarballs/35347/ UNH-IOL DPDK Community Lab To manage your email subscriptions, visit: https://lab.dpdk.org/results/dashboard/preferences/subscriptions/