From mboxrd@z Thu Jan 1 00:00:00 1970 Return-Path: Received: from mails.dpdk.org (mails.dpdk.org [217.70.189.124]) by inbox.dpdk.org (Postfix) with ESMTP id BCEAC489DE for ; Sun, 26 Oct 2025 08:55:57 +0100 (CET) Received: from mails.dpdk.org (localhost [127.0.0.1]) by mails.dpdk.org (Postfix) with ESMTP id 921684003C; Sun, 26 Oct 2025 08:55:57 +0100 (CET) Received: from mail-il1-f228.google.com (mail-il1-f228.google.com [209.85.166.228]) by mails.dpdk.org (Postfix) with ESMTP id BCFB34003C for ; Sun, 26 Oct 2025 08:55:55 +0100 (CET) Received: by mail-il1-f228.google.com with SMTP id e9e14a558f8ab-430a5fe0c5cso33501065ab.0 for ; Sun, 26 Oct 2025 00:55:55 -0700 (PDT) DKIM-Signature: v=1; a=rsa-sha256; c=relaxed/relaxed; d=iol.unh.edu; s=unh-iol; t=1761465355; x=1762070155; darn=dpdk.org; h=cc:to:from:subject:message-id:date:from:to:cc:subject:date :message-id:reply-to; bh=tS5qMI+YxZLNJJiGCeGUYF8hSdKqAIW0RvZ8cjdBEd8=; b=b03US8M48Ty/d9Dy0BvHOBJg/BPRjCKuC26/cqjxXpFvnPL8a5p5dcKl+A+P1nxiW5 qxNkb8pbaURQkqIY1vE2cpRfCjhQRIXDmwP+H1ZnaVxXWwUUZ/LXHYMmz1PAPkFzxo8I wPQJt+A2FYqRZ/vRnHv00TWIfVmv1AMZQRp1Q= X-Google-DKIM-Signature: v=1; a=rsa-sha256; c=relaxed/relaxed; d=1e100.net; s=20230601; t=1761465355; x=1762070155; h=cc:to:from:subject:message-id:date:x-gm-message-state:from:to:cc :subject:date:message-id:reply-to; bh=tS5qMI+YxZLNJJiGCeGUYF8hSdKqAIW0RvZ8cjdBEd8=; b=Q/UaQymz6PSbAQuWPUDA9z7oJ1NxWPcEULlAYEKKHAqcHW/5m0FjkUWGSSazCYu1IA KTxbCMu8QYwqOaDz74aQtUxZS7Ae1R1Mbqf8Ia1D7IQXof3PKGqMOyTjbInm5dg7vTcd NVxTdbc/j6yIWyRgx8/ap/EdP9tqwUTAKWcHjDS80QMqfUOwpHTVjn3gvgtckyuE8FzW eK3ZQVYTJOq+2Vyo0RepOIRbyLUPKYeVfC5c7kLDaXaasuUVFlECmEoc1okMGzH1UUMJ IuZeZI4EeLnUkuzekDhWJy7w1vwLCL1aw+WrldOfXhL92v03GEQLA//KYJDBHnQMDTJl J/6w== X-Gm-Message-State: AOJu0YyoQxr4rycSG79b9NXYEMhglnIa/Y6LEXYu2IsowWTT9t961st5 71wIMXGKiaUY6qwvkyeZXRia/uIOok7pTXEzwS/716fibNmGjOep/So3zc0KpAQLx9nizOo8IaM 0oZjT8aqN9X+ACpu8bfvUEWH1UXGvX6ASklWDOeVvHOh3YYWPUNmnhcL6n/Sq X-Gm-Gg: ASbGncvVLYj01pv/pFGIFlTQ7jd+AkGRgodXiyOffYA7OktF169DMRxISjO107vGm1S tB7j9jHpyxf3RfFGV2M4mXSqP9wS9D9zlJIMLUyBPBM5wu2Oi+TmRzMEYqaNfaiAbZKRseZxrcL 8mfvTXoTOSrniZnyk5gs4H3RG3RkfMH1nPqbc0MwXFogUVks4jcV7HWne7j2S4aXxszGC2f1Po8 OP+eutKVlD+IDXkFtPWGsJ58Yos/OR6SXR5PozHRqjQc0MRxjpbm7y3nUf6Io3MUn0yKcOF4RPw 3uYAhq5QtOW6zbKxHPM4cN+uxy/wIp6+orgu7QUzYUSBR0t3F+KYrAgIYs3mSiA4JdtshGCtywB NC1E2Ovmt X-Google-Smtp-Source: AGHT+IF5Y21s2dx11BNZLeA7Q75h9EcjIf3+rUVQ+vf92LW5rKuRaYHXVvzLRFy0uqeW0pR3JHu+sW80PoAO X-Received: by 2002:a05:6e02:2789:b0:430:9fde:33bd with SMTP id e9e14a558f8ab-431ebeb3efcmr97715695ab.1.1761465355074; Sun, 26 Oct 2025 00:55:55 -0700 (PDT) Received: from postal.iol.unh.edu (postal.iol.unh.edu. [2606:4100:3880:1234::84]) by smtp-relay.gmail.com with ESMTPS id e9e14a558f8ab-431f67f7d9csm3857205ab.8.2025.10.26.00.55.54 (version=TLS1_2 cipher=ECDHE-ECDSA-AES128-GCM-SHA256 bits=128/128); Sun, 26 Oct 2025 00:55:55 -0700 (PDT) X-Relaying-Domain: iol.unh.edu Date: Sun, 26 Oct 2025 00:55:55 -0700 (PDT) Message-ID: <68fdd40b.050a0220.cc626.1cf7SMTPIN_ADDED_MISSING@mx.google.com> Received: from [172.21.0.2] (unknown [172.18.0.240]) by postal.iol.unh.edu (Postfix) with ESMTP id 954036051830; Sun, 26 Oct 2025 03:55:54 -0400 (EDT) Subject: |SUCCESS| [GIT MASTER] 39b54f2dcf44ad1f91eabc7080cd5dea763607fd From: dpdklab@iol.unh.edu To: Test Report Cc: dpdk-test-reports@iol.unh.edu Content-Type: text/plain X-BeenThere: test-report@dpdk.org X-Mailman-Version: 2.1.29 Precedence: list List-Id: automatic DPDK test reports List-Unsubscribe: , List-Archive: List-Post: List-Help: List-Subscribe: , Errors-To: test-report-bounces@dpdk.org _Testing PASS_ Branch: dpdk 39b54f2dcf44ad1f91eabc7080cd5dea763607fd --> testing pass Upstream job id: Generic-Unit-Test-DPDK#385415 Test environment and result as below: +------------------------------+----------------+--------------+------------------------------+---------------------------+ | Environment | dpdk_unit_test | lpm_autotest | cryptodev_sw_snow3g_autotest | cryptodev_sw_zuc_autotest | +==============================+================+==============+==============================+===========================+ | Fedora Linux 40 | PASS | SKIPPED | SKIPPED | SKIPPED | +------------------------------+----------------+--------------+------------------------------+---------------------------+ | Fedora Linux 41 | PASS | SKIPPED | SKIPPED | SKIPPED | +------------------------------+----------------+--------------+------------------------------+---------------------------+ | Red Hat Enterprise Linux 9.5 | PASS | SKIPPED | SKIPPED | SKIPPED | +------------------------------+----------------+--------------+------------------------------+---------------------------+ | Fedora Linux 42 | PASS | SKIPPED | SKIPPED | SKIPPED | +------------------------------+----------------+--------------+------------------------------+---------------------------+ | CentOS Stream 10 | PASS | SKIPPED | SKIPPED | SKIPPED | +------------------------------+----------------+--------------+------------------------------+---------------------------+ | Ubuntu 24.04 | PASS | SKIPPED | SKIPPED | SKIPPED | +------------------------------+----------------+--------------+------------------------------+---------------------------+ | Debian GNU/Linux 12 | PASS | SKIPPED | SKIPPED | SKIPPED | +------------------------------+----------------+--------------+------------------------------+---------------------------+ | Ubuntu 20.04 | PASS | PASS | SKIPPED | SKIPPED | +------------------------------+----------------+--------------+------------------------------+---------------------------+ | CentOS Stream 9 | PASS | SKIPPED | SKIPPED | SKIPPED | +------------------------------+----------------+--------------+------------------------------+---------------------------+ | Ubuntu 22.04 | PASS | SKIPPED | SKIPPED | SKIPPED | +------------------------------+----------------+--------------+------------------------------+---------------------------+ | Debian 12 (arm) | SKIPPED | SKIPPED | PASS | PASS | +------------------------------+----------------+--------------+------------------------------+---------------------------+ Fedora Linux 40 Kernel: 5.4 Compiler: clang gcc (GCC) 14.2.1 20240912 (Red Hat 14.2.1-3) Fedora Linux 41 Kernel: 5.4 Compiler: clang gcc (GCC) 14.3.1 20250523 (Red Hat 14.3.1-1) Red Hat Enterprise Linux 9.5 Kernel: 5.4 Compiler: gcc gcc (GCC) 11.5.0 20240719 (Red Hat 11.5.0-2) Fedora Linux 42 Kernel: 5.4 Compiler: gcc gcc (GCC) 15.2.1 20250808 (Red Hat 15.2.1-1) CentOS Stream 10 Kernel: 5.4 Compiler: gcc gcc (GCC) 14.2.1 20250110 (Red Hat 14.2.1-8) Ubuntu 24.04 Kernel: 5.4 Compiler: gcc gcc (Ubuntu 13.3.0-6ubuntu2~24.04) 13.3.0 Debian GNU/Linux 12 Kernel: 5.4 Compiler: gcc gcc (Debian 12.2.0-14+deb12u1) 12.2.0 Ubuntu 20.04 Kernel: 5.4 Compiler: gcc gcc (Ubuntu 9.4.0-1ubuntu1~20.04.2) 9.4.0 CentOS Stream 9 Kernel: 5.4 Compiler: gcc gcc (GCC) 11.5.0 20240719 (Red Hat 11.5.0-11) Ubuntu 22.04 Kernel: 5.15 Compiler: gcc gcc (Ubuntu 11.4.0-1ubuntu1~22.04.2) 11.4.0 Debian 12 (arm) Kernel: Depends on container host Compiler: gcc (Debian 12.2.0-14) 12.2.0 To view detailed results, visit: https://lab.dpdk.org/results/dashboard/tarballs/35346/ UNH-IOL DPDK Community Lab To manage your email subscriptions, visit: https://lab.dpdk.org/results/dashboard/preferences/subscriptions/