From mboxrd@z Thu Jan 1 00:00:00 1970 Return-Path: Received: from mails.dpdk.org (mails.dpdk.org [217.70.189.124]) by inbox.dpdk.org (Postfix) with ESMTP id 2AE2D489E0 for ; Sun, 26 Oct 2025 11:39:45 +0100 (CET) Received: from mails.dpdk.org (localhost [127.0.0.1]) by mails.dpdk.org (Postfix) with ESMTP id EFEBB4003C; Sun, 26 Oct 2025 11:39:44 +0100 (CET) Received: from mail-qv1-f98.google.com (mail-qv1-f98.google.com [209.85.219.98]) by mails.dpdk.org (Postfix) with ESMTP id 3602A4003C for ; Sun, 26 Oct 2025 11:39:43 +0100 (CET) Received: by mail-qv1-f98.google.com with SMTP id 6a1803df08f44-87c20106cbeso54579396d6.1 for ; Sun, 26 Oct 2025 03:39:43 -0700 (PDT) DKIM-Signature: v=1; a=rsa-sha256; c=relaxed/relaxed; d=iol.unh.edu; s=unh-iol; t=1761475182; x=1762079982; darn=dpdk.org; h=cc:to:from:subject:message-id:date:from:to:cc:subject:date :message-id:reply-to; bh=w9P8ZAH6YFvG+X+gjwH14LMyQb/tP6378+DUzErmNcs=; b=XG94zg2Sm2ZtV5snoH/XvynhB98oPZMtXHhwICgcqLziqaPGjW9qW8wMIyyLe20KpY prethKjc2QEkEHPMqf+ykLNHIv7cXyZb9I49+/yB4jnW8H6EUOg1XybmIqgsorHQ8u7J 3iiNlTCvkOv2NyiNtGINEneJuJbvSfqkPN6s0= X-Google-DKIM-Signature: v=1; a=rsa-sha256; c=relaxed/relaxed; d=1e100.net; s=20230601; t=1761475182; x=1762079982; h=cc:to:from:subject:message-id:date:x-gm-message-state:from:to:cc :subject:date:message-id:reply-to; bh=w9P8ZAH6YFvG+X+gjwH14LMyQb/tP6378+DUzErmNcs=; b=fc0ysET3obhKPBxGX+7Uz+f/3ZBBoDyDHPRR3igIbU/jGxqee8t5Bup/iwf1rqYxwi Fv8Gz0QKLqFVED1WKdMOwB4Dk4F6SP0g0kOzHAJil7JD15zeI0PayYI4NDXIVTuAnLPD IkX5Repr0bfONz8uS0dkTDeSK7lr0bH0M1H0wsi1xvbd+7BppZrdcpjnKIPn8jYrJUFi HWvSqqYFAvptlrJlTAVN0avYPL0AdIKnxhatBH0tVDacoF5g1NOrD0gWUroqiwUTQHzg L2dKawec7k0aR2s/IDlSD+AgmKHB9loS1OWqM66UYMjJpQyR0JXKRdgV0cEx82qPVWCP FEmw== X-Gm-Message-State: AOJu0Ywnfzu0sTyzsugSwSTOi6htwDvXcy/aFwB2SZwkBSmyducKVgwJ 3jVjXBUmUSvE1/Hq5Ahedhq8SgNBx1tJiyts7JJlQDoxnTj/8PcNNSuZLaHRJzxVRW4rH724mmh 6AZ2hnkrY8zZxpk8eatBY/ENpHT7p9R3TPB3P6/JQ8ynJhTHp0JsI X-Gm-Gg: ASbGncv2rPZ4AI/NdsSl+ERxlz+Zpn+cHrChxTp9Cn0kyVFXs95v6G6PA0ZgVzq4zVE 3WXs8bst7rgUuJvxR+ZGRMSASWHsrS3mKLrasU9tcHuj/2V09z5jLwjSK/g51d46rftYcaUzd2G HtlnmdomXjTnEBguHqaEHYlonyz8N0iEBSCuhw/r/XybI32DdiAOprXBESXL3vTEkSPafhRty97 ircC89mST2dqMrUFvYk/czPdzdnRhKE54uI2DqDPQNWu/8Hn8vZ2mL4kmRkebsmC56azUKhcq/b ODF7CAZnJCBummN2C4caWJO4NPJe+ZJKXFc1jGMJSC+O3FpxmutKx/zzd+YTWtq1Dqe8JXTsrM4 XtPoZhF/w X-Google-Smtp-Source: AGHT+IEUFCc91SLr5akP0tCr2nvY/cYhAGRccEAj7tPK5TrM24w/1QxzMhdMWBem8rgzww+lXebftS8THLBt X-Received: by 2002:a05:6214:2aa5:b0:87c:1d89:a247 with SMTP id 6a1803df08f44-87fb63ae63cmr120495746d6.19.1761475182530; Sun, 26 Oct 2025 03:39:42 -0700 (PDT) Received: from postal.iol.unh.edu (postal.iol.unh.edu. [2606:4100:3880:1234::84]) by smtp-relay.gmail.com with ESMTPS id 6a1803df08f44-87fc4952bd7sm4576436d6.19.2025.10.26.03.39.42 (version=TLS1_2 cipher=ECDHE-ECDSA-AES128-GCM-SHA256 bits=128/128); Sun, 26 Oct 2025 03:39:42 -0700 (PDT) X-Relaying-Domain: iol.unh.edu Date: Sun, 26 Oct 2025 03:39:42 -0700 (PDT) Message-ID: <68fdfa6e.050a0220.31587a.4c88SMTPIN_ADDED_MISSING@mx.google.com> Received: from [172.21.0.2] (unknown [172.18.0.240]) by postal.iol.unh.edu (Postfix) with ESMTP id 0C51B6051830; Sun, 26 Oct 2025 06:39:42 -0400 (EDT) Subject: |SUCCESS| [GIT MASTER] b287e404643aeab5bb5db084c142789df187844e From: dpdklab@iol.unh.edu To: Test Report Cc: dpdk-test-reports@iol.unh.edu, Xueming Li , Christian Ehrhardt , Kevin Traynor , Luca Boccassi Content-Type: text/plain X-BeenThere: test-report@dpdk.org X-Mailman-Version: 2.1.29 Precedence: list List-Id: automatic DPDK test reports List-Unsubscribe: , List-Archive: List-Post: List-Help: List-Subscribe: , Errors-To: test-report-bounces@dpdk.org _Testing PASS_ Branch: tags/v24.11 b287e404643aeab5bb5db084c142789df187844e --> testing pass Upstream job id: Generic-DPDK-Compile-Meson#437841 Test environment and result as below: +------------------------------+--------------------+ | Environment | dpdk_meson_compile | +==============================+====================+ | Red Hat Enterprise Linux 9.5 | PASS | +------------------------------+--------------------+ | Ubuntu 20.04 | PASS | +------------------------------+--------------------+ | Debian GNU/Linux 12 | PASS | +------------------------------+--------------------+ | Fedora Linux 42 | PASS | +------------------------------+--------------------+ | Ubuntu 22.04 | PASS | +------------------------------+--------------------+ | Ubuntu 24.04 | PASS | +------------------------------+--------------------+ | CentOS Stream 9 | PASS | +------------------------------+--------------------+ | CentOS Stream 10 | PASS | +------------------------------+--------------------+ Red Hat Enterprise Linux 9.5 Kernel: 5.4 Compiler: gcc gcc (GCC) 11.5.0 20240719 (Red Hat 11.5.0-2) Ubuntu 20.04 Kernel: 5.15 Compiler: aarch64-linux-gnu-gcc gcc (Ubuntu 9.4.0-1ubuntu1~20.04.2) 9.4.0 Debian GNU/Linux 12 Kernel: 5.4 Compiler: gcc gcc (Debian 12.2.0-14+deb12u1) 12.2.0 Fedora Linux 42 Kernel: 5.4 Compiler: gcc gcc (GCC) 15.2.1 20250808 (Red Hat 15.2.1-1) Ubuntu 22.04 Kernel: 5.4 Compiler: gcc gcc (Ubuntu 11.4.0-1ubuntu1~22.04) 11.4.0 Ubuntu 24.04 Kernel: 5.4 Compiler: gcc gcc (Ubuntu 13.3.0-6ubuntu2~24.04) 13.3.0 CentOS Stream 9 Kernel: 5.4 Compiler: gcc gcc (GCC) 11.5.0 20240719 (Red Hat 11.5.0-11) CentOS Stream 10 Kernel: 5.4 Compiler: gcc gcc (GCC) 14.2.1 20250110 (Red Hat 14.2.1-8) To view detailed results, visit: https://lab.dpdk.org/results/dashboard/tarballs/35344/ UNH-IOL DPDK Community Lab To manage your email subscriptions, visit: https://lab.dpdk.org/results/dashboard/preferences/subscriptions/