From mboxrd@z Thu Jan 1 00:00:00 1970 Return-Path: Received: from mails.dpdk.org (mails.dpdk.org [217.70.189.124]) by inbox.dpdk.org (Postfix) with ESMTP id 2899F489E0 for ; Sun, 26 Oct 2025 11:40:47 +0100 (CET) Received: from mails.dpdk.org (localhost [127.0.0.1]) by mails.dpdk.org (Postfix) with ESMTP id 1F5114003C; Sun, 26 Oct 2025 11:40:47 +0100 (CET) Received: from mail-yx1-f98.google.com (mail-yx1-f98.google.com [74.125.224.98]) by mails.dpdk.org (Postfix) with ESMTP id 5993A4003C for ; Sun, 26 Oct 2025 11:40:46 +0100 (CET) Received: by mail-yx1-f98.google.com with SMTP id 956f58d0204a3-63e1b52b452so3865810d50.1 for ; Sun, 26 Oct 2025 03:40:46 -0700 (PDT) DKIM-Signature: v=1; a=rsa-sha256; c=relaxed/relaxed; d=iol.unh.edu; s=unh-iol; t=1761475245; x=1762080045; darn=dpdk.org; h=cc:to:from:subject:message-id:date:from:to:cc:subject:date :message-id:reply-to; bh=UBuHquCXMHH0gZBNBymj28pXMaI/Ux+WMWbRTTe+8KM=; b=Kf7LgTUk0shHu5oeoUM7lM37611x4TXddB4GeWuC0VvTU1lC+sZmhirPNuFvgVOIEa 6atHy9kzPdGdbm9XYYaL5fOxm7Xk/amTzZ1qwPYDf82y4tk1mkjOHYcJeRdZWfak/EXa 1kJs7nBAjsJmr70J5gKhkQCb8MzRdtvUWlubQ= X-Google-DKIM-Signature: v=1; a=rsa-sha256; c=relaxed/relaxed; d=1e100.net; s=20230601; t=1761475245; x=1762080045; h=cc:to:from:subject:message-id:date:x-gm-message-state:from:to:cc :subject:date:message-id:reply-to; bh=UBuHquCXMHH0gZBNBymj28pXMaI/Ux+WMWbRTTe+8KM=; b=dlbMFIL5p95eIQe38RkWe2kvtrSQXVJoUgfis9ro4+jz+nZc3xQO2hKuK3KvvIQuou M9qkROKo2UW8G53B+qoZmZCgIAGrXHiQ64EDCXFQyplEfxFThHNjjwu7KLE56/biT0CZ w1ir8wYw64+GqFiGOZrCRvxV4EmDRPUyQYQZR263C2j3HLu7P2hpA2WfbtWg0Y2kFxMp 9T8wFawsTkOm0tkYrzbGm+GROpuvS7M5RcfZiD03r8A8K1gpGjg2Do8aFAC71txbb52v +llNX9fG94QD2Jd4IWm+O/jZyIssHOP3bWykm/gKZ0qrwK0hh38ysoQhdfFCD9XUZSr8 FWWQ== X-Gm-Message-State: AOJu0YzvNHEgiQoDhectS/Xtw2gO1hYqRu4du3lAypO3oZDsPwGtNpvV BcBIrs70IpQmudEhWDUZPm4RRe21Ro5mZmQHCt0RujSIZpEBi2BSwpmfXXsItR41hzk11wKm/IL E9flGEnjJAIw1r/3m0+R72ZZJFMholZaoe537+8MNX9I+ X-Gm-Gg: ASbGncvzQPgFYtjl8BDNMm3wGfEFvP1y2BjW7s2a4FQQCBZLV9V8eudCg4S1jqAQMOZ 98nv+WppTvg//xNwV5QZHH2Ia/BoRhxWQqGgVEjtkFbcU41Dh5Anb8Am84Cp1++98yx1+PvW617 P5I6W319awpuCb4MoSYuN9xy6zZCjxnwm+InLm+Utzt6OV5BEWjnhPYp/mv3X4aiLAtAjwnpAFK UseFfPv8FhNzR44oE3QpbeF7aWHW5QSWQ/t5IMWZCP5J9qtPPt2oFbWLRMpoTNLpnmnu379en5X oiO/KGbi+1Jz5aCRrZfmU/O8JWD/nEKdMEA4bMFGJWCBBBV74OtEfnMTKmJNOzJg5C05m/srC1H 3E6DLFFo3H2gaQYiAo0OR2q920ifH5QE= X-Google-Smtp-Source: AGHT+IEjdCa78BzBLJc+4U2EiLqubBP4+I5e2+bb9gKam1yBWkdZPfd0OPAeTqgXyyXbCSlZr/hUd2RIvpne X-Received: by 2002:a53:d146:0:b0:63c:f5a7:3fb with SMTP id 956f58d0204a3-63e162031demr19756035d50.63.1761475245508; Sun, 26 Oct 2025 03:40:45 -0700 (PDT) Received: from postal.iol.unh.edu (postal.iol.unh.edu. [132.177.123.84]) by smtp-relay.gmail.com with ESMTPS id 00721157ae682-785ed1d05e9sm3004937b3.25.2025.10.26.03.40.45 (version=TLS1_2 cipher=ECDHE-ECDSA-AES128-GCM-SHA256 bits=128/128); Sun, 26 Oct 2025 03:40:45 -0700 (PDT) X-Relaying-Domain: iol.unh.edu Date: Sun, 26 Oct 2025 03:40:45 -0700 (PDT) Message-ID: <68fdfaad.050a0220.36ede5.da6dSMTPIN_ADDED_MISSING@mx.google.com> Received: from [172.21.0.2] (unknown [172.18.0.240]) by postal.iol.unh.edu (Postfix) with ESMTP id 30D7F6051830; Sun, 26 Oct 2025 06:40:45 -0400 (EDT) Subject: |SUCCESS| [GIT MASTER] 39b54f2dcf44ad1f91eabc7080cd5dea763607fd From: dpdklab@iol.unh.edu To: Test Report Cc: dpdk-test-reports@iol.unh.edu Content-Type: text/plain X-BeenThere: test-report@dpdk.org X-Mailman-Version: 2.1.29 Precedence: list List-Id: automatic DPDK test reports List-Unsubscribe: , List-Archive: List-Post: List-Help: List-Subscribe: , Errors-To: test-report-bounces@dpdk.org _Testing PASS_ Branch: dpdk 39b54f2dcf44ad1f91eabc7080cd5dea763607fd --> testing pass Upstream job id: Generic-DPDK-Compile-Meson#437915 Test environment and result as below: +------------------------------+--------------------+ | Environment | dpdk_meson_compile | +==============================+====================+ | Red Hat Enterprise Linux 9.5 | PASS | +------------------------------+--------------------+ | Ubuntu 20.04 | PASS | +------------------------------+--------------------+ | Debian GNU/Linux 12 | PASS | +------------------------------+--------------------+ | Fedora Linux 42 | PASS | +------------------------------+--------------------+ | Ubuntu 22.04 | PASS | +------------------------------+--------------------+ | Ubuntu 24.04 | PASS | +------------------------------+--------------------+ | CentOS Stream 9 | PASS | +------------------------------+--------------------+ | CentOS Stream 10 | PASS | +------------------------------+--------------------+ Red Hat Enterprise Linux 9.5 Kernel: 5.4 Compiler: gcc gcc (GCC) 11.5.0 20240719 (Red Hat 11.5.0-2) Ubuntu 20.04 Kernel: 5.15 Compiler: aarch64-linux-gnu-gcc gcc (Ubuntu 9.4.0-1ubuntu1~20.04.2) 9.4.0 Debian GNU/Linux 12 Kernel: 5.4 Compiler: gcc gcc (Debian 12.2.0-14+deb12u1) 12.2.0 Fedora Linux 42 Kernel: 5.4 Compiler: gcc gcc (GCC) 15.2.1 20250808 (Red Hat 15.2.1-1) Ubuntu 22.04 Kernel: 5.4 Compiler: gcc gcc (Ubuntu 11.4.0-1ubuntu1~22.04) 11.4.0 Ubuntu 24.04 Kernel: 5.4 Compiler: gcc gcc (Ubuntu 13.3.0-6ubuntu2~24.04) 13.3.0 CentOS Stream 9 Kernel: 5.4 Compiler: gcc gcc (GCC) 11.5.0 20240719 (Red Hat 11.5.0-11) CentOS Stream 10 Kernel: 5.4 Compiler: gcc gcc (GCC) 14.2.1 20250110 (Red Hat 14.2.1-8) To view detailed results, visit: https://lab.dpdk.org/results/dashboard/tarballs/35346/ UNH-IOL DPDK Community Lab To manage your email subscriptions, visit: https://lab.dpdk.org/results/dashboard/preferences/subscriptions/