From mboxrd@z Thu Jan 1 00:00:00 1970 Return-Path: Received: from mails.dpdk.org (mails.dpdk.org [217.70.189.124]) by inbox.dpdk.org (Postfix) with ESMTP id 1AFBD489E1 for ; Sun, 26 Oct 2025 12:11:50 +0100 (CET) Received: from mails.dpdk.org (localhost [127.0.0.1]) by mails.dpdk.org (Postfix) with ESMTP id EB73D4003C; Sun, 26 Oct 2025 12:11:49 +0100 (CET) Received: from mail-qv1-f100.google.com (mail-qv1-f100.google.com [209.85.219.100]) by mails.dpdk.org (Postfix) with ESMTP id 975F44003C for ; Sun, 26 Oct 2025 12:11:48 +0100 (CET) Received: by mail-qv1-f100.google.com with SMTP id 6a1803df08f44-87dfd3c24ddso55590636d6.0 for ; Sun, 26 Oct 2025 04:11:48 -0700 (PDT) DKIM-Signature: v=1; a=rsa-sha256; c=relaxed/relaxed; d=iol.unh.edu; s=unh-iol; t=1761477108; x=1762081908; darn=dpdk.org; h=cc:to:from:subject:message-id:date:from:to:cc:subject:date :message-id:reply-to; bh=4p89sX1Nlay88FNK/Rt6sSUAvYNphhv0/xteViEKN8A=; b=dhdDFXu73ROO24JOy7r7AI6X1pHjChbqVJUd2BgRdT+Zy5iFt05ewy1JXUpOe3FiTJ haoJEZyUcJyuqWWGEiJpEtHeA2cLKoeKvgdmY/poUThxIpP18XPUokCMwCGOebB9hcm7 ZdkdCpOcptzSF1ToE4g/odk9ljIOQyAdRdnLc= X-Google-DKIM-Signature: v=1; a=rsa-sha256; c=relaxed/relaxed; d=1e100.net; s=20230601; t=1761477108; x=1762081908; h=cc:to:from:subject:message-id:date:x-gm-message-state:from:to:cc :subject:date:message-id:reply-to; bh=4p89sX1Nlay88FNK/Rt6sSUAvYNphhv0/xteViEKN8A=; b=TxBnUkm2eHKUDRBmWnJkBSFgz68IQiI2AnqOeBU+KmC0Ow6YhI9XPmBjgrLWxHjC9g kHPtq08lCx5Ixi1JnY4Y3KyOJ7DdI8nIzzObvLihJimLXUue27YWRY1sl29/yXpofCSu /zi5OYk5XHRIHb1w2tjxbSJ7wdKFget2wpKCChP8xnRxUo0wKfoOajiRCYtjhXihL6LT 5evdt2T9ujlhz5xzTqK/Dcsq67wFfYFA9Toe0lPgnj/wQO/byzaxHByAh3AGm5yyBg3s y1fL/fs0AxKHgC2lJa85Tuk8iymzfVk+Nl1BHpX46AqhvNXuiwCDHrLULjCkXScEJiVk 33kg== X-Gm-Message-State: AOJu0Yx3oOfqY3Crt/e9Ux9PQNXY7c+rUHIIBlH7xU7kVKVZMUTOuA5b ehw6Jz8N/FYJ/JW26qPJIBPMBXHM31mKdNJrTLya/6fTJFc39m3XNtVSd6UmR4G7s3oJ+su6pRU d2mgRNjb4n+ia0NKlomGQogqPcSKYRBthHCUw X-Gm-Gg: ASbGncvdgirVIIf/Pco5QkTWT5pFOb9sWj5nZlahbg2l+Y+FWN5sr5ClyJe86kle9WI 2EWTzBOdUMHYx0mYyryrD540xFoKQmrxo2pPWSV5UtDU+CRGpAi3Jle5GO7w8CmiROxyIIKvaXJ LUy23e2j8tQJd4MK39ZWM0qimgMzS/PIwwNPlYwgbcUZ5EsL9U/UXj/pLVNREALklJ9wzn+nzps YK9FSzqd9jZ3ZGLvuIQBHS8rsWN5XuLVk5fKtP6nWd/iOJFqvBz3PEWNHjKW0Xm5YHhr9Yl4GUK 3RtlnhRchJsjfhMB0XGFLBciZeKlJEXQshy7Bzb2/SMFHJB+iUyztMArPftzyhiLs8ATrp/9vfO zegh5stHJnSQ5EwLRYLnYCqf3lS3YcH4= X-Google-Smtp-Source: AGHT+IEUhcpdT/wNXSGHk31/zjNOgiAA2mhAEbMbN8xl8rFhhJQ9/v81KUCpmX0SxPPbObOikEPlByvcUvC/ X-Received: by 2002:a05:6214:5b09:b0:87d:f19e:79f6 with SMTP id 6a1803df08f44-87df19e7d57mr242243636d6.26.1761477107652; Sun, 26 Oct 2025 04:11:47 -0700 (PDT) Received: from postal.iol.unh.edu (postal.iol.unh.edu. [132.177.123.84]) by smtp-relay.gmail.com with ESMTPS id 6a1803df08f44-87fc491f133sm4602926d6.11.2025.10.26.04.11.47 (version=TLS1_2 cipher=ECDHE-ECDSA-AES128-GCM-SHA256 bits=128/128); Sun, 26 Oct 2025 04:11:47 -0700 (PDT) X-Relaying-Domain: iol.unh.edu Date: Sun, 26 Oct 2025 04:11:47 -0700 (PDT) Message-ID: <68fe01f3.050a0220.17396a.5743SMTPIN_ADDED_MISSING@mx.google.com> Received: from [172.21.0.2] (unknown [172.18.0.240]) by postal.iol.unh.edu (Postfix) with ESMTP id 0A1E960003E8; Sun, 26 Oct 2025 07:11:47 -0400 (EDT) Subject: |SUCCESS| [GIT MASTER] b287e404643aeab5bb5db084c142789df187844e From: dpdklab@iol.unh.edu To: Test Report Cc: dpdk-test-reports@iol.unh.edu, Xueming Li , Christian Ehrhardt , Kevin Traynor , Luca Boccassi Content-Type: text/plain X-BeenThere: test-report@dpdk.org X-Mailman-Version: 2.1.29 Precedence: list List-Id: automatic DPDK test reports List-Unsubscribe: , List-Archive: List-Post: List-Help: List-Subscribe: , Errors-To: test-report-bounces@dpdk.org _Testing PASS_ Branch: tags/v24.11 b287e404643aeab5bb5db084c142789df187844e --> testing pass Upstream job id: Generic-Unit-Test-DPDK#385507 Test environment and result as below: +------------------------------+----------------+--------------+------------------------------+---------------------------+ | Environment | dpdk_unit_test | lpm_autotest | cryptodev_sw_snow3g_autotest | cryptodev_sw_zuc_autotest | +==============================+================+==============+==============================+===========================+ | CentOS Stream 9 | PASS | SKIPPED | SKIPPED | SKIPPED | +------------------------------+----------------+--------------+------------------------------+---------------------------+ | CentOS Stream 10 | PASS | SKIPPED | SKIPPED | SKIPPED | +------------------------------+----------------+--------------+------------------------------+---------------------------+ | Debian GNU/Linux 12 | PASS | SKIPPED | SKIPPED | SKIPPED | +------------------------------+----------------+--------------+------------------------------+---------------------------+ | Fedora Linux 41 | PASS | SKIPPED | SKIPPED | SKIPPED | +------------------------------+----------------+--------------+------------------------------+---------------------------+ | Fedora Linux 40 | PASS | SKIPPED | SKIPPED | SKIPPED | +------------------------------+----------------+--------------+------------------------------+---------------------------+ | Ubuntu 24.04 | PASS | SKIPPED | SKIPPED | SKIPPED | +------------------------------+----------------+--------------+------------------------------+---------------------------+ | Ubuntu 22.04 | PASS | SKIPPED | SKIPPED | SKIPPED | +------------------------------+----------------+--------------+------------------------------+---------------------------+ | Ubuntu 20.04 | PASS | PASS | SKIPPED | SKIPPED | +------------------------------+----------------+--------------+------------------------------+---------------------------+ | Fedora Linux 42 | PASS | SKIPPED | SKIPPED | SKIPPED | +------------------------------+----------------+--------------+------------------------------+---------------------------+ | Red Hat Enterprise Linux 9.5 | PASS | SKIPPED | SKIPPED | SKIPPED | +------------------------------+----------------+--------------+------------------------------+---------------------------+ | Debian 12 (arm) | SKIPPED | SKIPPED | PASS | PASS | +------------------------------+----------------+--------------+------------------------------+---------------------------+ CentOS Stream 9 Kernel: 5.4 Compiler: gcc gcc (GCC) 11.5.0 20240719 (Red Hat 11.5.0-11) CentOS Stream 10 Kernel: 5.4 Compiler: gcc gcc (GCC) 14.2.1 20250110 (Red Hat 14.2.1-8) Debian GNU/Linux 12 Kernel: 5.4 Compiler: gcc gcc (Debian 12.2.0-14+deb12u1) 12.2.0 Fedora Linux 41 Kernel: 5.4 Compiler: clang gcc (GCC) 14.3.1 20250523 (Red Hat 14.3.1-1) Fedora Linux 40 Kernel: 5.4 Compiler: gcc gcc (GCC) 14.2.1 20240912 (Red Hat 14.2.1-3) Ubuntu 24.04 Kernel: 5.4 Compiler: gcc gcc (Ubuntu 13.3.0-6ubuntu2~24.04) 13.3.0 Ubuntu 22.04 Kernel: 5.15 Compiler: gcc gcc (Ubuntu 11.4.0-1ubuntu1~22.04.2) 11.4.0 Ubuntu 20.04 Kernel: 5.4 Compiler: gcc gcc (Ubuntu 9.4.0-1ubuntu1~20.04.2) 9.4.0 Fedora Linux 42 Kernel: 5.4 Compiler: clang gcc (GCC) 15.2.1 20250808 (Red Hat 15.2.1-1) Red Hat Enterprise Linux 9.5 Kernel: 5.4 Compiler: gcc gcc (GCC) 11.5.0 20240719 (Red Hat 11.5.0-2) Debian 12 (arm) Kernel: Depends on container host Compiler: gcc (Debian 12.2.0-14) 12.2.0 To view detailed results, visit: https://lab.dpdk.org/results/dashboard/tarballs/35349/ UNH-IOL DPDK Community Lab To manage your email subscriptions, visit: https://lab.dpdk.org/results/dashboard/preferences/subscriptions/