From mboxrd@z Thu Jan 1 00:00:00 1970 Return-Path: Received: from mails.dpdk.org (mails.dpdk.org [217.70.189.124]) by inbox.dpdk.org (Postfix) with ESMTP id 358C3489E1 for ; Sun, 26 Oct 2025 12:25:14 +0100 (CET) Received: from mails.dpdk.org (localhost [127.0.0.1]) by mails.dpdk.org (Postfix) with ESMTP id 0F21B4003C; Sun, 26 Oct 2025 12:25:14 +0100 (CET) Received: from mail-il1-f225.google.com (mail-il1-f225.google.com [209.85.166.225]) by mails.dpdk.org (Postfix) with ESMTP id 282894003C for ; Sun, 26 Oct 2025 12:25:13 +0100 (CET) Received: by mail-il1-f225.google.com with SMTP id e9e14a558f8ab-430bf3b7608so40117715ab.3 for ; Sun, 26 Oct 2025 04:25:13 -0700 (PDT) DKIM-Signature: v=1; a=rsa-sha256; c=relaxed/relaxed; d=iol.unh.edu; s=unh-iol; t=1761477912; x=1762082712; darn=dpdk.org; h=cc:to:from:subject:message-id:date:from:to:cc:subject:date :message-id:reply-to; bh=P4y5dzOPHMmYFZGaRIUiXNeffkU2fAbHygtRqTTd5SU=; b=WzcVYJMJg7NHUElAZqfuhNXkXmAf+rp9O6GAMJQ2TerOJYqOHxsMJVQz0eT9DdBD2x Cf0A1jPB/wrJqUPDmu3/L6ATcz1DSqHoJpmApMJXcdCAxegYr9lXafaz7SVAeGBG1Cct dW+BwDsuivJkp809yQvytamrk0Noc9YmBtVZ8= X-Google-DKIM-Signature: v=1; a=rsa-sha256; c=relaxed/relaxed; d=1e100.net; s=20230601; t=1761477912; x=1762082712; h=cc:to:from:subject:message-id:date:x-gm-message-state:from:to:cc :subject:date:message-id:reply-to; bh=P4y5dzOPHMmYFZGaRIUiXNeffkU2fAbHygtRqTTd5SU=; b=LFJapDh20jiF6Pti9tcA1+w+C1vYQMzfOh3/Vy9KTQ7fyP4BWucOl/LZU/qDaYq0/4 brLgMOuQCBevKmRF+u1OF/hVqVjwqpe9RyQroA0995PylKGG1bzYn6y3NGn0hJ4kEkVW zlp15QCp/0r38F7fmtZC+0TsojYfFl/P/SN/+2DkY5fuCY8xxEpCGllOXPnun2sNeIiW KTE2u/TI9SRwlLyJ4QVh/Y8FiCZm8LiMGazyhg0yQPykv8mj3jmYN8X5QfQjnSCriyO7 6SlJxvXB34Q8Q1OIoSBGx9R3klgcedyoaEbdbxoy7/8tyNfSElvGi1YhUF1Tv5ZDCRW6 fMCg== X-Gm-Message-State: AOJu0YyS+zcYP1jhPuF0b0XxRKzobrkfwgX7FCeCeOOSqYIM35PLj17j IK1WeD97xtVCzPYTgzCu9S4mHK16Nn1ASkviNftnJaMUD1daNSy0TQL63rl+oyeZ+ULe+ga6hMf AilUAVRfeXrFSu/8HUMYS+zT0efDNViMSYNKG X-Gm-Gg: ASbGncsPLj92ROQTZU3Sc33rYkaAexef2tSnZ2wxkeoHmvabvZKTUIrE/yW65fPETOO hdt3XE0uI2P+ZFu8MhTUCmgys2hrcypm0X3Ec1lEGPVzXEuxKjWVHGaEtuBQM8l5q52lJ5gggdX Wo1hUlAJV9qjEYiCsWUKgn7/N5PA1DoLmjzSP2+2ufulGcxEZz6fIGohSIhExe0HOoApshx6rok NgpV/qy0yc2ySCSaXG1kLXaAjPmyvKOMpY/4DiZnuQUNabP/QxbFVe4bjtHksbiXrMhpLlcy/Uy DPVyZVB1qL8AZZLrQf7Kil0Otm+x0FQaN+jAN/CCG9Azop8t71NuB//dci5k+eMgcWDWd0dYoKU j2NRirgPY1TW8SoFVxdQYpRCbayR0JfY= X-Google-Smtp-Source: AGHT+IEGhIP1RoqXAtcjm1Ok+UgSi1elznIqZ0hf7j2cccMoecd16mZvZNAiN9Ofr9n9hRirK/SZQnYNMOmo X-Received: by 2002:a05:6e02:1a66:b0:430:b6a0:1b6a with SMTP id e9e14a558f8ab-430c527a848mr507513435ab.18.1761477912440; Sun, 26 Oct 2025 04:25:12 -0700 (PDT) Received: from postal.iol.unh.edu (postal.iol.unh.edu. [132.177.123.84]) by smtp-relay.gmail.com with ESMTPS id e9e14a558f8ab-431f67ea862sm4515855ab.4.2025.10.26.04.25.12 (version=TLS1_2 cipher=ECDHE-ECDSA-AES128-GCM-SHA256 bits=128/128); Sun, 26 Oct 2025 04:25:12 -0700 (PDT) X-Relaying-Domain: iol.unh.edu Date: Sun, 26 Oct 2025 04:25:12 -0700 (PDT) Message-ID: <68fe0518.050a0220.3cb29d.4d8fSMTPIN_ADDED_MISSING@mx.google.com> Received: from [172.21.0.2] (unknown [172.18.0.240]) by postal.iol.unh.edu (Postfix) with ESMTP id BAE486051830; Sun, 26 Oct 2025 07:25:11 -0400 (EDT) Subject: |SUCCESS| [GIT MASTER] 3b43ce3f4a54468e7ef65760c2fd7b4d6ee6d9fc From: dpdklab@iol.unh.edu To: Test Report Cc: dpdk-test-reports@iol.unh.edu, Xueming Li , Christian Ehrhardt , Kevin Traynor , Luca Boccassi Content-Type: text/plain X-BeenThere: test-report@dpdk.org X-Mailman-Version: 2.1.29 Precedence: list List-Id: automatic DPDK test reports List-Unsubscribe: , List-Archive: List-Post: List-Help: List-Subscribe: , Errors-To: test-report-bounces@dpdk.org _Testing PASS_ Branch: tags/v22.11 3b43ce3f4a54468e7ef65760c2fd7b4d6ee6d9fc --> testing pass Upstream job id: Generic-DPDK-Compile-Meson#437945 Test environment and result as below: +------------------------------+--------------------+ | Environment | dpdk_meson_compile | +==============================+====================+ | Red Hat Enterprise Linux 9.5 | PASS | +------------------------------+--------------------+ | Ubuntu 20.04 | PASS | +------------------------------+--------------------+ | Debian GNU/Linux 12 | PASS | +------------------------------+--------------------+ | Fedora Linux 42 | PASS | +------------------------------+--------------------+ | Ubuntu 22.04 | PASS | +------------------------------+--------------------+ | Ubuntu 24.04 | PASS | +------------------------------+--------------------+ | CentOS Stream 9 | PASS | +------------------------------+--------------------+ | CentOS Stream 10 | PASS | +------------------------------+--------------------+ Red Hat Enterprise Linux 9.5 Kernel: 5.4 Compiler: gcc gcc (GCC) 11.5.0 20240719 (Red Hat 11.5.0-2) Ubuntu 20.04 Kernel: 5.15 Compiler: aarch64-linux-gnu-gcc gcc (Ubuntu 9.4.0-1ubuntu1~20.04.2) 9.4.0 Debian GNU/Linux 12 Kernel: 5.4 Compiler: gcc gcc (Debian 12.2.0-14+deb12u1) 12.2.0 Fedora Linux 42 Kernel: 5.4 Compiler: gcc gcc (GCC) 15.2.1 20250808 (Red Hat 15.2.1-1) Ubuntu 22.04 Kernel: 5.4 Compiler: gcc gcc (Ubuntu 11.4.0-1ubuntu1~22.04) 11.4.0 Ubuntu 24.04 Kernel: 5.4 Compiler: gcc gcc (Ubuntu 13.3.0-6ubuntu2~24.04) 13.3.0 CentOS Stream 9 Kernel: 5.4 Compiler: gcc gcc (GCC) 11.5.0 20240719 (Red Hat 11.5.0-11) CentOS Stream 10 Kernel: 5.4 Compiler: gcc gcc (GCC) 14.2.1 20250110 (Red Hat 14.2.1-8) To view detailed results, visit: https://lab.dpdk.org/results/dashboard/tarballs/35347/ UNH-IOL DPDK Community Lab To manage your email subscriptions, visit: https://lab.dpdk.org/results/dashboard/preferences/subscriptions/