From mboxrd@z Thu Jan 1 00:00:00 1970 Return-Path: Received: from mails.dpdk.org (mails.dpdk.org [217.70.189.124]) by inbox.dpdk.org (Postfix) with ESMTP id B2F28489E1 for ; Sun, 26 Oct 2025 13:48:56 +0100 (CET) Received: from mails.dpdk.org (localhost [127.0.0.1]) by mails.dpdk.org (Postfix) with ESMTP id 86A8A4003C; Sun, 26 Oct 2025 13:48:56 +0100 (CET) Received: from mail-pl1-f225.google.com (mail-pl1-f225.google.com [209.85.214.225]) by mails.dpdk.org (Postfix) with ESMTP id 5341B4003C for ; Sun, 26 Oct 2025 13:48:55 +0100 (CET) Received: by mail-pl1-f225.google.com with SMTP id d9443c01a7336-290deb0e643so35655635ad.2 for ; Sun, 26 Oct 2025 05:48:55 -0700 (PDT) DKIM-Signature: v=1; a=rsa-sha256; c=relaxed/relaxed; d=iol.unh.edu; s=unh-iol; t=1761482934; x=1762087734; darn=dpdk.org; h=cc:to:from:subject:message-id:date:from:to:cc:subject:date :message-id:reply-to; bh=8wnfswWaL7IljMDizttKIgl52fFhBo9LRe+H5E/mKjo=; b=CIJW1vVd8Zykv9hu0hen4OeD/qmTf5Yw2x9YSkzRJYU2nZ2PfkcCYF1Rc+aoDrbPOy ncrbl1Np+/p/Szg6T0xM0k2h21OFj9lVa8acPPe2ZBaz35LTliNK5inXhzOj8hAqJODF su6X47KZJjtFUexUvyjc3Xwg+LUXz8ieVx9jo= X-Google-DKIM-Signature: v=1; a=rsa-sha256; c=relaxed/relaxed; d=1e100.net; s=20230601; t=1761482934; x=1762087734; h=cc:to:from:subject:message-id:date:x-gm-message-state:from:to:cc :subject:date:message-id:reply-to; bh=8wnfswWaL7IljMDizttKIgl52fFhBo9LRe+H5E/mKjo=; b=C8cMuUIYthdxY6fpH5sZWoynI6glbAfmfIY3Yh+QhJzgVSAoKl4TTmcqP60ed44Vy2 sEqh09TL+VbdO3RL+W1Z+TeifXsifNi/FiQFONi/wqpnJK+55mm6aggksKLAvA1PBq1Q VDOxtLtP7MYTcP4hxWzS9VmD97lG3jFg3ubuF8rQs8TxBZhgx+HGw/bxKNRRBAi/akry hzCB38yCFv1IQRaMY4gJDREu7qiR63ohwr9ywzkpLl+Tbx3Um0M5WcyCJYUAsaYR4+PO LF/7bD9UDkV5qVj2V4f36Awq2DASD1TIDEPspoWRSWvBdEcFcm3twpc8/VWT4VZsCzPC PNaQ== X-Gm-Message-State: AOJu0YxM5qIaH1P4vS1BDK9Q/VOQHBCIf++4LXQY3HVGMv/IF96Tltbj e9EGIZZhs9UAMYi9BUXsM/cgCK7p38NpT8Qxqt0S6P3MJyGl2wPTvz5Dtsja00bM1gP/5I0eNXM /R+yZNnBqX4JncxtXXRkZ3lbAg2/wb62ESKVwf8fZWhXq1ITo6M/U X-Gm-Gg: ASbGncvhEGRSgdKcu39UA1TuF94wRSdh1LRnvSGTP//RrLl6jMJQ0m/DlN70QesONnY BOXvqh9d6HuXIiVnChkBOipPw2rSB4Gbz54TayBAymyYgyyEaacCnd6qglGCud/Q75KY3WRZiYt oNJ8laDT1LMtKNxqU4qYyQLgpSIxIl2UAJ97J5qw42L8/GLtPug0Ra68pEll54g1DkVjkDrxEtq wJ3lFmhYqLu6KZjq7xIo08+pcc70RGZcHd776FaQXVY2UeKyLYgQKgvv7L0haXo4MaarTxDX6UV ZoLHMJO6fTZHpr+R+hRs1ti9dkHSmw4FxPFeYRbNddcF9PVUNnBeTOrBQXwEtBYEqGsUWojXq6c 6r69tnuXV X-Google-Smtp-Source: AGHT+IFXvjegMtjk4/WsmgRUo3BUWVb+EKnKpSoyDfTTak9j2ktrZiC8HZn5sy/As48KUY+gFCA7p0bTY6ey X-Received: by 2002:a17:903:182:b0:280:fe18:8479 with SMTP id d9443c01a7336-2946e2579f8mr137393165ad.51.1761482934151; Sun, 26 Oct 2025 05:48:54 -0700 (PDT) Received: from postal.iol.unh.edu (postal.iol.unh.edu. [2606:4100:3880:1234::84]) by smtp-relay.gmail.com with ESMTPS id d9443c01a7336-29498e6e7b0sm4719985ad.13.2025.10.26.05.48.54 (version=TLS1_2 cipher=ECDHE-ECDSA-AES128-GCM-SHA256 bits=128/128); Sun, 26 Oct 2025 05:48:54 -0700 (PDT) X-Relaying-Domain: iol.unh.edu Date: Sun, 26 Oct 2025 05:48:54 -0700 (PDT) Message-ID: <68fe18b6.170a0220.28083c.5974SMTPIN_ADDED_MISSING@mx.google.com> Received: from [172.21.0.2] (unknown [172.18.0.240]) by postal.iol.unh.edu (Postfix) with ESMTP id D3A7A60003E8; Sun, 26 Oct 2025 08:48:52 -0400 (EDT) Subject: |SUCCESS| [GIT MASTER] b287e404643aeab5bb5db084c142789df187844e From: dpdklab@iol.unh.edu To: Test Report Cc: dpdk-test-reports@iol.unh.edu, Xueming Li , Christian Ehrhardt , Kevin Traynor , Luca Boccassi Content-Type: text/plain X-BeenThere: test-report@dpdk.org X-Mailman-Version: 2.1.29 Precedence: list List-Id: automatic DPDK test reports List-Unsubscribe: , List-Archive: List-Post: List-Help: List-Subscribe: , Errors-To: test-report-bounces@dpdk.org _Testing PASS_ Branch: tags/v24.11 b287e404643aeab5bb5db084c142789df187844e --> testing pass Upstream job id: Generic-DPDK-Compile-Meson#437989 Test environment and result as below: +------------------------------+--------------------+ | Environment | dpdk_meson_compile | +==============================+====================+ | Red Hat Enterprise Linux 9.5 | PASS | +------------------------------+--------------------+ | Ubuntu 20.04 | PASS | +------------------------------+--------------------+ | Debian GNU/Linux 12 | PASS | +------------------------------+--------------------+ | Fedora Linux 42 | PASS | +------------------------------+--------------------+ | Ubuntu 22.04 | PASS | +------------------------------+--------------------+ | Ubuntu 24.04 | PASS | +------------------------------+--------------------+ | CentOS Stream 9 | PASS | +------------------------------+--------------------+ | CentOS Stream 10 | PASS | +------------------------------+--------------------+ Red Hat Enterprise Linux 9.5 Kernel: 5.4 Compiler: gcc gcc (GCC) 11.5.0 20240719 (Red Hat 11.5.0-2) Ubuntu 20.04 Kernel: 5.15 Compiler: aarch64-linux-gnu-gcc gcc (Ubuntu 9.4.0-1ubuntu1~20.04.2) 9.4.0 Debian GNU/Linux 12 Kernel: 5.4 Compiler: gcc gcc (Debian 12.2.0-14+deb12u1) 12.2.0 Fedora Linux 42 Kernel: 5.4 Compiler: gcc gcc (GCC) 15.2.1 20250808 (Red Hat 15.2.1-1) Ubuntu 22.04 Kernel: 5.4 Compiler: gcc gcc (Ubuntu 11.4.0-1ubuntu1~22.04) 11.4.0 Ubuntu 24.04 Kernel: 5.4 Compiler: gcc gcc (Ubuntu 13.3.0-6ubuntu2~24.04) 13.3.0 CentOS Stream 9 Kernel: 5.4 Compiler: gcc gcc (GCC) 11.5.0 20240719 (Red Hat 11.5.0-11) CentOS Stream 10 Kernel: 5.4 Compiler: gcc gcc (GCC) 14.2.1 20250110 (Red Hat 14.2.1-8) To view detailed results, visit: https://lab.dpdk.org/results/dashboard/tarballs/35349/ UNH-IOL DPDK Community Lab To manage your email subscriptions, visit: https://lab.dpdk.org/results/dashboard/preferences/subscriptions/