From mboxrd@z Thu Jan 1 00:00:00 1970 Return-Path: Received: from mails.dpdk.org (mails.dpdk.org [217.70.189.124]) by inbox.dpdk.org (Postfix) with ESMTP id BC95C489F1 for ; Mon, 27 Oct 2025 05:29:52 +0100 (CET) Received: from mails.dpdk.org (localhost [127.0.0.1]) by mails.dpdk.org (Postfix) with ESMTP id B76554003C; Mon, 27 Oct 2025 05:29:52 +0100 (CET) Received: from mail-oa1-f99.google.com (mail-oa1-f99.google.com [209.85.160.99]) by mails.dpdk.org (Postfix) with ESMTP id AD61D4003C for ; Mon, 27 Oct 2025 05:29:38 +0100 (CET) Received: by mail-oa1-f99.google.com with SMTP id 586e51a60fabf-3c9a42d6349so5806218fac.1 for ; Sun, 26 Oct 2025 21:29:38 -0700 (PDT) DKIM-Signature: v=1; a=rsa-sha256; c=relaxed/relaxed; d=iol.unh.edu; s=unh-iol; t=1761539378; x=1762144178; darn=dpdk.org; h=references:in-reply-to:cc:to:from:subject:message-id:date:from:to :cc:subject:date:message-id:reply-to; bh=HTrIJs3i+XqeW2KIIsYDexYTIavvkuhgEjgRnO1GZiE=; b=FYQY3pu7ipkyuloT43oANgDo2aHCddCHmtb0ELbU8L4OKLKtpluTIS+KipEu5wAl6q 878IhEFEQCT7Cb/D1Lz+RYirbhA/Yy+OT5IW2H7BVRuEMklLjKC9pCHNWMrWi0ttCSYF DQQe0U0GPnTGd0LsmOkkb79qU3krN7THMNj2o= X-Google-DKIM-Signature: v=1; a=rsa-sha256; c=relaxed/relaxed; d=1e100.net; s=20230601; t=1761539378; x=1762144178; h=references:in-reply-to:cc:to:from:subject:message-id:date :x-gm-message-state:from:to:cc:subject:date:message-id:reply-to; bh=HTrIJs3i+XqeW2KIIsYDexYTIavvkuhgEjgRnO1GZiE=; b=MWpXGBJNJlI72lbG0QCXgbXwGCt3yNrow52sPMF3vIwQdp7xWvFhnBd2BXzYXpE/Xw Gom1HUnoIVMKIA4VyxURHX0ldUOrcp1GL3MAqgh/pCwYoWBdgoNMSEh+P8VOENTjEeIw o5Gz/PWS5UBo4Fkr7zo2W0AnHBpGd6yRewNX6+g9Dxr7XTcHs/IumpOgbz+MzvWE7TPE /E1eoajCWPGQ5OBOTMEv73sc6f2Tc+1Fgh20dZDSmm5DLC3JUtJ2Yxy00BBVZGl83Uy9 FZ0xfQmQBEIS6LnJVB/Ei/CPWKk14SyyZ6sEajuwJy0JzzneXfYIm/sA15bB3jDF4TzM o0/Q== X-Gm-Message-State: AOJu0Yzc8YrxSz8sIsh9UbCVgH3Qf8qfl6xRtLvAiHXXUTjCyKPlmo0b c9gQPt+eRzREKHafdpMW4b7W1QsRyWyOgxH+z7e7gmxnyyyNOyYxLW3stARDRxyQO882bC0bqt/ qRq79IANrpR2AivGApjHllpUqc7X74uHeKVtdUTA04r9N X-Gm-Gg: ASbGncv0Sn52if3I9kY/IXPQkdxOiriQ+BhyzFxT4cp8PRp1IeFpcMxnAP0V7xsQy4b gxcX8RZjHPOer/liLqLaVhR+oOlB0OQV1URTkKfnxb3pkL+x/WyYwokYdKUobOyMKS5AQLU8aBm hN8xag5Hi87BK9qTA/uX2VZXaT65BW6UVrUH5jxsQBofqfn+syWTGI7yO3/ULG7wNbJKJI417Yj UwtB/rND/8c4SOzL2ZJFYoJPAMITCb723cFLw+YGesHo6QWN+3Y1TQbkl89IQzEJ2M6TuNicoAT FFJsZNv3dHzve63z60dCkRcxaiaOfFOEWlWIopyecAdqKBKptfgvkHEYulAkFUBmA9iix9dpDiT 8uD8f0mrHuGwpm9KjG5QgT7JC5i46cYU= X-Google-Smtp-Source: AGHT+IFRLIHQJFho59JKV/1TMyxJ8ohfOPlCJ2+IVmTSepB619FSe99kfrKLpT7XTv52HHxbx7IvEX+/9rQv X-Received: by 2002:a05:6870:888d:b0:3d4:4c81:df4a with SMTP id 586e51a60fabf-3d44c9155f3mr866112fac.36.1761539377833; Sun, 26 Oct 2025 21:29:37 -0700 (PDT) Received: from postal.iol.unh.edu (postal.iol.unh.edu. [132.177.123.84]) by smtp-relay.gmail.com with ESMTPS id 586e51a60fabf-3d1e3d5edf4sm582901fac.19.2025.10.26.21.29.37 (version=TLS1_2 cipher=ECDHE-ECDSA-AES128-GCM-SHA256 bits=128/128); Sun, 26 Oct 2025 21:29:37 -0700 (PDT) X-Relaying-Domain: iol.unh.edu Date: Sun, 26 Oct 2025 21:29:37 -0700 (PDT) Message-ID: <68fef531.050a0220.7b3c2.a4f2SMTPIN_ADDED_MISSING@mx.google.com> Received: from [172.21.0.2] (unknown [172.18.0.240]) by postal.iol.unh.edu (Postfix) with ESMTP id 5C8B46051835; Mon, 27 Oct 2025 00:29:37 -0400 (EDT) Subject: |SUCCESS| pw158113-158130 [PATCH] [19/19] net/txgbe: remove unsuppor From: dpdklab@iol.unh.edu To: Test Report Cc: dpdk-test-reports@iol.unh.edu, Stephen Hemminger In-Reply-To: <20251027031542.10512-20-jiawenwu@trustnetic.com> References: <20251027031542.10512-20-jiawenwu@trustnetic.com> Content-Type: text/plain X-BeenThere: test-report@dpdk.org X-Mailman-Version: 2.1.29 Precedence: list List-Id: automatic DPDK test reports List-Unsubscribe: , List-Archive: List-Post: List-Help: List-Subscribe: , Errors-To: test-report-bounces@dpdk.org Test-Label: iol-unit-amd64-testing Test-Status: SUCCESS http://dpdk.org/patch/158130 _Testing PASS_ Submitter: Jiawen Wu Date: Monday, October 27 2025 03:15:42 DPDK git baseline: Repo:dpdk-next-net Branch: master CommitID:9670fb84b607e9292648e6b66e50e74adea05774 158113-158130 --> testing pass Upstream job id: Generic-Unit-Test-DPDK#385519 Test environment and result as below: +-------------------------------+----------------+ | Environment | dpdk_unit_test | +===============================+================+ | Fedora Linux 41 | PASS | +-------------------------------+----------------+ | Debian GNU/Linux 12 | PASS | +-------------------------------+----------------+ | CentOS Stream 10 | PASS | +-------------------------------+----------------+ | Ubuntu 24.04 | PASS | +-------------------------------+----------------+ | Fedora Linux 42 | PASS | +-------------------------------+----------------+ | Red Hat Enterprise Linux 9.5 | PASS | +-------------------------------+----------------+ | CentOS Stream 9 | PASS | +-------------------------------+----------------+ | Ubuntu 22.04 | PASS | +-------------------------------+----------------+ | Fedora Linux 40 | PASS | +-------------------------------+----------------+ | Ubuntu 20.04 | PASS | +-------------------------------+----------------+ | Red Hat Enterprise Linux 8.10 | PASS | +-------------------------------+----------------+ | Windows Server 2022 | PASS | +-------------------------------+----------------+ Fedora Linux 41 Kernel: 5.15 Compiler: clang gcc (GCC) 14.3.1 20250523 (Red Hat 14.3.1-1) Debian GNU/Linux 12 Kernel: 5.15 Compiler: gcc gcc (Debian 12.2.0-14+deb12u1) 12.2.0 CentOS Stream 10 Kernel: 5.15 Compiler: gcc gcc (GCC) 14.2.1 20250110 (Red Hat 14.2.1-8) Ubuntu 24.04 Kernel: 5.15 Compiler: gcc gcc (Ubuntu 13.3.0-6ubuntu2~24.04) 13.3.0 Fedora Linux 42 Kernel: 5.15 Compiler: clang gcc (GCC) 15.2.1 20250808 (Red Hat 15.2.1-1) Red Hat Enterprise Linux 9.5 Kernel: 5.15 Compiler: gcc gcc (GCC) 11.5.0 20240719 (Red Hat 11.5.0-2) CentOS Stream 9 Kernel: 5.15 Compiler: gcc gcc (GCC) 11.5.0 20240719 (Red Hat 11.5.0-11) Ubuntu 22.04 Kernel: 5.15 Compiler: gcc gcc (Ubuntu 11.4.0-1ubuntu1~22.04) 11.4.0 Fedora Linux 40 Kernel: 5.15 Compiler: gcc gcc (GCC) 14.2.1 20240912 (Red Hat 14.2.1-3) Ubuntu 20.04 Kernel: 5.15 Compiler: gcc gcc (Ubuntu 9.4.0-1ubuntu1~20.04.2) 9.4.0 Red Hat Enterprise Linux 8.10 Kernel: 5.15 Compiler: gcc gcc (GCC) 8.5.0 20210514 (Red Hat 8.5.0-22) Windows Server 2022 Kernel: 10.0.20348.2031 Compiler: clang 15.0.7, gcc 14.1.0 (MinGW), and MSVC VS 19.39.33521 To view detailed results, visit: https://lab.dpdk.org/results/dashboard/patchsets/34387/ UNH-IOL DPDK Community Lab To manage your email subscriptions, visit: https://lab.dpdk.org/results/dashboard/preferences/subscriptions/