From mboxrd@z Thu Jan 1 00:00:00 1970 Return-Path: Received: from mails.dpdk.org (mails.dpdk.org [217.70.189.124]) by inbox.dpdk.org (Postfix) with ESMTP id 9776C489FC for ; Mon, 27 Oct 2025 06:21:53 +0100 (CET) Received: from mails.dpdk.org (localhost [127.0.0.1]) by mails.dpdk.org (Postfix) with ESMTP id 924124003C; Mon, 27 Oct 2025 06:21:53 +0100 (CET) Received: from mail-oa1-f98.google.com (mail-oa1-f98.google.com [209.85.160.98]) by mails.dpdk.org (Postfix) with ESMTP id AAB214003C for ; Mon, 27 Oct 2025 06:21:52 +0100 (CET) Received: by mail-oa1-f98.google.com with SMTP id 586e51a60fabf-3d1cf5c2805so1818131fac.2 for ; Sun, 26 Oct 2025 22:21:52 -0700 (PDT) DKIM-Signature: v=1; a=rsa-sha256; c=relaxed/relaxed; d=iol.unh.edu; s=unh-iol; t=1761542512; x=1762147312; darn=dpdk.org; h=references:in-reply-to:cc:to:from:subject:message-id:date:from:to :cc:subject:date:message-id:reply-to; bh=QMnEmRSOtaQU5R/34KtcyLi6/W2p1hr92fexg1e+GYY=; b=YAfZ7RFuvjUkoSGTooMeQkRvwOvJYBMV+kR1+/BOSWnhkvhKb4MHS9QtjCURytm6Q5 z6tNGuBn+0agrFeLOhdA642CdYi9rEoKYk7dSN7s44rvwvDxkS13DeT21r9EIuHwQcIq BuEqaKzcHv+OSzQI87vrhuAoXS7Ybi41lrCHk= X-Google-DKIM-Signature: v=1; a=rsa-sha256; c=relaxed/relaxed; d=1e100.net; s=20230601; t=1761542512; x=1762147312; h=references:in-reply-to:cc:to:from:subject:message-id:date :x-gm-message-state:from:to:cc:subject:date:message-id:reply-to; bh=QMnEmRSOtaQU5R/34KtcyLi6/W2p1hr92fexg1e+GYY=; b=EvC0s+uFZb0YY74E/jD/gVDPVwxsbYSlTKTlYz7pphQwRM10XH4q0U0hSptEWHNozm yWBaXAg/vg44lZSVafBAKnyroB4xZCyt0zAPS74qRi+Rrfpte/o9ctpFL1TGO5ahQCO+ Zw4V22utxlbHDm+fryeoUWk8HFQUNc8aTaNqNP3QNcV27W4fHv1/R9A/suoG2ndEgvEd eEpaaiKpd9UtJZ9+MrWYw0cD8cB2tNiI++OfqQhtx0P48o+N9IaxUOQlPWLTWlc1uf1i 2mycb/8xpMWcWxzdlrF5FZ4sRwDD/k/7acrI4NaKW6aruJV7yW7ajGypaRrvs3PaFhVM D9dQ== X-Gm-Message-State: AOJu0YyFELMTzT9CC2WXYvLrM5qgALskGcXjp0sGIcnAtN8mBc1gU5f6 o57tWTeW5somlwK1cSPww2h73XGSD1vPF3xPx2AGJoFiEVVvDb5h/DJapbwVsvh8YMhO6JbCKOQ /LZeiV+kxyZp5fZ+O+SS67Gbgfvi+ofFhneWpwMPXNNOIALc2UFcp9VqdLETF X-Gm-Gg: ASbGnctpnPVISeg0BdC60hWvHWN+SgrQxg7x4wcizqQtdbiaTkILkg8ADhphx67pRpB FbxZgIFl10CURSbi/EvIYxmsqYsH74JNJrJSZwjTSCfbYGb9QEd5Ha5rKiWH5RsiEtuJZUuSETr BYd3hIB7e8oQc5NQvpO5hePnydgLvSbOJQJCmn/MfP/JPrfMFlPUPH1XKqfafeDZq5oiZ11EaXu BTTtQCkxgIiyDiszUZoeaeElf02kjOF9GB28Sk9RpUksIj/8xFjFNg2llocpcjsvBqJJwi9GlZO e2ZkmhzM66wBBPbCtVxY0OpjTzkUwpMiTRI6VBgJMemYlLSxQ64hF3Ao0CPiFP5C7IxKGmONnlU WmeMXVzaZ X-Google-Smtp-Source: AGHT+IHiae8ItoAzsBo+scNNjWcDDiIaiaAgALgVkapep8R4MQfh5rvPuTRmbI8AXBdNo8Tl7fKtjMZS3RCe X-Received: by 2002:a05:6870:80d4:b0:3d4:3658:edf6 with SMTP id 586e51a60fabf-3d436593853mr1152181fac.18.1761542511869; Sun, 26 Oct 2025 22:21:51 -0700 (PDT) Received: from postal.iol.unh.edu (postal.iol.unh.edu. [2606:4100:3880:1234::84]) by smtp-relay.gmail.com with ESMTPS id 586e51a60fabf-3d1e22e86a2sm610811fac.0.2025.10.26.22.21.51 (version=TLS1_2 cipher=ECDHE-ECDSA-AES128-GCM-SHA256 bits=128/128); Sun, 26 Oct 2025 22:21:51 -0700 (PDT) X-Relaying-Domain: iol.unh.edu Date: Sun, 26 Oct 2025 22:21:51 -0700 (PDT) Message-ID: <68ff016f.050a0220.28cda6.caccSMTPIN_ADDED_MISSING@mx.google.com> Received: from [172.21.0.2] (unknown [172.18.0.240]) by postal.iol.unh.edu (Postfix) with ESMTP id 189836051830; Mon, 27 Oct 2025 01:21:51 -0400 (EDT) Subject: |SUCCESS| pw158113-158130 [PATCH] [19/19] net/txgbe: remove unsuppor From: dpdklab@iol.unh.edu To: Test Report Cc: dpdk-test-reports@iol.unh.edu, Stephen Hemminger In-Reply-To: <20251027031542.10512-20-jiawenwu@trustnetic.com> References: <20251027031542.10512-20-jiawenwu@trustnetic.com> Content-Type: text/plain X-BeenThere: test-report@dpdk.org X-Mailman-Version: 2.1.29 Precedence: list List-Id: automatic DPDK test reports List-Unsubscribe: , List-Archive: List-Post: List-Help: List-Subscribe: , Errors-To: test-report-bounces@dpdk.org Test-Label: iol-unit-arm64-testing Test-Status: SUCCESS http://dpdk.org/patch/158130 _Testing PASS_ Submitter: Jiawen Wu Date: Monday, October 27 2025 03:15:42 DPDK git baseline: Repo:dpdk-next-net Branch: master CommitID:9670fb84b607e9292648e6b66e50e74adea05774 158113-158130 --> testing pass Upstream job id: Generic-Unit-Test-DPDK#385527 Test environment and result as below: +------------------------------+----------------+------------------------------+--------------+---------------------------+ | Environment | dpdk_unit_test | cryptodev_sw_snow3g_autotest | lpm_autotest | cryptodev_sw_zuc_autotest | +==============================+================+==============================+==============+===========================+ | Ubuntu 22.04 | PASS | SKIPPED | SKIPPED | SKIPPED | +------------------------------+----------------+------------------------------+--------------+---------------------------+ | Fedora Linux 40 | PASS | SKIPPED | SKIPPED | SKIPPED | +------------------------------+----------------+------------------------------+--------------+---------------------------+ | Red Hat Enterprise Linux 9.5 | PASS | SKIPPED | SKIPPED | SKIPPED | +------------------------------+----------------+------------------------------+--------------+---------------------------+ | Ubuntu 20.04 | PASS | SKIPPED | PASS | SKIPPED | +------------------------------+----------------+------------------------------+--------------+---------------------------+ | Fedora Linux 41 | PASS | SKIPPED | SKIPPED | SKIPPED | +------------------------------+----------------+------------------------------+--------------+---------------------------+ | Debian GNU/Linux 12 | PASS | SKIPPED | SKIPPED | SKIPPED | +------------------------------+----------------+------------------------------+--------------+---------------------------+ | Fedora Linux 42 | PASS | SKIPPED | SKIPPED | SKIPPED | +------------------------------+----------------+------------------------------+--------------+---------------------------+ | CentOS Stream 9 | PASS | SKIPPED | SKIPPED | SKIPPED | +------------------------------+----------------+------------------------------+--------------+---------------------------+ | CentOS Stream 10 | PASS | SKIPPED | SKIPPED | SKIPPED | +------------------------------+----------------+------------------------------+--------------+---------------------------+ | Ubuntu 24.04 | PASS | SKIPPED | SKIPPED | SKIPPED | +------------------------------+----------------+------------------------------+--------------+---------------------------+ | Debian 12 (arm) | SKIPPED | PASS | SKIPPED | PASS | +------------------------------+----------------+------------------------------+--------------+---------------------------+ Ubuntu 22.04 Kernel: 5.4 Compiler: gcc gcc (Ubuntu 11.4.0-1ubuntu1~22.04) 11.4.0 Fedora Linux 40 Kernel: 5.4 Compiler: gcc gcc (GCC) 14.2.1 20240912 (Red Hat 14.2.1-3) Red Hat Enterprise Linux 9.5 Kernel: 5.4 Compiler: gcc gcc (GCC) 11.5.0 20240719 (Red Hat 11.5.0-2) Ubuntu 20.04 Kernel: 5.4 Compiler: gcc gcc (Ubuntu 9.4.0-1ubuntu1~20.04.2) 9.4.0 Fedora Linux 41 Kernel: 5.4 Compiler: gcc gcc (GCC) 14.3.1 20250523 (Red Hat 14.3.1-1) Debian GNU/Linux 12 Kernel: 5.4 Compiler: gcc gcc (Debian 12.2.0-14+deb12u1) 12.2.0 Fedora Linux 42 Kernel: 5.4 Compiler: gcc gcc (GCC) 15.2.1 20250808 (Red Hat 15.2.1-1) CentOS Stream 9 Kernel: 5.4 Compiler: gcc gcc (GCC) 11.5.0 20240719 (Red Hat 11.5.0-11) CentOS Stream 10 Kernel: 5.4 Compiler: gcc gcc (GCC) 14.2.1 20250110 (Red Hat 14.2.1-8) Ubuntu 24.04 Kernel: 5.4 Compiler: gcc gcc (Ubuntu 13.3.0-6ubuntu2~24.04) 13.3.0 Debian 12 (arm) Kernel: Depends on container host Compiler: gcc (Debian 12.2.0-14) 12.2.0 To view detailed results, visit: https://lab.dpdk.org/results/dashboard/patchsets/34387/ UNH-IOL DPDK Community Lab To manage your email subscriptions, visit: https://lab.dpdk.org/results/dashboard/preferences/subscriptions/