From mboxrd@z Thu Jan 1 00:00:00 1970 Return-Path: Received: from mails.dpdk.org (mails.dpdk.org [217.70.189.124]) by inbox.dpdk.org (Postfix) with ESMTP id EB377489FC for ; Mon, 27 Oct 2025 06:24:18 +0100 (CET) Received: from mails.dpdk.org (localhost [127.0.0.1]) by mails.dpdk.org (Postfix) with ESMTP id E51814003C; Mon, 27 Oct 2025 06:24:18 +0100 (CET) Received: from mail-il1-f225.google.com (mail-il1-f225.google.com [209.85.166.225]) by mails.dpdk.org (Postfix) with ESMTP id BC6494003C for ; Mon, 27 Oct 2025 06:24:17 +0100 (CET) Received: by mail-il1-f225.google.com with SMTP id e9e14a558f8ab-430ccd45f19so46912905ab.1 for ; Sun, 26 Oct 2025 22:24:17 -0700 (PDT) DKIM-Signature: v=1; a=rsa-sha256; c=relaxed/relaxed; d=iol.unh.edu; s=unh-iol; t=1761542657; x=1762147457; darn=dpdk.org; h=references:in-reply-to:cc:to:from:subject:message-id:date:from:to :cc:subject:date:message-id:reply-to; bh=qql3S8IMnCGD5NJWubqU2SM4dIZXDURxA/XusuYR++0=; b=gtx79GdmYvYWj49WlMKjnQsInfOkzUN1CT91ybjFPxvLKuYThApKgKzA2sO6IJhkYj CJeGZFueV+omRzc79N/UyFD1gDS539bfUs1tMLFYFpS0j7uTulr+fG2EuJ6gBVrmMpNB xwl1YW/8YK9iXr12UpGdnasJPCIiy5TbX913M= X-Google-DKIM-Signature: v=1; a=rsa-sha256; c=relaxed/relaxed; d=1e100.net; s=20230601; t=1761542657; x=1762147457; h=references:in-reply-to:cc:to:from:subject:message-id:date :x-gm-message-state:from:to:cc:subject:date:message-id:reply-to; bh=qql3S8IMnCGD5NJWubqU2SM4dIZXDURxA/XusuYR++0=; b=Dz3DmUIYrzu+uA5cyLf9MjeF5aert//A21eLoZdfddvE5aJP8OPMPBOii74RVviWYs 64RuEaDl+YObcHqPtLpibMjEFzviAzhAH5iQejFH1y01yEoHMw7Tt7hpMFwsedqkLmy5 xCs52+RFN+jXFCBjNxVYg4+og4w5H+sKcB1JOiDTtFPcQyGR0GF/77oVjK9BZxOG+9OT v5d5SCTLsYre+Hx779+jOY1ZHbqQwPFaEB3nOxESStBid9NldWx5yQAOB7EEduDBRzjo EjZE7yMSrODbhawdEuRAb1LtggUrMSKnGzwo4Wd1WPCbCuB+Jl0ShVxUKT4bzFrjfnfe jvag== X-Gm-Message-State: AOJu0YydqeoMV6JTLFExIw6kbHXYFoEovQ53h94FZZO6Kqkk+NpNu1tv Yn1laySJdbXCEkr3HywAyf42apMVeiTv4k9clLXTmvMMGicG+/XdL99LgjLzaL2+itXJiSFvwVZ F2NrrZ229mrfpS7nopYJGztNbuPFp3cLnsSXCX127ydmGb/4DmI8kGGSNOT9z X-Gm-Gg: ASbGncuWZnbQOVSJcZuD2r58GexymZ/AhAZZeITekZ+y96J0rOzw74Qj8uPejCZKzoK Eqc8RNWeh4C+gqLyJew0KrkgpYxKvABVFVSK7K01a90Y3wq7bfTc4sGzhGaTHBMrQcv/O+5mC56 XJK3KaEOIT4NfzldWQsMDBYQOtke/uBr19u7S2NE+NPgcWcULZnkeZCApgoZfHHuljSXB2J/7mi wcyreAakZC3wKIRg08V8a2wdlaxhITUtdpHoW2K+fNIqMLD9Ln7vEAC2+m8HXkD/eHruWgshkDM XzTUJ+hPwrwoVUp96oawOszhNjBRlBNhiBScdVQ84jPpUYam1U5ugs9mASWNh3ChyecFrWvwZCB LKDfT3V7Y X-Google-Smtp-Source: AGHT+IHIM+hlcV86TnneoJMttfsCYrS+TZnL0mF8mBuk/2r8RAcAwTvOfRiiqSSiAO4yQHppK+DbWhyeanM7 X-Received: by 2002:a05:6e02:1a05:b0:430:ae01:227e with SMTP id e9e14a558f8ab-431ebf6c653mr126653955ab.22.1761542657107; Sun, 26 Oct 2025 22:24:17 -0700 (PDT) Received: from postal.iol.unh.edu (postal.iol.unh.edu. [2606:4100:3880:1234::84]) by smtp-relay.gmail.com with ESMTPS id e9e14a558f8ab-431f67f8e79sm6096165ab.11.2025.10.26.22.24.17 (version=TLS1_2 cipher=ECDHE-ECDSA-AES128-GCM-SHA256 bits=128/128); Sun, 26 Oct 2025 22:24:17 -0700 (PDT) X-Relaying-Domain: iol.unh.edu Date: Sun, 26 Oct 2025 22:24:17 -0700 (PDT) Message-ID: <68ff0201.050a0220.3cff42.b6aaSMTPIN_ADDED_MISSING@mx.google.com> Received: from [172.21.0.6] (unknown [172.18.0.240]) by postal.iol.unh.edu (Postfix) with ESMTP id ABD8D6051830; Mon, 27 Oct 2025 01:24:16 -0400 (EDT) Subject: |WARNING| pw158113-158130 [PATCH] [19/19] net/txgbe: remove unsuppor From: dpdklab@iol.unh.edu To: Test Report Cc: dpdk-test-reports@iol.unh.edu, Stephen Hemminger In-Reply-To: <20251027031542.10512-20-jiawenwu@trustnetic.com> References: <20251027031542.10512-20-jiawenwu@trustnetic.com> Content-Type: text/plain X-BeenThere: test-report@dpdk.org X-Mailman-Version: 2.1.29 Precedence: list List-Id: automatic DPDK test reports List-Unsubscribe: , List-Archive: List-Post: List-Help: List-Subscribe: , Errors-To: test-report-bounces@dpdk.org Test-Label: iol-compile-amd64-testing Test-Status: WARNING http://dpdk.org/patch/158130 _Testing issues_ Submitter: Jiawen Wu Date: Monday, October 27 2025 03:15:42 DPDK git baseline: Repo:dpdk-next-net Branch: master CommitID:9670fb84b607e9292648e6b66e50e74adea05774 158113-158130 --> testing issues Upstream job id: Generic-DPDK-Compile-Meson#437999 Test environment and result as below: +-------------------------------+--------------------+-------------------------+------------------+-------------------+-------------------+----------------------+ | Environment | dpdk_meson_compile | dpdk_llvm_clang_compile | dpdk_compile_ovs | dpdk_compile_spdk | dpdk_msvc_compile | dpdk_mingw64_compile | +===============================+====================+=========================+==================+===================+===================+======================+ | Ubuntu 24.04 | PASS | SKIPPED | PASS | WARN | SKIPPED | SKIPPED | +-------------------------------+--------------------+-------------------------+------------------+-------------------+-------------------+----------------------+ | CentOS Stream 10 | PASS | SKIPPED | SKIPPED | SKIPPED | SKIPPED | SKIPPED | +-------------------------------+--------------------+-------------------------+------------------+-------------------+-------------------+----------------------+ | Ubuntu 20.04 | PASS | SKIPPED | SKIPPED | SKIPPED | SKIPPED | SKIPPED | +-------------------------------+--------------------+-------------------------+------------------+-------------------+-------------------+----------------------+ | Fedora Linux 42 | PASS | SKIPPED | PASS | WARN | SKIPPED | SKIPPED | +-------------------------------+--------------------+-------------------------+------------------+-------------------+-------------------+----------------------+ | CentOS Stream 9 | PASS | SKIPPED | SKIPPED | WARN | SKIPPED | SKIPPED | +-------------------------------+--------------------+-------------------------+------------------+-------------------+-------------------+----------------------+ | Red Hat Enterprise Linux 8.10 | PASS | SKIPPED | SKIPPED | SKIPPED | SKIPPED | SKIPPED | +-------------------------------+--------------------+-------------------------+------------------+-------------------+-------------------+----------------------+ | openSUSE Leap 15.6 | PASS | SKIPPED | SKIPPED | SKIPPED | SKIPPED | SKIPPED | +-------------------------------+--------------------+-------------------------+------------------+-------------------+-------------------+----------------------+ | Debian GNU/Linux 12 | PASS | SKIPPED | SKIPPED | WARN | SKIPPED | SKIPPED | +-------------------------------+--------------------+-------------------------+------------------+-------------------+-------------------+----------------------+ | Red Hat Enterprise Linux 9.5 | PASS | SKIPPED | SKIPPED | SKIPPED | SKIPPED | SKIPPED | +-------------------------------+--------------------+-------------------------+------------------+-------------------+-------------------+----------------------+ | Ubuntu 22.04 | PASS | SKIPPED | SKIPPED | WARN | SKIPPED | SKIPPED | +-------------------------------+--------------------+-------------------------+------------------+-------------------+-------------------+----------------------+ | Alpine Linux 3.22.0 | PASS | SKIPPED | SKIPPED | SKIPPED | SKIPPED | SKIPPED | +-------------------------------+--------------------+-------------------------+------------------+-------------------+-------------------+----------------------+ | FreeBSD 14.2 | PASS | SKIPPED | SKIPPED | SKIPPED | SKIPPED | SKIPPED | +-------------------------------+--------------------+-------------------------+------------------+-------------------+-------------------+----------------------+ | Windows Server 2022 | SKIPPED | PASS | SKIPPED | SKIPPED | PASS | PASS | +-------------------------------+--------------------+-------------------------+------------------+-------------------+-------------------+----------------------+ ==== 20 line log output for Ubuntu 22.04 (dpdk_compile_spdk): ==== --- Failed to get log output --- ==== End log output ==== Ubuntu 24.04 Kernel: 5.15 Compiler: gcc gcc (Ubuntu 13.3.0-6ubuntu2~24.04) 13.3.0 CentOS Stream 10 Kernel: 5.15 Compiler: gcc gcc (GCC) 14.2.1 20250110 (Red Hat 14.2.1-8) Ubuntu 20.04 Kernel: 4.19 Compiler: gcc gcc (Ubuntu 9.4.0-1ubuntu1~20.04.2) 9.4.0 Fedora Linux 42 Kernel: 5.15 Compiler: clang gcc (GCC) 15.2.1 20250808 (Red Hat 15.2.1-1) CentOS Stream 9 Kernel: 5.15 Compiler: gcc gcc (GCC) 11.5.0 20240719 (Red Hat 11.5.0-11) Red Hat Enterprise Linux 8.10 Kernel: 5.15 Compiler: gcc gcc (GCC) 8.5.0 20210514 (Red Hat 8.5.0-22) openSUSE Leap 15.6 Kernel: 5.15 Compiler: gcc gcc (SUSE Linux) 7.5.0 Debian GNU/Linux 12 Kernel: 5.15 Compiler: gcc gcc (Debian 12.2.0-14+deb12u1) 12.2.0 Red Hat Enterprise Linux 9.5 Kernel: 5.15 Compiler: gcc gcc (GCC) 11.5.0 20240719 (Red Hat 11.5.0-2) Ubuntu 22.04 Kernel: 5.15 Compiler: gcc gcc (Ubuntu 11.4.0-1ubuntu1~22.04) 11.4.0 Alpine Linux 3.22.0 Kernel: 5.15 Compiler: gcc gcc (Alpine 14.2.0) 14.2.0 FreeBSD 14.2 Kernel: 14.2-RELEASE Compiler: clang 18.1.6 Windows Server 2022 Kernel: 10.0.20348.2031 Compiler: clang 15.0.7, gcc 14.1.0 (MinGW), and MSVC VS 19.39.33521 To view detailed results, visit: https://lab.dpdk.org/results/dashboard/patchsets/34387/ UNH-IOL DPDK Community Lab To manage your email subscriptions, visit: https://lab.dpdk.org/results/dashboard/preferences/subscriptions/