From mboxrd@z Thu Jan 1 00:00:00 1970 Return-Path: Received: from mails.dpdk.org (mails.dpdk.org [217.70.189.124]) by inbox.dpdk.org (Postfix) with ESMTP id 6444C489FE for ; Mon, 27 Oct 2025 06:47:44 +0100 (CET) Received: from mails.dpdk.org (localhost [127.0.0.1]) by mails.dpdk.org (Postfix) with ESMTP id 56697402EA; Mon, 27 Oct 2025 06:47:44 +0100 (CET) Received: from mail-yw1-f227.google.com (mail-yw1-f227.google.com [209.85.128.227]) by mails.dpdk.org (Postfix) with ESMTP id E5ABD402E1 for ; Mon, 27 Oct 2025 06:47:42 +0100 (CET) Received: by mail-yw1-f227.google.com with SMTP id 00721157ae682-785bf425f96so60250547b3.1 for ; Sun, 26 Oct 2025 22:47:42 -0700 (PDT) DKIM-Signature: v=1; a=rsa-sha256; c=relaxed/relaxed; d=iol.unh.edu; s=unh-iol; t=1761544062; x=1762148862; darn=dpdk.org; h=cc:to:from:subject:message-id:date:from:to:cc:subject:date :message-id:reply-to; bh=VJVQs0L02Gqz8HQ/+tIiIYYc267inmy0/gTNs71AZpo=; b=R5dIJP56f0CHH0CrC6fNMu7Gv/L6dL9xP9gnxLnhycxvun1CnWASraEooHqXf8by2P Z1rqWXAD9pgovgSDDHRqM16Np3NhOxlE8zUOYl6JIHgvK7UofPLxAz/0BBLNdzxMq6S+ Je7884mmFjG0+onFDEsRlw0sxYAVOEiiypvUo= X-Google-DKIM-Signature: v=1; a=rsa-sha256; c=relaxed/relaxed; d=1e100.net; s=20230601; t=1761544062; x=1762148862; h=cc:to:from:subject:message-id:date:x-gm-message-state:from:to:cc :subject:date:message-id:reply-to; bh=VJVQs0L02Gqz8HQ/+tIiIYYc267inmy0/gTNs71AZpo=; b=IE1bPeTEiOlP3qrIZefC6QpeCSPumZThheO6KDOmbxXrjR8i+aIMXrCpRvsIyfjKII yv7Nxmem7m2C9gZFeDIU1qjxRVctn1R/ncPbuVHrhNSqTBJ3Te4BhwbaftnWwSeHo2tC BuBUVDyzFsmLtOu1MmpI9vtGhqFJhUGue9hypqBUA5Xq7W0YjICCJw7n930ztuRhtBpk pnu9JuUuSdNIAaXgL9IS0j2znKh78IgHQ/i4unjzsxwiJ1sTAELrEBJS6cN1BqejPgdP Nn/FT+yKlnj7ZWaTsFT9dNPJgBJqXH+HQu+AAnwYGQkJ9yfa/dOOLoY5GHyJhMpT4kRw 4aUQ== X-Gm-Message-State: AOJu0YyjlYYMFdD8d//aI+sWooflIXM+EQsCkNbCv9LMGcoAiXlWjtcq SnxueA51nTeqWVySUUqnl207H1wUzD7YVna3imxjO3UVeyItD6zgrzRtTAf2jq3Fn6IR7Qaapug Wayk5+x7sK0hdtKqZRYKOeXjxotVshwD6Euy4 X-Gm-Gg: ASbGncttoE9IKrXZ1ajypN70J+nP5IcxAP3Q/0HDHyMoL8yOb8xpgI8qSlhPDEFMWCa 2Dv3YfSgOrOGsAScR9ZlaOmPz2OzqMXMVLSB3x1folouzIuMg3yomBCV9dDfRV4kKjqWqNbd2NT EC+RDxFLQNtfHWvVnNq+HIl7w2rzi+vDNrLMp6FkJLIghgGHfOwLsfM5KGh3hcjPUW+vshDyaJv KIogAvWNzOfkT2qp8zECSMJxBiJ58Cn0nXK0kkcghW47qGTSrmxitr0n9zgqpoXgOr5zWiJSXuf jgeZLHGhUl/Pga4xhHd9mILg+IZqnJqw52TQ9GdBJKrko+0iu0ndcpo1Pdpy1/p9v88laU69PrR jLbkmfk0vyq76QpGBeqcHb5Fd0gembPk= X-Google-Smtp-Source: AGHT+IEwhFTiXYFAmIFtEVpfb+Gtl90QJF/wSn2BNo1ZhT60/MrkSKGu1ZZwtnvBQksC4Ez4dyWgbzmdUPie X-Received: by 2002:a05:690c:4441:b0:785:f6dd:7625 with SMTP id 00721157ae682-785f6dd795dmr37941207b3.23.1761544062311; Sun, 26 Oct 2025 22:47:42 -0700 (PDT) Received: from postal.iol.unh.edu (postal.iol.unh.edu. [132.177.123.84]) by smtp-relay.gmail.com with ESMTPS id 00721157ae682-785ed146afcsm5281747b3.1.2025.10.26.22.47.42 (version=TLS1_2 cipher=ECDHE-ECDSA-AES128-GCM-SHA256 bits=128/128); Sun, 26 Oct 2025 22:47:42 -0700 (PDT) X-Relaying-Domain: iol.unh.edu Date: Sun, 26 Oct 2025 22:47:42 -0700 (PDT) Message-ID: <68ff077e.050a0220.2a41a2.838eSMTPIN_ADDED_MISSING@mx.google.com> Received: from [172.21.0.2] (unknown [172.18.0.240]) by postal.iol.unh.edu (Postfix) with ESMTP id E5C396051830; Mon, 27 Oct 2025 01:47:41 -0400 (EDT) Subject: |SUCCESS| [GIT MASTER] 3b43ce3f4a54468e7ef65760c2fd7b4d6ee6d9fc From: dpdklab@iol.unh.edu To: Test Report Cc: dpdk-test-reports@iol.unh.edu, Xueming Li , Christian Ehrhardt , Kevin Traynor , Luca Boccassi Content-Type: text/plain X-BeenThere: test-report@dpdk.org X-Mailman-Version: 2.1.29 Precedence: list List-Id: automatic DPDK test reports List-Unsubscribe: , List-Archive: List-Post: List-Help: List-Subscribe: , Errors-To: test-report-bounces@dpdk.org _Testing PASS_ Branch: tags/v22.11 3b43ce3f4a54468e7ef65760c2fd7b4d6ee6d9fc --> testing pass Upstream job id: Generic-DPDK-Compile-Meson#438028 Test environment and result as below: +-------------------------------+--------------------+-------------------------+----------------------+ | Environment | dpdk_meson_compile | dpdk_llvm_clang_compile | dpdk_mingw64_compile | +===============================+====================+=========================+======================+ | CentOS Stream 9 | PASS | SKIPPED | SKIPPED | +-------------------------------+--------------------+-------------------------+----------------------+ | CentOS Stream 10 | PASS | SKIPPED | SKIPPED | +-------------------------------+--------------------+-------------------------+----------------------+ | Debian GNU/Linux 12 | PASS | SKIPPED | SKIPPED | +-------------------------------+--------------------+-------------------------+----------------------+ | Fedora Linux 42 | PASS | SKIPPED | SKIPPED | +-------------------------------+--------------------+-------------------------+----------------------+ | Ubuntu 20.04 | PASS | SKIPPED | SKIPPED | +-------------------------------+--------------------+-------------------------+----------------------+ | Red Hat Enterprise Linux 8.10 | PASS | SKIPPED | SKIPPED | +-------------------------------+--------------------+-------------------------+----------------------+ | Red Hat Enterprise Linux 9.5 | PASS | SKIPPED | SKIPPED | +-------------------------------+--------------------+-------------------------+----------------------+ | FreeBSD 14.2 | PASS | SKIPPED | SKIPPED | +-------------------------------+--------------------+-------------------------+----------------------+ | Ubuntu 22.04 | PASS | SKIPPED | SKIPPED | +-------------------------------+--------------------+-------------------------+----------------------+ | openSUSE Leap 15.6 | PASS | SKIPPED | SKIPPED | +-------------------------------+--------------------+-------------------------+----------------------+ | Ubuntu 24.04 | PASS | SKIPPED | SKIPPED | +-------------------------------+--------------------+-------------------------+----------------------+ | Windows Server 2022 | SKIPPED | PASS | PASS | +-------------------------------+--------------------+-------------------------+----------------------+ CentOS Stream 9 Kernel: 5.15 Compiler: gcc gcc (GCC) 11.5.0 20240719 (Red Hat 11.5.0-11) CentOS Stream 10 Kernel: 5.15 Compiler: gcc gcc (GCC) 14.2.1 20250110 (Red Hat 14.2.1-8) Debian GNU/Linux 12 Kernel: 5.15 Compiler: gcc gcc (Debian 12.2.0-14+deb12u1) 12.2.0 Fedora Linux 42 Kernel: 5.15 Compiler: gcc gcc (GCC) 15.2.1 20250808 (Red Hat 15.2.1-1) Ubuntu 20.04 Kernel: 4.19 Compiler: gcc gcc (Ubuntu 9.4.0-1ubuntu1~20.04.2) 9.4.0 Red Hat Enterprise Linux 8.10 Kernel: 5.15 Compiler: gcc gcc (GCC) 8.5.0 20210514 (Red Hat 8.5.0-22) Red Hat Enterprise Linux 9.5 Kernel: 5.15 Compiler: gcc gcc (GCC) 11.5.0 20240719 (Red Hat 11.5.0-2) FreeBSD 14.2 Kernel: 14.2-RELEASE Compiler: clang 18.1.6 Ubuntu 22.04 Kernel: 5.15 Compiler: gcc gcc (Ubuntu 11.4.0-1ubuntu1~22.04) 11.4.0 openSUSE Leap 15.6 Kernel: 5.15 Compiler: gcc gcc (SUSE Linux) 7.5.0 Ubuntu 24.04 Kernel: 5.15 Compiler: gcc gcc (Ubuntu 13.3.0-6ubuntu2~24.04) 13.3.0 Windows Server 2022 Kernel: 10.0.20348.2031 Compiler: clang 15.0.7, gcc 14.1.0 (MinGW), and MSVC VS 19.39.33521 To view detailed results, visit: https://lab.dpdk.org/results/dashboard/tarballs/35351/ UNH-IOL DPDK Community Lab To manage your email subscriptions, visit: https://lab.dpdk.org/results/dashboard/preferences/subscriptions/