From mboxrd@z Thu Jan 1 00:00:00 1970 Return-Path: Received: from mails.dpdk.org (mails.dpdk.org [217.70.189.124]) by inbox.dpdk.org (Postfix) with ESMTP id D3D37489FE for ; Mon, 27 Oct 2025 06:58:32 +0100 (CET) Received: from mails.dpdk.org (localhost [127.0.0.1]) by mails.dpdk.org (Postfix) with ESMTP id B21534003C; Mon, 27 Oct 2025 06:58:32 +0100 (CET) Received: from mail-ot1-f99.google.com (mail-ot1-f99.google.com [209.85.210.99]) by mails.dpdk.org (Postfix) with ESMTP id E327A4003C for ; Mon, 27 Oct 2025 06:58:31 +0100 (CET) Received: by mail-ot1-f99.google.com with SMTP id 46e09a7af769-7c53a8d1e42so987202a34.0 for ; Sun, 26 Oct 2025 22:58:31 -0700 (PDT) DKIM-Signature: v=1; a=rsa-sha256; c=relaxed/relaxed; d=iol.unh.edu; s=unh-iol; t=1761544711; x=1762149511; darn=dpdk.org; h=cc:to:from:subject:message-id:date:from:to:cc:subject:date :message-id:reply-to; bh=Yrx6WxmCgpiwHdl81xWnCQwpV9m8RlsS0sIFsdTMz5A=; b=hvVkAnbWjFWQLVUd9zcpJ0nuDedcnpKUUdprII+xehyR/Wlrq6bEAhoggOkA3t86an qBUh92MDXzns8efsKx8HatFiu+ZrO/9JlHWh9TPUAUS4fqGeHAiUTElNAL/3uswcxLUa p2uPhOiZ8ppwSOpf1Rnh/hkwAwlfiyqtKcrNk= X-Google-DKIM-Signature: v=1; a=rsa-sha256; c=relaxed/relaxed; d=1e100.net; s=20230601; t=1761544711; x=1762149511; h=cc:to:from:subject:message-id:date:x-gm-message-state:from:to:cc :subject:date:message-id:reply-to; bh=Yrx6WxmCgpiwHdl81xWnCQwpV9m8RlsS0sIFsdTMz5A=; b=Y/01DUDnLfixXetFYVpk9nyKWQZqJ3xCdOwpIWMofDWTcMJ7N3owFidqC6wfhrd+4I GA1WSM8tpYq9o7XGpBKWMoGxPT3mQPPoio8BN7HEHCQA044ZHENAxPSlb4A/KAtj2r4n tXxSbSKN9q4PHpGko/AgaJtBpwguvEXenXDOo6PwZMjK/IHzHR12CbuvfmdhpU04BB/1 Y+4jkQ+T5EC8ggYE4BZwPE/jyTqMBE/4iX+/SmZdT7RHAiMrUGKnNyiVZGnKjXk0MUcd oxps9zP9y6vHfzFAyIkLqtBPH6hI+PZDvPsAxyPLynEwTZvzE/0CnYY5I4OgMA5hnbvS DFpw== X-Gm-Message-State: AOJu0YyqRWEjPIIZ4t1FfyTEmkPNcEaN5AoRWxpquwUQYcRF4a58Lryx XVzFDCOp4R2nuUHc+ikl2DsOLMg40FZLW5d/uGF8FanBSiKqVJJDesAwLmQBSo2fbybLbBEV6G0 TJn0WXqBJ8Awx6mPvFHbOmfPgoSF3JrTOS2UbqRFdEfUQcdSmv+my X-Gm-Gg: ASbGncvVlSuAZyVzRD+d2zttNskASOAqwV1bkoV1Q8OZdhLhl7eV4vvLmFFANsR55/q vrL7GnrnctlPwPpO6Gae4QIfg0P+PvQjQmZ/Nt7BQDN05V495BSl0a2bhLXne8Gk49RKoPjG++Y 1vQ0QjRmUA5npUwnfKyT5jz2Sf71YeiHGdUNGdH87VMNJ21mutzIeu8/QAhpOUU8KDNBiR+TaiD NvbU+RA+VFOD5DWk2+ViEyrIRvCMo/REvgb7q4sRsInSuAdxNusFUtHhiV75dVH3hiA7MWYYE+w 7Rq2yOHsbYCTmEj9LsgMjF5r5AF8ts+1deLuttni0zuGnd8hsiOkaLQ7yvtDe8DZGnjujbZG1tp N637G+zrs X-Google-Smtp-Source: AGHT+IGtp8qCB3YhZizby4RggeeNlkorkFh5HgV56RlLCGIIsxrHwXQKy+Nx7lOR0ITyYyV+Kmu6+DbhZA6U X-Received: by 2002:a05:6830:4115:b0:745:9769:ea51 with SMTP id 46e09a7af769-7c5230568f1mr5095121a34.9.1761544711126; Sun, 26 Oct 2025 22:58:31 -0700 (PDT) Received: from postal.iol.unh.edu (postal.iol.unh.edu. [2606:4100:3880:1234::84]) by smtp-relay.gmail.com with ESMTPS id 46e09a7af769-7c5301ddb63sm624667a34.8.2025.10.26.22.58.31 (version=TLS1_2 cipher=ECDHE-ECDSA-AES128-GCM-SHA256 bits=128/128); Sun, 26 Oct 2025 22:58:31 -0700 (PDT) X-Relaying-Domain: iol.unh.edu Date: Sun, 26 Oct 2025 22:58:31 -0700 (PDT) Message-ID: <68ff0a07.9d0a0220.19fb2.bc57SMTPIN_ADDED_MISSING@mx.google.com> Received: from [172.21.0.2] (unknown [172.18.0.240]) by postal.iol.unh.edu (Postfix) with ESMTP id 2954C60003E8; Mon, 27 Oct 2025 01:58:30 -0400 (EDT) Subject: |SUCCESS| [GIT MASTER] b287e404643aeab5bb5db084c142789df187844e From: dpdklab@iol.unh.edu To: Test Report Cc: dpdk-test-reports@iol.unh.edu, Xueming Li , Christian Ehrhardt , Kevin Traynor , Luca Boccassi Content-Type: text/plain X-BeenThere: test-report@dpdk.org X-Mailman-Version: 2.1.29 Precedence: list List-Id: automatic DPDK test reports List-Unsubscribe: , List-Archive: List-Post: List-Help: List-Subscribe: , Errors-To: test-report-bounces@dpdk.org _Testing PASS_ Branch: tags/v24.11 b287e404643aeab5bb5db084c142789df187844e --> testing pass Upstream job id: Generic-DPDK-Compile-Meson#438068 Test environment and result as below: +-------------------------------+--------------------+-------------------+------------------+-------------------+-------------------------+----------------------+ | Environment | dpdk_meson_compile | dpdk_compile_spdk | dpdk_compile_ovs | dpdk_msvc_compile | dpdk_llvm_clang_compile | dpdk_mingw64_compile | +===============================+====================+===================+==================+===================+=========================+======================+ | CentOS Stream 10 | PASS | SKIPPED | SKIPPED | SKIPPED | SKIPPED | SKIPPED | +-------------------------------+--------------------+-------------------+------------------+-------------------+-------------------------+----------------------+ | CentOS Stream 9 | PASS | PASS | SKIPPED | SKIPPED | SKIPPED | SKIPPED | +-------------------------------+--------------------+-------------------+------------------+-------------------+-------------------------+----------------------+ | Fedora Linux 42 | PASS | PASS | PASS | SKIPPED | SKIPPED | SKIPPED | +-------------------------------+--------------------+-------------------+------------------+-------------------+-------------------------+----------------------+ | Debian GNU/Linux 12 | PASS | PASS | SKIPPED | SKIPPED | SKIPPED | SKIPPED | +-------------------------------+--------------------+-------------------+------------------+-------------------+-------------------------+----------------------+ | Red Hat Enterprise Linux 9.5 | PASS | SKIPPED | SKIPPED | SKIPPED | SKIPPED | SKIPPED | +-------------------------------+--------------------+-------------------+------------------+-------------------+-------------------------+----------------------+ | Red Hat Enterprise Linux 8.10 | PASS | SKIPPED | SKIPPED | SKIPPED | SKIPPED | SKIPPED | +-------------------------------+--------------------+-------------------+------------------+-------------------+-------------------------+----------------------+ | openSUSE Leap 15.6 | PASS | SKIPPED | SKIPPED | SKIPPED | SKIPPED | SKIPPED | +-------------------------------+--------------------+-------------------+------------------+-------------------+-------------------------+----------------------+ | Ubuntu 20.04 | PASS | SKIPPED | SKIPPED | SKIPPED | SKIPPED | SKIPPED | +-------------------------------+--------------------+-------------------+------------------+-------------------+-------------------------+----------------------+ | Ubuntu 24.04 | PASS | PASS | PASS | SKIPPED | SKIPPED | SKIPPED | +-------------------------------+--------------------+-------------------+------------------+-------------------+-------------------------+----------------------+ | Ubuntu 22.04 | PASS | PASS | SKIPPED | SKIPPED | SKIPPED | SKIPPED | +-------------------------------+--------------------+-------------------+------------------+-------------------+-------------------------+----------------------+ | Alpine Linux 3.22.0 | PASS | SKIPPED | SKIPPED | SKIPPED | SKIPPED | SKIPPED | +-------------------------------+--------------------+-------------------+------------------+-------------------+-------------------------+----------------------+ | FreeBSD 14.2 | PASS | SKIPPED | SKIPPED | SKIPPED | SKIPPED | SKIPPED | +-------------------------------+--------------------+-------------------+------------------+-------------------+-------------------------+----------------------+ | Windows Server 2022 | SKIPPED | SKIPPED | SKIPPED | PASS | PASS | PASS | +-------------------------------+--------------------+-------------------+------------------+-------------------+-------------------------+----------------------+ CentOS Stream 10 Kernel: 5.15 Compiler: gcc gcc (GCC) 14.2.1 20250110 (Red Hat 14.2.1-8) CentOS Stream 9 Kernel: 5.15 Compiler: gcc gcc (GCC) 11.5.0 20240719 (Red Hat 11.5.0-11) Fedora Linux 42 Kernel: 5.15 Compiler: clang gcc (GCC) 15.2.1 20250808 (Red Hat 15.2.1-1) Debian GNU/Linux 12 Kernel: 5.15 Compiler: gcc gcc (Debian 12.2.0-14+deb12u1) 12.2.0 Red Hat Enterprise Linux 9.5 Kernel: 5.15 Compiler: gcc gcc (GCC) 11.5.0 20240719 (Red Hat 11.5.0-2) Red Hat Enterprise Linux 8.10 Kernel: 5.15 Compiler: gcc gcc (GCC) 8.5.0 20210514 (Red Hat 8.5.0-22) openSUSE Leap 15.6 Kernel: 5.15 Compiler: gcc gcc (SUSE Linux) 7.5.0 Ubuntu 20.04 Kernel: 5.15 Compiler: gcc gcc (Ubuntu 9.4.0-1ubuntu1~20.04.2) 9.4.0 Ubuntu 24.04 Kernel: 5.15 Compiler: gcc gcc (Ubuntu 13.3.0-6ubuntu2~24.04) 13.3.0 Ubuntu 22.04 Kernel: 5.15 Compiler: gcc gcc (Ubuntu 11.4.0-1ubuntu1~22.04) 11.4.0 Alpine Linux 3.22.0 Kernel: 5.15 Compiler: gcc gcc (Alpine 14.2.0) 14.2.0 FreeBSD 14.2 Kernel: 14.2-RELEASE Compiler: clang 18.1.6 Windows Server 2022 Kernel: 10.0.20348.2031 Compiler: clang 15.0.7, gcc 14.1.0 (MinGW), and MSVC VS 19.39.33521 To view detailed results, visit: https://lab.dpdk.org/results/dashboard/tarballs/35352/ UNH-IOL DPDK Community Lab To manage your email subscriptions, visit: https://lab.dpdk.org/results/dashboard/preferences/subscriptions/