From mboxrd@z Thu Jan 1 00:00:00 1970 Return-Path: Received: from mails.dpdk.org (mails.dpdk.org [217.70.189.124]) by inbox.dpdk.org (Postfix) with ESMTP id 5E3B8489FE for ; Mon, 27 Oct 2025 07:04:04 +0100 (CET) Received: from mails.dpdk.org (localhost [127.0.0.1]) by mails.dpdk.org (Postfix) with ESMTP id 35DB34003C; Mon, 27 Oct 2025 07:04:04 +0100 (CET) Received: from mail-pg1-f226.google.com (mail-pg1-f226.google.com [209.85.215.226]) by mails.dpdk.org (Postfix) with ESMTP id 69A5F4003C for ; Mon, 27 Oct 2025 07:04:03 +0100 (CET) Received: by mail-pg1-f226.google.com with SMTP id 41be03b00d2f7-b6cf1a95273so3089727a12.1 for ; Sun, 26 Oct 2025 23:04:03 -0700 (PDT) DKIM-Signature: v=1; a=rsa-sha256; c=relaxed/relaxed; d=iol.unh.edu; s=unh-iol; t=1761545042; x=1762149842; darn=dpdk.org; h=cc:to:from:subject:message-id:date:from:to:cc:subject:date :message-id:reply-to; bh=ZCf6spQZ3jETWZaO5bSxrSt2zTre5fjUwH/WJLoYZoU=; b=cSUVkamq6SrT2tPwqbirC+Iv2xujk9szhxyWcspSL3eZMuD5ie/ZocZb++rci0AzvP dFgwW/459wuqhbzy1x/e6km/IXBkdduv5wrsSy52MFgEPxDdiYZddhx47QCrqzewqpFA U/7JrdKKjAeOo6LoRGIdSm+AamvAGVHLY1iZE= X-Google-DKIM-Signature: v=1; a=rsa-sha256; c=relaxed/relaxed; d=1e100.net; s=20230601; t=1761545042; x=1762149842; h=cc:to:from:subject:message-id:date:x-gm-message-state:from:to:cc :subject:date:message-id:reply-to; bh=ZCf6spQZ3jETWZaO5bSxrSt2zTre5fjUwH/WJLoYZoU=; b=CZfepN4zASuWXr3m5lRj7IPMQduO3kM7PUITeUDLRqTFxhbi83leQ2vrAPt95kTMsW TS3bNRbl6s2iXwGfPbdMjd1Ve21oQXVu+pxx0Xat5DfaAPWBuIRaTPQLYN/TRBhT6J5p lh1CWYg/cDFbBbX0TrPUlfXyn06D8CcDouAg5nGXubqpE74BwBl//LUXjc+TAtP6WWjE Rf3Y0rCsVr41W1mbesX6I+IGCGV/+0tOmbb4ObR6hsFBMIU1S5i6l2qodcGxPiwrD1ob 6T+n4z6rzkEsNJtFrhXrDWg5tf0BpETs32AplQC4f5VghyjQGvHgxO3rNSgNveHqucVo bjfg== X-Gm-Message-State: AOJu0Yy8Rv1BCreSc2q+2ulB78UR1SBXBBpvddhfzZUdWYHvaybn4TUj ey2FeeqFA97fUtqg9+xSzJ/6H9uhcizO/SyXAbqPhQFlt5tObL9/qb9fi9uprIkvAP7vy0fe4yS WNM1we11Sib9Nk9hNZFmaSl3Hnk2dTpNsvAa6 X-Gm-Gg: ASbGnctDaSH1nvW98dlUZzdnCifRhTOybolDpL08KKOj1/Bt2mNPw6/264Ov5Pfi08F sB8OHRjCk63jQRBL7Z3zpJRfROqQTQXlq8vn4fem/N2oTiZ8nE1v9IVNLYjlvxphhcxKD+iyfkk SxNGRwu0lxJats/0cQljDJ0ZZLzo52y7UOl1/uXDklCyozNP6VdgChq7As/kwUL29j8Wb535b6b T36XdrqW1Uyk1rgguoh1Nx/hGZ9c/Gm7IH976aH3KTUVXAVU+2MEbfKVv6LFlo0UlYO/RG0tJuO GPB6+mcS8UI1TVESCA52zTUrH5N5BVQUr+kpP2sCxNyTHT9B1IijEDENemM5OcAk3XGX6wRZ/UZ oHei8Nd9+JT+9e8RmzMYp0Ha31Y04vTU= X-Google-Smtp-Source: AGHT+IFTvdFbaK+xTP0vM5DNTdvyRsR6n9zXwyb7+uJWTPVaKvCqsS9YEig7kIkP/gJ83XNLEM5YWRb1mLiS X-Received: by 2002:a17:902:f550:b0:275:81ca:2c5 with SMTP id d9443c01a7336-290cba42439mr520998255ad.59.1761545042382; Sun, 26 Oct 2025 23:04:02 -0700 (PDT) Received: from postal.iol.unh.edu (postal.iol.unh.edu. [132.177.123.84]) by smtp-relay.gmail.com with ESMTPS id d9443c01a7336-29498d44457sm6990295ad.50.2025.10.26.23.04.02 (version=TLS1_2 cipher=ECDHE-ECDSA-AES128-GCM-SHA256 bits=128/128); Sun, 26 Oct 2025 23:04:02 -0700 (PDT) X-Relaying-Domain: iol.unh.edu Date: Sun, 26 Oct 2025 23:04:02 -0700 (PDT) Message-ID: <68ff0b52.170a0220.18d706.ff53SMTPIN_ADDED_MISSING@mx.google.com> Received: from [172.21.0.3] (unknown [172.18.0.240]) by postal.iol.unh.edu (Postfix) with ESMTP id 96BDD6051830; Mon, 27 Oct 2025 02:04:01 -0400 (EDT) Subject: |SUCCESS| [GIT MASTER] b287e404643aeab5bb5db084c142789df187844e From: dpdklab@iol.unh.edu To: Test Report Cc: dpdk-test-reports@iol.unh.edu, Xueming Li , Christian Ehrhardt , Kevin Traynor , Luca Boccassi Content-Type: text/plain X-BeenThere: test-report@dpdk.org X-Mailman-Version: 2.1.29 Precedence: list List-Id: automatic DPDK test reports List-Unsubscribe: , List-Archive: List-Post: List-Help: List-Subscribe: , Errors-To: test-report-bounces@dpdk.org _Testing PASS_ Branch: tags/v24.11 b287e404643aeab5bb5db084c142789df187844e --> testing pass Upstream job id: Generic-Unit-Test-DPDK#385582 Test environment and result as below: +-------------------------------+----------------+ | Environment | dpdk_unit_test | +===============================+================+ | CentOS Stream 9 | PASS | +-------------------------------+----------------+ | CentOS Stream 10 | PASS | +-------------------------------+----------------+ | Fedora Linux 40 | PASS | +-------------------------------+----------------+ | Fedora Linux 41 | PASS | +-------------------------------+----------------+ | Fedora Linux 42 | PASS | +-------------------------------+----------------+ | Debian GNU/Linux 12 | PASS | +-------------------------------+----------------+ | Ubuntu 24.04 | PASS | +-------------------------------+----------------+ | Red Hat Enterprise Linux 9.5 | PASS | +-------------------------------+----------------+ | Red Hat Enterprise Linux 8.10 | PASS | +-------------------------------+----------------+ | Ubuntu 22.04 | PASS | +-------------------------------+----------------+ | Ubuntu 20.04 | PASS | +-------------------------------+----------------+ | Windows Server 2022 | PASS | +-------------------------------+----------------+ CentOS Stream 9 Kernel: 5.15 Compiler: gcc gcc (GCC) 11.5.0 20240719 (Red Hat 11.5.0-11) CentOS Stream 10 Kernel: 5.15 Compiler: gcc gcc (GCC) 14.2.1 20250110 (Red Hat 14.2.1-8) Fedora Linux 40 Kernel: 5.15 Compiler: gcc gcc (GCC) 14.2.1 20240912 (Red Hat 14.2.1-3) Fedora Linux 41 Kernel: 5.15 Compiler: clang gcc (GCC) 14.3.1 20250523 (Red Hat 14.3.1-1) Fedora Linux 42 Kernel: 5.15 Compiler: clang gcc (GCC) 15.2.1 20250808 (Red Hat 15.2.1-1) Debian GNU/Linux 12 Kernel: 5.15 Compiler: gcc gcc (Debian 12.2.0-14+deb12u1) 12.2.0 Ubuntu 24.04 Kernel: 5.15 Compiler: gcc gcc (Ubuntu 13.3.0-6ubuntu2~24.04) 13.3.0 Red Hat Enterprise Linux 9.5 Kernel: 5.15 Compiler: gcc gcc (GCC) 11.5.0 20240719 (Red Hat 11.5.0-2) Red Hat Enterprise Linux 8.10 Kernel: 5.15 Compiler: gcc gcc (GCC) 8.5.0 20210514 (Red Hat 8.5.0-22) Ubuntu 22.04 Kernel: 5.15 Compiler: gcc gcc (Ubuntu 11.4.0-1ubuntu1~22.04) 11.4.0 Ubuntu 20.04 Kernel: 5.15 Compiler: gcc gcc (Ubuntu 9.4.0-1ubuntu1~20.04.2) 9.4.0 Windows Server 2022 Kernel: 10.0.20348.2031 Compiler: clang 15.0.7, gcc 14.1.0 (MinGW), and MSVC VS 19.39.33521 To view detailed results, visit: https://lab.dpdk.org/results/dashboard/tarballs/35352/ UNH-IOL DPDK Community Lab To manage your email subscriptions, visit: https://lab.dpdk.org/results/dashboard/preferences/subscriptions/