automatic DPDK test reports
 help / color / mirror / Atom feed
From: dpdklab@iol.unh.edu
To: Test Report <test-report@dpdk.org>
Cc: dpdk-test-reports@iol.unh.edu,
	Bruce Richardson <bruce.richardson@intel.com>
Subject: |WARNING| pw158132-158134 [PATCH] [v1,3/3] doc: update TxPP document
Date: Mon, 27 Oct 2025 00:17:34 -0700 (PDT)	[thread overview]
Message-ID: <68ff1c8e.170a0220.3a18e0.b4c4SMTPIN_ADDED_MISSING@mx.google.com> (raw)
In-Reply-To: <20251027182801.191295-4-soumyadeep.hore@intel.com>

Test-Label: iol-sample-apps-testing
Test-Status: WARNING
http://dpdk.org/patch/158134

_Testing issues_

Submitter: Soumyadeep Hore <soumyadeep.hore@intel.com>
Date: Monday, October 27 2025 18:28:01 
DPDK git baseline: Repo:dpdk-next-net-intel
  Branch: master
  CommitID:6b997d6b9ffdbb4f8ecd14d1f217da69cdc783af

158132-158134 --> testing issues

Upstream job id: Template-DTS-Pipeline#251464

Test environment and result as below:

+--------------+----------------------+----------------------+
| Environment  | dpdk_fips_validation | compressdev_zlib_pmd |
+==============+======================+======================+
| Ubuntu 20.04 | WARN                 | SKIPPED              |
+--------------+----------------------+----------------------+
| Ubuntu 22.04 | SKIPPED              | PASS                 |
+--------------+----------------------+----------------------+

==== 20 line log output for Ubuntu 20.04 (dpdk_fips_validation): ====
Traceback (most recent call last):
File "/dpdk-ci/tools/acvp/acvp_tool.py", line 368, in <module>
main(
File "/dpdk-ci/tools/acvp/acvp_tool.py", line 314, in main
with open(response_path, 'r') as upload_file:
FileNotFoundError: [Errno 2] No such file or directory: '/root/workspace/ACVP-FIPS-testing/out/hmac-sha-1-answers.rsp'
INFO:root:Using response file...
Traceback (most recent call last):
File "/dpdk-ci/tools/acvp/acvp_tool.py", line 368, in <module>
main(
File "/dpdk-ci/tools/acvp/acvp_tool.py", line 314, in main
with open(response_path, 'r') as upload_file:
FileNotFoundError: [Errno 2] No such file or directory: '/root/workspace/ACVP-FIPS-testing/out/acvp-tdes-cbc-answers.rsp'
INFO:root:Using response file...
Traceback (most recent call last):
File "/dpdk-ci/tools/acvp/acvp_tool.py", line 368, in <module>
main(
File "/dpdk-ci/tools/acvp/acvp_tool.py", line 314, in main
with open(response_path, 'r') as upload_file:
FileNotFoundError: [Errno 2] No such file or directory: '/root/workspace/ACVP-FIPS-testing/out/acvp-aes-ctr-answers.rsp'
==== End log output ====

Ubuntu 20.04
	Kernel: 5.15
	Compiler: gcc gcc (Ubuntu 9.4.0-1ubuntu1~20.04.2) 9.4.0

Ubuntu 22.04
	Kernel: 5.15
	Compiler: gcc gcc (Ubuntu 11.4.0-1ubuntu1~22.04.2) 11.4.0

To view detailed results, visit:
https://lab.dpdk.org/results/dashboard/patchsets/34388/

UNH-IOL DPDK Community Lab

To manage your email subscriptions, visit: 
https://lab.dpdk.org/results/dashboard/preferences/subscriptions/

  parent reply	other threads:[~2025-10-27  7:17 UTC|newest]

Thread overview: 24+ messages / expand[flat|nested]  mbox.gz  Atom feed  top
     [not found] <20251027182801.191295-4-soumyadeep.hore@intel.com>
2025-10-27  5:13 ` |SUCCESS| pw158132-158134 [PATCH v1 3/3] doc: update TxPP documentation qemudev
2025-10-27  5:18 ` qemudev
2025-10-27  5:47 ` |SUCCESS| pw158134 " checkpatch
2025-10-27  6:13 ` |PENDING| pw158132-158134 [PATCH] [v1,3/3] doc: update TxPP document dpdklab
2025-10-27  6:15 ` |SUCCESS| " dpdklab
2025-10-27  6:19 ` dpdklab
2025-10-27  6:23 ` |PENDING| " dpdklab
2025-10-27  6:31 ` |SUCCESS| " dpdklab
2025-10-27  6:35 ` dpdklab
2025-10-27  6:37 ` dpdklab
2025-10-27  6:37 ` dpdklab
2025-10-27  6:40 ` |PENDING| " dpdklab
2025-10-27  6:43 ` |WARNING| " dpdklab
2025-10-27  6:49 ` |PENDING| " dpdklab
2025-10-27  6:54 ` dpdklab
2025-10-27  7:17 ` dpdklab [this message]
2025-10-27  7:21 ` |SUCCESS| pw158134 [PATCH v1 3/3] doc: update TxPP documentation 0-day Robot
2025-10-27  7:21 ` 0-day Robot
2025-10-27  7:24 ` |SUCCESS| pw158132-158134 [PATCH] [v1,3/3] doc: update TxPP document dpdklab
2025-10-27  7:28 ` |WARNING| " dpdklab
2025-10-27  7:39 ` |SUCCESS| " dpdklab
2025-10-27  7:43 ` dpdklab
2025-10-27 13:11 ` dpdklab
2025-10-27 13:33 ` dpdklab

Reply instructions:

You may reply publicly to this message via plain-text email
using any one of the following methods:

* Save the following mbox file, import it into your mail client,
  and reply-to-all from there: mbox

  Avoid top-posting and favor interleaved quoting:
  https://en.wikipedia.org/wiki/Posting_style#Interleaved_style

* Reply using the --to, --cc, and --in-reply-to
  switches of git-send-email(1):

  git send-email \
    --in-reply-to=68ff1c8e.170a0220.3a18e0.b4c4SMTPIN_ADDED_MISSING@mx.google.com \
    --to=dpdklab@iol.unh.edu \
    --cc=bruce.richardson@intel.com \
    --cc=dpdk-test-reports@iol.unh.edu \
    --cc=test-report@dpdk.org \
    /path/to/YOUR_REPLY

  https://kernel.org/pub/software/scm/git/docs/git-send-email.html

* If your mail client supports setting the In-Reply-To header
  via mailto: links, try the mailto: link
Be sure your reply has a Subject: header at the top and a blank line before the message body.
This is a public inbox, see mirroring instructions
for how to clone and mirror all data and code used for this inbox;
as well as URLs for NNTP newsgroup(s).