From mboxrd@z Thu Jan 1 00:00:00 1970 Return-Path: Received: from mails.dpdk.org (mails.dpdk.org [217.70.189.124]) by inbox.dpdk.org (Postfix) with ESMTP id 753BC48A00 for ; Mon, 27 Oct 2025 08:28:15 +0100 (CET) Received: from mails.dpdk.org (localhost [127.0.0.1]) by mails.dpdk.org (Postfix) with ESMTP id 581114003C; Mon, 27 Oct 2025 08:28:15 +0100 (CET) Received: from mail-il1-f227.google.com (mail-il1-f227.google.com [209.85.166.227]) by mails.dpdk.org (Postfix) with ESMTP id AD5F44003C for ; Mon, 27 Oct 2025 08:28:13 +0100 (CET) Received: by mail-il1-f227.google.com with SMTP id e9e14a558f8ab-430ce2c7581so18958205ab.0 for ; Mon, 27 Oct 2025 00:28:13 -0700 (PDT) DKIM-Signature: v=1; a=rsa-sha256; c=relaxed/relaxed; d=iol.unh.edu; s=unh-iol; t=1761550093; x=1762154893; darn=dpdk.org; h=references:in-reply-to:cc:to:from:subject:message-id:date:from:to :cc:subject:date:message-id:reply-to; bh=zj0TdYXF4Za5Fp4Qc0V48FLHLhvyDZCQU+p2GM34ItM=; b=dnxrJvckbKFz0+SqtwVgAQdoJX0OS6lU2Sb1MgrEsOCSuY4QYID3ZTIJbqdhBoWe31 b14oSFdtlyafUf5uXD48hfUU6lU43O/+TMkPdqdpZznwm2PhawGnspkFDLhdemRlDLb7 DsiwS7yI1Uv3F9/iEgHUIZNsgmccBV1FnG7i4= X-Google-DKIM-Signature: v=1; a=rsa-sha256; c=relaxed/relaxed; d=1e100.net; s=20230601; t=1761550093; x=1762154893; h=references:in-reply-to:cc:to:from:subject:message-id:date :x-gm-message-state:from:to:cc:subject:date:message-id:reply-to; bh=zj0TdYXF4Za5Fp4Qc0V48FLHLhvyDZCQU+p2GM34ItM=; b=a0jc60f+oxvLHiu/OKcxqV69sWfTcpfeoQLzWIE5QNte28Whwq0osFf1nrurhW8QoH E3UXArMxGNJ2L+ASqHGlBc1xv5Hwfw2auuVfbPYnt8cyx9CC917PoY/xJ4S9tRpnAeCZ IQ+CVll/f/93TFyq1d+yE54z+gnWofI9qE1uu1rsiyljFjdcXSvYQTi5qbEV+ZHw+Ye3 Z9jFxMmuHJNqX6UDbAfjtn+ZU2rga7ciWsHcXwjAjMeq6pczTa9bpdDMvpTpyM9fFlbs uQ/UB4et/gNrvLWsysE6V7N5XKV6AEQgMhpk2MT1LEI0Hrbi6nEbyT+FkgcRv18BRrDx 4gOQ== X-Gm-Message-State: AOJu0YwRiLcNkzA/unSFtWU1qlkIcPzfbG5cGw/mgskCRc1GSg+V7C5R yLZzcUC0NRdZV7gV3QE7tiXjS9eza4bltuUJDmeOcM8FfIY7ndBmP1t/IqHNf4cvvIrKNnedEnR HJ0ojEBg5KcXx7eLfPRvrOnHXmt3os123BN3SVlO8o4IsKQDsgV6llsRY8qzs X-Gm-Gg: ASbGnctU93lX0kcnQRh/m8ZNwK8Ge7X9iLZyNa8u4RQBuuEvEGu0jYKoWhcIdU97HZJ 00DCr7mYf7VpqQRKTmCakN4E+fmzP/pt2DBllmGvGa/iZrBedY1VhtlK2J7Wqm1HZsbh1P+WJrb fAuUOwZFE8QiSJLN9tXgUTrW8njTIJwbFTG/OSGvh2aghLzW88La+ahwK8gVpAyFPTYLLFJgksT NXjSxPBw4RZl4tKrBJe0DFDQJO3yGu7k1hzW0A8ORhyZMjlzLz7+G7ggcq1aosMGi+y315E9Fz2 Y/9DKzXQTTzt+LW+uSoOAZluUv/N/xvjIgIolBFqEjZdYGtVPS9UdIlrTkFMYUZwsUM67fSNCzU De1hL9DQE X-Google-Smtp-Source: AGHT+IEmwVGLphec/7Ya57vv3fig5dg+YXpl0mTY9YJSRpjvv62i09ZSZQNWcHY8qWLtEQmuCKSaiOmg8dAb X-Received: by 2002:a05:6e02:3009:b0:431:d95c:83d6 with SMTP id e9e14a558f8ab-431d95c8540mr232301805ab.11.1761550092941; Mon, 27 Oct 2025 00:28:12 -0700 (PDT) Received: from postal.iol.unh.edu (postal.iol.unh.edu. [2606:4100:3880:1234::84]) by smtp-relay.gmail.com with ESMTPS id e9e14a558f8ab-431f67f8eb8sm6735005ab.13.2025.10.27.00.28.12 (version=TLS1_2 cipher=ECDHE-ECDSA-AES128-GCM-SHA256 bits=128/128); Mon, 27 Oct 2025 00:28:12 -0700 (PDT) X-Relaying-Domain: iol.unh.edu Date: Mon, 27 Oct 2025 00:28:12 -0700 (PDT) Message-ID: <68ff1f0c.050a0220.233a14.e6caSMTPIN_ADDED_MISSING@mx.google.com> Received: from [172.21.0.2] (unknown [172.18.0.240]) by postal.iol.unh.edu (Postfix) with ESMTP id 8F41B6051830; Mon, 27 Oct 2025 03:28:12 -0400 (EDT) Subject: |WARNING| pw158132-158134 [PATCH] [v1,3/3] doc: update TxPP document From: dpdklab@iol.unh.edu To: Test Report Cc: dpdk-test-reports@iol.unh.edu, Bruce Richardson In-Reply-To: <20251027182801.191295-4-soumyadeep.hore@intel.com> References: <20251027182801.191295-4-soumyadeep.hore@intel.com> Content-Type: text/plain X-BeenThere: test-report@dpdk.org X-Mailman-Version: 2.1.29 Precedence: list List-Id: automatic DPDK test reports List-Unsubscribe: , List-Archive: List-Post: List-Help: List-Subscribe: , Errors-To: test-report-bounces@dpdk.org Test-Label: iol-compile-amd64-testing Test-Status: WARNING http://dpdk.org/patch/158134 _Testing issues_ Submitter: Soumyadeep Hore Date: Monday, October 27 2025 18:28:01 DPDK git baseline: Repo:dpdk-next-net-intel Branch: master CommitID:6b997d6b9ffdbb4f8ecd14d1f217da69cdc783af 158132-158134 --> testing issues Upstream job id: Generic-DPDK-Compile-Meson#438099 Test environment and result as below: +-------------------------------+--------------------+------------------+-------------------+-------------------------+-------------------+----------------------+ | Environment | dpdk_meson_compile | dpdk_compile_ovs | dpdk_compile_spdk | dpdk_llvm_clang_compile | dpdk_msvc_compile | dpdk_mingw64_compile | +===============================+====================+==================+===================+=========================+===================+======================+ | CentOS Stream 10 | PASS | SKIPPED | SKIPPED | SKIPPED | SKIPPED | SKIPPED | +-------------------------------+--------------------+------------------+-------------------+-------------------------+-------------------+----------------------+ | Fedora Linux 42 | PASS | PASS | WARN | SKIPPED | SKIPPED | SKIPPED | +-------------------------------+--------------------+------------------+-------------------+-------------------------+-------------------+----------------------+ | openSUSE Leap 15.6 | PASS | SKIPPED | SKIPPED | SKIPPED | SKIPPED | SKIPPED | +-------------------------------+--------------------+------------------+-------------------+-------------------------+-------------------+----------------------+ | Debian GNU/Linux 12 | PASS | SKIPPED | WARN | SKIPPED | SKIPPED | SKIPPED | +-------------------------------+--------------------+------------------+-------------------+-------------------------+-------------------+----------------------+ | CentOS Stream 9 | PASS | SKIPPED | WARN | SKIPPED | SKIPPED | SKIPPED | +-------------------------------+--------------------+------------------+-------------------+-------------------------+-------------------+----------------------+ | Ubuntu 22.04 | PASS | SKIPPED | WARN | SKIPPED | SKIPPED | SKIPPED | +-------------------------------+--------------------+------------------+-------------------+-------------------------+-------------------+----------------------+ | FreeBSD 14.2 | PASS | SKIPPED | SKIPPED | SKIPPED | SKIPPED | SKIPPED | +-------------------------------+--------------------+------------------+-------------------+-------------------------+-------------------+----------------------+ | Red Hat Enterprise Linux 8.10 | PASS | SKIPPED | SKIPPED | SKIPPED | SKIPPED | SKIPPED | +-------------------------------+--------------------+------------------+-------------------+-------------------------+-------------------+----------------------+ | Red Hat Enterprise Linux 9.5 | PASS | SKIPPED | SKIPPED | SKIPPED | SKIPPED | SKIPPED | +-------------------------------+--------------------+------------------+-------------------+-------------------------+-------------------+----------------------+ | Ubuntu 24.04 | PASS | PASS | WARN | SKIPPED | SKIPPED | SKIPPED | +-------------------------------+--------------------+------------------+-------------------+-------------------------+-------------------+----------------------+ | Ubuntu 20.04 | PASS | SKIPPED | SKIPPED | SKIPPED | SKIPPED | SKIPPED | +-------------------------------+--------------------+------------------+-------------------+-------------------------+-------------------+----------------------+ | Alpine Linux 3.22.0 | PASS | SKIPPED | SKIPPED | SKIPPED | SKIPPED | SKIPPED | +-------------------------------+--------------------+------------------+-------------------+-------------------------+-------------------+----------------------+ | Windows Server 2022 | SKIPPED | SKIPPED | SKIPPED | PASS | PASS | PASS | +-------------------------------+--------------------+------------------+-------------------+-------------------------+-------------------+----------------------+ ==== 20 line log output for Ubuntu 24.04 (dpdk_compile_spdk): ==== --- Failed to get log output --- ==== End log output ==== CentOS Stream 10 Kernel: 5.15 Compiler: gcc gcc (GCC) 14.2.1 20250110 (Red Hat 14.2.1-8) Fedora Linux 42 Kernel: 5.15 Compiler: gcc gcc (GCC) 15.2.1 20250808 (Red Hat 15.2.1-1) openSUSE Leap 15.6 Kernel: 5.15 Compiler: gcc gcc (SUSE Linux) 7.5.0 Debian GNU/Linux 12 Kernel: 5.15 Compiler: gcc gcc (Debian 12.2.0-14+deb12u1) 12.2.0 CentOS Stream 9 Kernel: 5.15 Compiler: gcc gcc (GCC) 11.5.0 20240719 (Red Hat 11.5.0-11) Ubuntu 22.04 Kernel: 5.15 Compiler: gcc gcc (Ubuntu 11.4.0-1ubuntu1~22.04) 11.4.0 FreeBSD 14.2 Kernel: 14.2-RELEASE Compiler: clang 18.1.6 Red Hat Enterprise Linux 8.10 Kernel: 5.15 Compiler: gcc gcc (GCC) 8.5.0 20210514 (Red Hat 8.5.0-22) Red Hat Enterprise Linux 9.5 Kernel: 5.15 Compiler: gcc gcc (GCC) 11.5.0 20240719 (Red Hat 11.5.0-2) Ubuntu 24.04 Kernel: 5.15 Compiler: gcc gcc (Ubuntu 13.3.0-6ubuntu2~24.04) 13.3.0 Ubuntu 20.04 Kernel: 4.19 Compiler: gcc gcc (Ubuntu 9.4.0-1ubuntu1~20.04.2) 9.4.0 Alpine Linux 3.22.0 Kernel: 5.15 Compiler: gcc gcc (Alpine 14.2.0) 14.2.0 Windows Server 2022 Kernel: 10.0.20348.2031 Compiler: clang 15.0.7, gcc 14.1.0 (MinGW), and MSVC VS 19.39.33521 To view detailed results, visit: https://lab.dpdk.org/results/dashboard/patchsets/34388/ UNH-IOL DPDK Community Lab To manage your email subscriptions, visit: https://lab.dpdk.org/results/dashboard/preferences/subscriptions/