From mboxrd@z Thu Jan 1 00:00:00 1970 Return-Path: Received: from mails.dpdk.org (mails.dpdk.org [217.70.189.124]) by inbox.dpdk.org (Postfix) with ESMTP id 8850048A00 for ; Mon, 27 Oct 2025 08:40:00 +0100 (CET) Received: from mails.dpdk.org (localhost [127.0.0.1]) by mails.dpdk.org (Postfix) with ESMTP id 638614003C; Mon, 27 Oct 2025 08:40:00 +0100 (CET) Received: from mail-oi1-f227.google.com (mail-oi1-f227.google.com [209.85.167.227]) by mails.dpdk.org (Postfix) with ESMTP id 429334003C for ; Mon, 27 Oct 2025 08:39:58 +0100 (CET) Received: by mail-oi1-f227.google.com with SMTP id 5614622812f47-44dad158d96so479418b6e.2 for ; Mon, 27 Oct 2025 00:39:58 -0700 (PDT) DKIM-Signature: v=1; a=rsa-sha256; c=relaxed/relaxed; d=iol.unh.edu; s=unh-iol; t=1761550797; x=1762155597; darn=dpdk.org; h=references:in-reply-to:cc:to:from:subject:message-id:date:from:to :cc:subject:date:message-id:reply-to; bh=etVjpcBi6XUn6dCYSwUsbdgg2/CaTutwST1E2DOwtlM=; b=NjV4oc0oAT8dmanehNjxTE00DY7iE5P8r/4Y0BXqxoFo7Wrdejd4Sb6JEf74deKozQ N9ivY7S9Qq8xgc99XFeuULI5z/fR9yBSOCcMs3tJ6aYS2+vjU+TJlhlsNh6vXM3Zc9Ix lK2lMfg14z3Ava29GoFwCu4WOl9tSRtNN4o6A= X-Google-DKIM-Signature: v=1; a=rsa-sha256; c=relaxed/relaxed; d=1e100.net; s=20230601; t=1761550797; x=1762155597; h=references:in-reply-to:cc:to:from:subject:message-id:date :x-gm-message-state:from:to:cc:subject:date:message-id:reply-to; bh=etVjpcBi6XUn6dCYSwUsbdgg2/CaTutwST1E2DOwtlM=; b=HwOHPYK3/RSU7sgjuW2hHJAw9obSpCdN+/2hENFqM9EpjBbyM8m1MMX46FeI2+dT+3 dGPW1lQ+3W4sRxMlb6Qp/meNQopzHp2uvCUcsHD++aizwEa2ptUlU1GZG7xrQ1XVWPw0 Oyvi2+10x7mSRsWwgqw7COQiJE9xS/ZEKMEr1i+Hifx6Cc9wXEOowWh2Mva0ooLeQIb7 N6Wg7YM6SVxtghyiJolpXmi2uvzEslHLLquH0Rbtg7E2G3mRj2wsff5Rh3Fj4Z49ZbEP mg7EODxf/0JVeNy+iO8uWXs1pH7E3gqHD7wvMUl8vnEBbjAI9CKNSMUPmxgehvRWSGu1 yK3g== X-Gm-Message-State: AOJu0YxvwNgjSUg7aDS8/lvBzDrW2/+7dZtzKv9Npvxyc7hdxTkBYxXx 9+AErJ/o5TuLzG0P36RtXd+ygOSgbOWjw4q8EOtXCCO4xv2PRXUp1rU8u6rhgdqzBDQwBeYhvKS zFMhNPpk6qsFrnu/0oVg+wUDW4Dg5PbCyRLHsPNrkw5/U X-Gm-Gg: ASbGncvUqjGgqYsvQtV1/OzecaIydX4Xtx2e0Gzt8//YC333OyQhZ4JwYiyVQm+gB5i yMMTCO6KM5EaOLbGLKcCyc1J3clrgILg8lkyP9Ku8XanA9qXrB//ohhUBCWm/r74MPBziYXZT/q fzREaCE52wFTtqX+DG15xMgEJHT02eFfFWplnTuT3+KHPtztPnAbhVf8hyFwPZmd8OF8rwOPF2V yhzwcNj8kOolOAGDlXLcv8c477dDauUBNDaE8BKUvL3XNYi0/S418lplmYs1+QX175zbvOrovE8 kKw2oJRT7YWnckk/SZNZHUVo3D87bChHhrrAHSA2kZLSQIhweaWzXC7oEbc08/Db6oIOnBlRhbc /gzPRSKC2wyaPizPLy+pX7l12IXUb14M= X-Google-Smtp-Source: AGHT+IGc/fqDmbfX7HzYaoBe7uCxZCxe058eQAQm1lDn93G5HMTimDqWGuXh+4KoVLCuxB1Y0eOUR+z82FPl X-Received: by 2002:a05:6808:23c8:b0:43f:64bc:8b7e with SMTP id 5614622812f47-44d93df2f8dmr4280006b6e.15.1761550797281; Mon, 27 Oct 2025 00:39:57 -0700 (PDT) Received: from postal.iol.unh.edu (postal.iol.unh.edu. [132.177.123.84]) by smtp-relay.gmail.com with ESMTPS id 586e51a60fabf-3d1e3a6159csm598059fac.18.2025.10.27.00.39.57 (version=TLS1_2 cipher=ECDHE-ECDSA-AES128-GCM-SHA256 bits=128/128); Mon, 27 Oct 2025 00:39:57 -0700 (PDT) X-Relaying-Domain: iol.unh.edu Date: Mon, 27 Oct 2025 00:39:57 -0700 (PDT) Message-ID: <68ff21cd.050a0220.cb40e.ab53SMTPIN_ADDED_MISSING@mx.google.com> Received: from [172.21.0.2] (unknown [172.18.0.240]) by postal.iol.unh.edu (Postfix) with ESMTP id C72446051830; Mon, 27 Oct 2025 03:39:56 -0400 (EDT) Subject: |SUCCESS| pw158132-158134 [PATCH] [v1,3/3] doc: update TxPP document From: dpdklab@iol.unh.edu To: Test Report Cc: dpdk-test-reports@iol.unh.edu, Bruce Richardson In-Reply-To: <20251027182801.191295-4-soumyadeep.hore@intel.com> References: <20251027182801.191295-4-soumyadeep.hore@intel.com> Content-Type: text/plain X-BeenThere: test-report@dpdk.org X-Mailman-Version: 2.1.29 Precedence: list List-Id: automatic DPDK test reports List-Unsubscribe: , List-Archive: List-Post: List-Help: List-Subscribe: , Errors-To: test-report-bounces@dpdk.org Test-Label: iol-unit-amd64-testing Test-Status: SUCCESS http://dpdk.org/patch/158134 _Testing PASS_ Submitter: Soumyadeep Hore Date: Monday, October 27 2025 18:28:01 DPDK git baseline: Repo:dpdk-next-net-intel Branch: master CommitID:6b997d6b9ffdbb4f8ecd14d1f217da69cdc783af 158132-158134 --> testing pass Upstream job id: Generic-Unit-Test-DPDK#385636 Test environment and result as below: +-------------------------------+----------------+ | Environment | dpdk_unit_test | +===============================+================+ | Fedora Linux 41 | PASS | +-------------------------------+----------------+ | Fedora Linux 42 | PASS | +-------------------------------+----------------+ | Fedora Linux 40 | PASS | +-------------------------------+----------------+ | CentOS Stream 9 | PASS | +-------------------------------+----------------+ | Ubuntu 20.04 | PASS | +-------------------------------+----------------+ | Red Hat Enterprise Linux 8.10 | PASS | +-------------------------------+----------------+ | CentOS Stream 10 | PASS | +-------------------------------+----------------+ | Ubuntu 22.04 | PASS | +-------------------------------+----------------+ | Debian GNU/Linux 12 | PASS | +-------------------------------+----------------+ | Red Hat Enterprise Linux 9.5 | PASS | +-------------------------------+----------------+ | Ubuntu 24.04 | PASS | +-------------------------------+----------------+ | Windows Server 2022 | PASS | +-------------------------------+----------------+ Fedora Linux 41 Kernel: 5.15 Compiler: clang gcc (GCC) 14.3.1 20250523 (Red Hat 14.3.1-1) Fedora Linux 42 Kernel: 5.15 Compiler: gcc gcc (GCC) 15.2.1 20250808 (Red Hat 15.2.1-1) Fedora Linux 40 Kernel: 5.15 Compiler: clang gcc (GCC) 14.2.1 20240912 (Red Hat 14.2.1-3) CentOS Stream 9 Kernel: 5.15 Compiler: gcc gcc (GCC) 11.5.0 20240719 (Red Hat 11.5.0-11) Ubuntu 20.04 Kernel: 5.15 Compiler: gcc gcc (Ubuntu 9.4.0-1ubuntu1~20.04.2) 9.4.0 Red Hat Enterprise Linux 8.10 Kernel: 5.15 Compiler: gcc gcc (GCC) 8.5.0 20210514 (Red Hat 8.5.0-22) CentOS Stream 10 Kernel: 5.15 Compiler: gcc gcc (GCC) 14.2.1 20250110 (Red Hat 14.2.1-8) Ubuntu 22.04 Kernel: 5.15 Compiler: gcc gcc (Ubuntu 11.4.0-1ubuntu1~22.04) 11.4.0 Debian GNU/Linux 12 Kernel: 5.15 Compiler: gcc gcc (Debian 12.2.0-14+deb12u1) 12.2.0 Red Hat Enterprise Linux 9.5 Kernel: 5.15 Compiler: gcc gcc (GCC) 11.5.0 20240719 (Red Hat 11.5.0-2) Ubuntu 24.04 Kernel: 5.15 Compiler: gcc gcc (Ubuntu 13.3.0-6ubuntu2~24.04) 13.3.0 Windows Server 2022 Kernel: 10.0.20348.2031 Compiler: clang 15.0.7, gcc 14.1.0 (MinGW), and MSVC VS 19.39.33521 To view detailed results, visit: https://lab.dpdk.org/results/dashboard/patchsets/34388/ UNH-IOL DPDK Community Lab To manage your email subscriptions, visit: https://lab.dpdk.org/results/dashboard/preferences/subscriptions/