From mboxrd@z Thu Jan 1 00:00:00 1970 Return-Path: Received: from mails.dpdk.org (mails.dpdk.org [217.70.189.124]) by inbox.dpdk.org (Postfix) with ESMTP id 17D7048A00 for ; Mon, 27 Oct 2025 08:46:28 +0100 (CET) Received: from mails.dpdk.org (localhost [127.0.0.1]) by mails.dpdk.org (Postfix) with ESMTP id 012D14003C; Mon, 27 Oct 2025 08:46:28 +0100 (CET) Received: from mail-pf1-f225.google.com (mail-pf1-f225.google.com [209.85.210.225]) by mails.dpdk.org (Postfix) with ESMTP id DA9364003C for ; Mon, 27 Oct 2025 08:46:25 +0100 (CET) Received: by mail-pf1-f225.google.com with SMTP id d2e1a72fcca58-793021f348fso3612301b3a.1 for ; Mon, 27 Oct 2025 00:46:25 -0700 (PDT) DKIM-Signature: v=1; a=rsa-sha256; c=relaxed/relaxed; d=iol.unh.edu; s=unh-iol; t=1761551185; x=1762155985; darn=dpdk.org; h=cc:to:from:subject:message-id:date:from:to:cc:subject:date :message-id:reply-to; bh=TOohjlh+5FMFvYfPPp1+FaXN6Vo7e2JBr0JZndwTgKU=; b=ZwVeYYUPl5LP0X/3cD6VM0VQg9v51pfF+bSByOqOoX0NnXsy5/cqWcYvKq2NRoPtlJ hiF8aH5QgnQiZlQleY8KgFAvSAbPPFkx0EqTZu6jNBdGcvo+frkHCIgGPm/gogXGkl/Z ATlktVpgoCm3c7g0K2IAnvT6FEjeKYzUqlHcM= X-Google-DKIM-Signature: v=1; a=rsa-sha256; c=relaxed/relaxed; d=1e100.net; s=20230601; t=1761551185; x=1762155985; h=cc:to:from:subject:message-id:date:x-gm-message-state:from:to:cc :subject:date:message-id:reply-to; bh=TOohjlh+5FMFvYfPPp1+FaXN6Vo7e2JBr0JZndwTgKU=; b=Ip62udbtEt77AniCXlYS/9GvZyL9LmFlDVbCZVmAa20cgbA4cnCvTRNF1fvoI0QkvO ZrzP7q7UTsARnKl3qwpXWTedD2ixg84/vLr/jUGLJAmgR9cq1AuO9ssVOacNyg51PX3B dzirN0yKjAkkax3+38CzWyRwUnUzNiuAQrtrCvF0V9LwAYIrY/voo3Y6BBJRLwcRW++R owMF01PEHV0VGvjKCkxNfPHzOy4gGsMesJsZ/GtDN2fCji+r/UYGzuSnsMMPWHowlsNy Xo9qi52bY9PNX6qP0pg0LrDo7jnU3uuGcpFPfWkA2M/p/aF9QsiCn6dUTZqRn9vGiADh C0yA== X-Gm-Message-State: AOJu0YwMhpFMdy50jFNlZ56rmOWbrT6kIfcwDDeTxAeA69jQgfIPMwKM W/MOdJw56iQwQMlfRQ7kCeCTlRuBfxV1G7/cx+ouRuMx5EgwdG0KzKpktVQsXPlkFTBNgsHR1T+ /XTDb3xflI9AKs3LvtKiXMIe9AtDidZXzi2N+EiF1mc8vkz5Y9ca8 X-Gm-Gg: ASbGnctwLn1Z9xUU096c2v0IRGaudWXA0Z0TWQXuG3jvCH52mjjy+CVc9SybZBSFi+m B5wdcaLfkDtT2sItdXqyVbTiVYaEVsL0iE/kZCFNJ2dTQQGsdGMwrqHvee2bkbAc8qoeliXL4BG Zl2womJRnVH6Z93NmwvDAhsNLMIV86LyJgFYjCndzuZnTlxn29j7//G16XySxT2dDDXiKrrrcu6 5TuAemQ5IbCT3NIJU1KbQxSZVpsOoIAY+TIOV1tLYHqDYpWJHA4wnbbqYAfQHLfXNFA2KWRZHPr P2Fb/RoYHMeprJSbU7gD0qv+FbU+v8DB590f8OEC7+YsbniWVAD/BgWrYqKsx+CZbq+C47c9Nf2 Re/bUj0He X-Google-Smtp-Source: AGHT+IGIUg17bw0Xz8oHLGRQQ214s0yH9OLX3b/4qukvkJLjrbPqJuPCbwaa6C8bmxLctF3no0d6ibkfTk8O X-Received: by 2002:a05:6a21:32a4:b0:342:4318:c12e with SMTP id adf61e73a8af0-34243280a81mr5124209637.50.1761551184969; Mon, 27 Oct 2025 00:46:24 -0700 (PDT) Received: from postal.iol.unh.edu (postal.iol.unh.edu. [2606:4100:3880:1234::84]) by smtp-relay.gmail.com with ESMTPS id 41be03b00d2f7-b712e178063sm419311a12.10.2025.10.27.00.46.24 (version=TLS1_2 cipher=ECDHE-ECDSA-AES128-GCM-SHA256 bits=128/128); Mon, 27 Oct 2025 00:46:24 -0700 (PDT) X-Relaying-Domain: iol.unh.edu Date: Mon, 27 Oct 2025 00:46:24 -0700 (PDT) Message-ID: <68ff2350.050a0220.37df9e.2c12SMTPIN_ADDED_MISSING@mx.google.com> Received: from [172.21.0.2] (unknown [172.18.0.240]) by postal.iol.unh.edu (Postfix) with ESMTP id 3A2D76051830; Mon, 27 Oct 2025 03:46:24 -0400 (EDT) Subject: |SUCCESS| [GIT MASTER] b287e404643aeab5bb5db084c142789df187844e From: dpdklab@iol.unh.edu To: Test Report Cc: dpdk-test-reports@iol.unh.edu, Xueming Li , Christian Ehrhardt , Kevin Traynor , Luca Boccassi Content-Type: text/plain X-BeenThere: test-report@dpdk.org X-Mailman-Version: 2.1.29 Precedence: list List-Id: automatic DPDK test reports List-Unsubscribe: , List-Archive: List-Post: List-Help: List-Subscribe: , Errors-To: test-report-bounces@dpdk.org _Testing PASS_ Branch: tags/v24.11 b287e404643aeab5bb5db084c142789df187844e --> testing pass Upstream job id: Generic-Unit-Test-DPDK#385572 Test environment and result as below: +------------------------------+--------------+----------------+------------------------------+---------------------------+ | Environment | lpm_autotest | dpdk_unit_test | cryptodev_sw_snow3g_autotest | cryptodev_sw_zuc_autotest | +==============================+==============+================+==============================+===========================+ | Ubuntu 20.04 | PASS | PASS | SKIPPED | SKIPPED | +------------------------------+--------------+----------------+------------------------------+---------------------------+ | CentOS Stream 10 | SKIPPED | PASS | SKIPPED | SKIPPED | +------------------------------+--------------+----------------+------------------------------+---------------------------+ | CentOS Stream 9 | SKIPPED | PASS | SKIPPED | SKIPPED | +------------------------------+--------------+----------------+------------------------------+---------------------------+ | Debian GNU/Linux 12 | SKIPPED | PASS | SKIPPED | SKIPPED | +------------------------------+--------------+----------------+------------------------------+---------------------------+ | Fedora Linux 40 | SKIPPED | PASS | SKIPPED | SKIPPED | +------------------------------+--------------+----------------+------------------------------+---------------------------+ | Fedora Linux 41 | SKIPPED | PASS | SKIPPED | SKIPPED | +------------------------------+--------------+----------------+------------------------------+---------------------------+ | Fedora Linux 42 | SKIPPED | PASS | SKIPPED | SKIPPED | +------------------------------+--------------+----------------+------------------------------+---------------------------+ | Ubuntu 22.04 | SKIPPED | PASS | SKIPPED | SKIPPED | +------------------------------+--------------+----------------+------------------------------+---------------------------+ | Ubuntu 24.04 | SKIPPED | PASS | SKIPPED | SKIPPED | +------------------------------+--------------+----------------+------------------------------+---------------------------+ | Red Hat Enterprise Linux 9.5 | SKIPPED | PASS | SKIPPED | SKIPPED | +------------------------------+--------------+----------------+------------------------------+---------------------------+ | Debian 12 (arm) | SKIPPED | SKIPPED | PASS | PASS | +------------------------------+--------------+----------------+------------------------------+---------------------------+ Ubuntu 20.04 Kernel: 5.4 Compiler: gcc gcc (Ubuntu 9.4.0-1ubuntu1~20.04.2) 9.4.0 CentOS Stream 10 Kernel: 5.4 Compiler: gcc gcc (GCC) 14.2.1 20250110 (Red Hat 14.2.1-8) CentOS Stream 9 Kernel: 5.4 Compiler: gcc gcc (GCC) 11.5.0 20240719 (Red Hat 11.5.0-11) Debian GNU/Linux 12 Kernel: 5.4 Compiler: gcc gcc (Debian 12.2.0-14+deb12u1) 12.2.0 Fedora Linux 40 Kernel: 5.4 Compiler: clang gcc (GCC) 14.2.1 20240912 (Red Hat 14.2.1-3) Fedora Linux 41 Kernel: 5.4 Compiler: clang gcc (GCC) 14.3.1 20250523 (Red Hat 14.3.1-1) Fedora Linux 42 Kernel: 5.4 Compiler: gcc gcc (GCC) 15.2.1 20250808 (Red Hat 15.2.1-1) Ubuntu 22.04 Kernel: 5.4 Compiler: gcc gcc (Ubuntu 11.4.0-1ubuntu1~22.04) 11.4.0 Ubuntu 24.04 Kernel: 5.4 Compiler: gcc gcc (Ubuntu 13.3.0-6ubuntu2~24.04) 13.3.0 Red Hat Enterprise Linux 9.5 Kernel: 5.4 Compiler: gcc gcc (GCC) 11.5.0 20240719 (Red Hat 11.5.0-2) Debian 12 (arm) Kernel: Depends on container host Compiler: gcc (Debian 12.2.0-14) 12.2.0 To view detailed results, visit: https://lab.dpdk.org/results/dashboard/tarballs/35352/ UNH-IOL DPDK Community Lab To manage your email subscriptions, visit: https://lab.dpdk.org/results/dashboard/preferences/subscriptions/