From mboxrd@z Thu Jan 1 00:00:00 1970 Return-Path: Received: from mails.dpdk.org (mails.dpdk.org [217.70.189.124]) by inbox.dpdk.org (Postfix) with ESMTP id 229C6489F4 for ; Mon, 27 Oct 2025 09:04:11 +0100 (CET) Received: from mails.dpdk.org (localhost [127.0.0.1]) by mails.dpdk.org (Postfix) with ESMTP id ED4E94003C; Mon, 27 Oct 2025 09:04:10 +0100 (CET) Received: from mail-pl1-f226.google.com (mail-pl1-f226.google.com [209.85.214.226]) by mails.dpdk.org (Postfix) with ESMTP id 7C4154003C for ; Mon, 27 Oct 2025 09:04:09 +0100 (CET) Received: by mail-pl1-f226.google.com with SMTP id d9443c01a7336-290c2b6a6c2so45726745ad.1 for ; Mon, 27 Oct 2025 01:04:09 -0700 (PDT) DKIM-Signature: v=1; a=rsa-sha256; c=relaxed/relaxed; d=iol.unh.edu; s=unh-iol; t=1761552248; x=1762157048; darn=dpdk.org; h=references:in-reply-to:cc:to:from:subject:message-id:date:from:to :cc:subject:date:message-id:reply-to; bh=YwyQAm6MFiupUHqgXvUA41BaHdaxGaP3i1V3Csr/uTQ=; b=aNwjZ5XdCBwvdEzhqNVFgh9ZR84nWvoCvyakWOboN00Dla/HvjJOHoR2WTykFm1Z1a XOjlEnAMm0S9jRwVLLQfKThq+wVbCxJqlXKMGBAEtn1AVnH0FzJKfOi7svfnlIDVV/qi TCIFq0ZlALKBXS7tplgZ9owd1dHoMhuUwDIZg= X-Google-DKIM-Signature: v=1; a=rsa-sha256; c=relaxed/relaxed; d=1e100.net; s=20230601; t=1761552248; x=1762157048; h=references:in-reply-to:cc:to:from:subject:message-id:date :x-gm-message-state:from:to:cc:subject:date:message-id:reply-to; bh=YwyQAm6MFiupUHqgXvUA41BaHdaxGaP3i1V3Csr/uTQ=; b=vSf0kqurXqpEt/zX2poGw9V+1ozGoMAAlk9DePiHXG3ZGzjgOD1H3RgnpryAw1SCrf /TCQMW5KzeVuBPHkQsJBbcsL/18yn3+3NNRbI2/YaS1noMoXUEAgq+g5WpirJXcShk0x Nm9RNf+uK1FkdbW588dkSN6MMmXZUH0x7PRRAJBSVQs0IPl+QdJBExtThYJodIahM4NN 3+MtoMDv+/VNakXS8HzmcGaOELKb6R1RV2ExNGaylqCVr+Hl8kPT6y9VEp5t+ZsK2UqY WVFUHO1nMinQH4KkgVgo2xMEyTAzZMKPU73/IcaWlH9H91vL76AZpTBHKE5rZgPPCAyA fAig== X-Gm-Message-State: AOJu0YxxBzS+p9MdFYEq1rlg11XosMdBLegoM9xWzg1d+yuujRtl9S2c PL9ZQ2wnoeXUBVw/0XvkEXTAhyAEVJVCeQF+Lqvuxk1dF3GjtrdAIJveXmZp4MgK8xt+Ms572gO pabCW3nRmCWa6EtslPRUmWQuNEGD/I8Nom3amU0t99bxPUblx17cU6kBucA3U X-Gm-Gg: ASbGncvRuACM2laxTG/lwGTZfpiy4Kp0MGpDwaNGyXyvAw2cR/QDCxMSOKs/1/U2nVj b7ne/U7EGqdpRFUhKq7rRzDA4vwJZ024DAQ3d/x9YN/hnbcA27OKvnA5lN5kfHyycCCFdDAve+w KR9VulvsO6NkgK+mCSUB2KYDxWCmqGMt4S4rm5AVrKgVwmE+GlP9Pvffel4tnaVpcTZoB4r6sGa ypfBnQA8B1FNYktTZ/UjYNJA4aBVprJTqkII29PGMuiK12x+VNyik4uyy1crR6moJXj3NnAOngd gW+D6AYR81aJzLcVs45RKNzwaGaDUoOZhb+f9OWvBMilQGrlqjfHKPAnShzU4Z+5ha+NSvJmmID n+eTyYoqc X-Google-Smtp-Source: AGHT+IHJLmEeelSUuK41bYzvwctyIswK2TyfPUBio0jCaXfEJ6CWy7bsCO/ErVXGLo2qQoWfC70XnFqm5rRg X-Received: by 2002:a17:903:1a4c:b0:27e:ef09:4ab6 with SMTP id d9443c01a7336-290c99ad18bmr459830955ad.0.1761552248527; Mon, 27 Oct 2025 01:04:08 -0700 (PDT) Received: from postal.iol.unh.edu (postal.iol.unh.edu. [2606:4100:3880:1234::84]) by smtp-relay.gmail.com with ESMTPS id d9443c01a7336-29498d274d7sm7173675ad.34.2025.10.27.01.04.08 (version=TLS1_2 cipher=ECDHE-ECDSA-AES128-GCM-SHA256 bits=128/128); Mon, 27 Oct 2025 01:04:08 -0700 (PDT) X-Relaying-Domain: iol.unh.edu Date: Mon, 27 Oct 2025 01:04:08 -0700 (PDT) Message-ID: <68ff2778.170a0220.257c2.03b4SMTPIN_ADDED_MISSING@mx.google.com> Received: from [172.21.0.2] (unknown [172.18.0.240]) by postal.iol.unh.edu (Postfix) with ESMTP id BF3AB60003E7; Mon, 27 Oct 2025 04:04:07 -0400 (EDT) Subject: |SUCCESS| pw158113-158130 [PATCH] [19/19] net/txgbe: remove unsuppor From: dpdklab@iol.unh.edu To: Test Report Cc: dpdk-test-reports@iol.unh.edu, Stephen Hemminger In-Reply-To: <20251027031542.10512-20-jiawenwu@trustnetic.com> References: <20251027031542.10512-20-jiawenwu@trustnetic.com> Content-Type: text/plain X-BeenThere: test-report@dpdk.org X-Mailman-Version: 2.1.29 Precedence: list List-Id: automatic DPDK test reports List-Unsubscribe: , List-Archive: List-Post: List-Help: List-Subscribe: , Errors-To: test-report-bounces@dpdk.org Test-Label: iol-compile-arm64-testing Test-Status: SUCCESS http://dpdk.org/patch/158130 _Testing PASS_ Submitter: Jiawen Wu Date: Monday, October 27 2025 03:15:42 DPDK git baseline: Repo:dpdk-next-net Branch: master CommitID:9670fb84b607e9292648e6b66e50e74adea05774 158113-158130 --> testing pass Upstream job id: Generic-DPDK-Compile-Meson#438014 Test environment and result as below: +------------------------------+--------------------+ | Environment | dpdk_meson_compile | +==============================+====================+ | Ubuntu 20.04 | PASS | +------------------------------+--------------------+ | Debian GNU/Linux 12 | PASS | +------------------------------+--------------------+ | Fedora Linux 42 | PASS | +------------------------------+--------------------+ | Ubuntu 22.04 | PASS | +------------------------------+--------------------+ | CentOS Stream 9 | PASS | +------------------------------+--------------------+ | Red Hat Enterprise Linux 9.5 | PASS | +------------------------------+--------------------+ | CentOS Stream 10 | PASS | +------------------------------+--------------------+ | Ubuntu 24.04 | PASS | +------------------------------+--------------------+ Ubuntu 20.04 Kernel: 5.15 Compiler: clang gcc (Ubuntu 9.4.0-1ubuntu1~20.04.2) 9.4.0 Debian GNU/Linux 12 Kernel: 5.4 Compiler: gcc gcc (Debian 12.2.0-14+deb12u1) 12.2.0 Fedora Linux 42 Kernel: 5.4 Compiler: clang gcc (GCC) 15.2.1 20250808 (Red Hat 15.2.1-1) Ubuntu 22.04 Kernel: 5.4 Compiler: gcc gcc (Ubuntu 11.4.0-1ubuntu1~22.04) 11.4.0 CentOS Stream 9 Kernel: 5.4 Compiler: gcc gcc (GCC) 11.5.0 20240719 (Red Hat 11.5.0-11) Red Hat Enterprise Linux 9.5 Kernel: 5.4 Compiler: gcc gcc (GCC) 11.5.0 20240719 (Red Hat 11.5.0-2) CentOS Stream 10 Kernel: 5.4 Compiler: gcc gcc (GCC) 14.2.1 20250110 (Red Hat 14.2.1-8) Ubuntu 24.04 Kernel: 5.4 Compiler: gcc gcc (Ubuntu 13.3.0-6ubuntu2~24.04) 13.3.0 To view detailed results, visit: https://lab.dpdk.org/results/dashboard/patchsets/34387/ UNH-IOL DPDK Community Lab To manage your email subscriptions, visit: https://lab.dpdk.org/results/dashboard/preferences/subscriptions/