From mboxrd@z Thu Jan 1 00:00:00 1970 Return-Path: Received: from mails.dpdk.org (mails.dpdk.org [217.70.189.124]) by inbox.dpdk.org (Postfix) with ESMTP id 3FD7A489FA for ; Mon, 27 Oct 2025 09:39:39 +0100 (CET) Received: from mails.dpdk.org (localhost [127.0.0.1]) by mails.dpdk.org (Postfix) with ESMTP id 140624003C; Mon, 27 Oct 2025 09:39:39 +0100 (CET) Received: from mail-pf1-f225.google.com (mail-pf1-f225.google.com [209.85.210.225]) by mails.dpdk.org (Postfix) with ESMTP id B82194003C for ; Mon, 27 Oct 2025 09:39:37 +0100 (CET) Received: by mail-pf1-f225.google.com with SMTP id d2e1a72fcca58-782e93932ffso3218193b3a.3 for ; Mon, 27 Oct 2025 01:39:37 -0700 (PDT) DKIM-Signature: v=1; a=rsa-sha256; c=relaxed/relaxed; d=iol.unh.edu; s=unh-iol; t=1761554377; x=1762159177; darn=dpdk.org; h=cc:to:from:subject:message-id:date:from:to:cc:subject:date :message-id:reply-to; bh=dx4z+LBSvYXb/MibitE88Mb1AOaEhU3IVFIUMnNQbMQ=; b=gzK+jQIOFUiCL8pisKn59dnTb+ntE88q88LLtyN6PKXsdxVC8L6CXwdjGwrgA8h8yC 3FPQlIrEndg4mIPY1VNudNdfpdOHaeSFXQjzbXNiROnzupLBn73OpNVAyXM5Y7rd6xdL TXuvNvJIimFdRBZNe8A+49TeGr+vplJFEoryM= X-Google-DKIM-Signature: v=1; a=rsa-sha256; c=relaxed/relaxed; d=1e100.net; s=20230601; t=1761554377; x=1762159177; h=cc:to:from:subject:message-id:date:x-gm-message-state:from:to:cc :subject:date:message-id:reply-to; bh=dx4z+LBSvYXb/MibitE88Mb1AOaEhU3IVFIUMnNQbMQ=; b=BYpKO1eH7GZaPdELnSlQ4MUUnatvcg1i4RBUDZtW7PFKXTrQa7axPYgcd/35N3Qhy2 dPbXGMuIlL09Sy0jQkE9FcvXfa78/VWxx0zQflBZHS8B0lpatpbpBxVGTIQ9WuTkL63B zhOOuTQFr+R3g3RlWGh4W1dCvv0rjtUC3wozOAete5eGqCbJg0tUJyQyIwEq3OfpCsbE LGaj+RSkqlvHaxC2c9Es1imvYMLopzPmQ8Pd4lGkleFQV2IemrqlShrfv1XvA/xnhINY Rh5ZQ8hDgpCRbiwUlh/3OVvPld6rEq3QBqmCFV/JbnbTPXWkkymL8l6KbDIF75vPtUHy btKw== X-Gm-Message-State: AOJu0YzEXfCbjMoW9j+FbIqaIx3+dju/5CDgzd8/Jxtj5nbkynTf7grP HoqXm8k2u0EauV/+Y7g/+XGqS1Zp1FlTC6YqOXDY1RWc7f1v4Xt5COXxPf3dEiKBNauy7+0Y9I3 J9jaJ+DtbVCAqs9kSA+JoGMVOi6VrHBJCZ3FB X-Gm-Gg: ASbGnctjOG+dyl6LgIBErIWKVNJ3nwZqMNQIvZ3cqqiMfvrWsTKQqn49cv87XhcTTOp AzUTBIEDDoMOf+Gzel4yiWCWeRuOTDvWbKWpySsy0XORYZ+aMYLT+lTNDHD9HubOyPy9vxAFjN8 1eEGwIC78xgDQtKgd+Wb/b25XCgrSR5s5LMp12MsMUtOZhODzjOe9z/jbiiFeiffIKF/KqbfWCA N0q8Xe+BbrMShC6M7/iqUAARfmRo9nQPzythAk3UOIbr3wG0To1eOf8/HY9Z0i7pFNjmFjGtxv6 tStHUjkeXQmro/i8sDt/vp2ZbMTN5F7cwUuHNJ/F417l2XEhLZulpBHsM6g1cr30syuMoB6D/Yk 7p2r05iu6pprrlqzbdfJ1ot5y2tFkLuk= X-Google-Smtp-Source: AGHT+IHPMmmjo5nao+vkr6hEHwrsTRikZFs6nYvpq5WQrd6xzAwjDSUv6PMpyKzdIAA7Puufck0nLul5caJC X-Received: by 2002:a05:6a20:3d07:b0:342:2eac:e3c0 with SMTP id adf61e73a8af0-3422eace6admr6069865637.12.1761554376818; Mon, 27 Oct 2025 01:39:36 -0700 (PDT) Received: from postal.iol.unh.edu (postal.iol.unh.edu. [132.177.123.84]) by smtp-relay.gmail.com with ESMTPS id 41be03b00d2f7-b712c87b656sm432619a12.7.2025.10.27.01.39.36 (version=TLS1_2 cipher=ECDHE-ECDSA-AES128-GCM-SHA256 bits=128/128); Mon, 27 Oct 2025 01:39:36 -0700 (PDT) X-Relaying-Domain: iol.unh.edu Date: Mon, 27 Oct 2025 01:39:36 -0700 (PDT) Message-ID: <68ff2fc8.630a0220.fd0a7.33b7SMTPIN_ADDED_MISSING@mx.google.com> Received: from [172.21.0.2] (unknown [172.18.0.240]) by postal.iol.unh.edu (Postfix) with ESMTP id 6CE7A6051830; Mon, 27 Oct 2025 04:39:35 -0400 (EDT) Subject: |SUCCESS| [GIT MASTER] 3b43ce3f4a54468e7ef65760c2fd7b4d6ee6d9fc From: dpdklab@iol.unh.edu To: Test Report Cc: dpdk-test-reports@iol.unh.edu, Xueming Li , Christian Ehrhardt , Kevin Traynor , Luca Boccassi Content-Type: text/plain X-BeenThere: test-report@dpdk.org X-Mailman-Version: 2.1.29 Precedence: list List-Id: automatic DPDK test reports List-Unsubscribe: , List-Archive: List-Post: List-Help: List-Subscribe: , Errors-To: test-report-bounces@dpdk.org _Testing PASS_ Branch: tags/v22.11 3b43ce3f4a54468e7ef65760c2fd7b4d6ee6d9fc --> testing pass Upstream job id: Generic-DPDK-Compile-Meson#438045 Test environment and result as below: +------------------------------+--------------------+ | Environment | dpdk_meson_compile | +==============================+====================+ | Ubuntu 22.04 | PASS | +------------------------------+--------------------+ | Debian GNU/Linux 12 | PASS | +------------------------------+--------------------+ | Red Hat Enterprise Linux 9.5 | PASS | +------------------------------+--------------------+ | Fedora Linux 42 | PASS | +------------------------------+--------------------+ | Ubuntu 20.04 | PASS | +------------------------------+--------------------+ | CentOS Stream 9 | PASS | +------------------------------+--------------------+ | Ubuntu 24.04 | PASS | +------------------------------+--------------------+ | CentOS Stream 10 | PASS | +------------------------------+--------------------+ Ubuntu 22.04 Kernel: 5.4 Compiler: gcc gcc (Ubuntu 11.4.0-1ubuntu1~22.04) 11.4.0 Debian GNU/Linux 12 Kernel: 5.4 Compiler: gcc gcc (Debian 12.2.0-14+deb12u1) 12.2.0 Red Hat Enterprise Linux 9.5 Kernel: 5.4 Compiler: gcc gcc (GCC) 11.5.0 20240719 (Red Hat 11.5.0-2) Fedora Linux 42 Kernel: 5.4 Compiler: clang gcc (GCC) 15.2.1 20250808 (Red Hat 15.2.1-1) Ubuntu 20.04 Kernel: 5.15 Compiler: aarch64-linux-gnu-gcc gcc (Ubuntu 9.4.0-1ubuntu1~20.04.2) 9.4.0 CentOS Stream 9 Kernel: 5.4 Compiler: gcc gcc (GCC) 11.5.0 20240719 (Red Hat 11.5.0-11) Ubuntu 24.04 Kernel: 5.4 Compiler: gcc gcc (Ubuntu 13.3.0-6ubuntu2~24.04) 13.3.0 CentOS Stream 10 Kernel: 5.4 Compiler: gcc gcc (GCC) 14.2.1 20250110 (Red Hat 14.2.1-8) To view detailed results, visit: https://lab.dpdk.org/results/dashboard/tarballs/35351/ UNH-IOL DPDK Community Lab To manage your email subscriptions, visit: https://lab.dpdk.org/results/dashboard/preferences/subscriptions/